BEGIN:VCALENDAR
VERSION:2.0
PRODID:-//American Young Coder - ECPv6.10.1.1//NONSGML v1.0//EN
CALSCALE:GREGORIAN
METHOD:PUBLISH
X-ORIGINAL-URL:https://www.ayclogic.com
X-WR-CALDESC:Events for American Young Coder
REFRESH-INTERVAL;VALUE=DURATION:PT1H
X-Robots-Tag:noindex
X-PUBLISHED-TTL:PT1H
BEGIN:VTIMEZONE
TZID:America/Los_Angeles
BEGIN:DAYLIGHT
TZOFFSETFROM:-0800
TZOFFSETTO:-0700
TZNAME:PDT
DTSTART:20210314T100000
END:DAYLIGHT
BEGIN:STANDARD
TZOFFSETFROM:-0700
TZOFFSETTO:-0800
TZNAME:PST
DTSTART:20211107T090000
END:STANDARD
END:VTIMEZONE
BEGIN:VEVENT
DTSTART;TZID=America/Los_Angeles:20210629T060000
DTEND;TZID=America/Los_Angeles:20210629T190000
DTSTAMP:20260425T052838
CREATED:20210630T020015Z
LAST-MODIFIED:20210630T020105Z
UID:8346-1624946400-1624993200@www.ayclogic.com
SUMMARY:6 PM - Introduction to Python - Nathaniel
DESCRIPTION:What we did today: \n\nReviewed list homework\nLearned about for loops with lists\nDid practice problems with for loops and lists\n\nHomework: \n\nPage 52\n\nIf you have any questions\, feel free to email me at nathaniel@ayclogic.com
URL:https://www.ayclogic.com/event/6-pm-introduction-to-python-nathaniel-6/
CATEGORIES:Python Level 1
END:VEVENT
BEGIN:VEVENT
DTSTART;TZID=America/Los_Angeles:20210629T160000
DTEND;TZID=America/Los_Angeles:20210629T180000
DTSTAMP:20260425T052838
CREATED:20210703T175908Z
LAST-MODIFIED:20210703T175908Z
UID:8393-1624982400-1624989600@www.ayclogic.com
SUMMARY:4PM - Object Oriented Programming with Python Catchup
DESCRIPTION:Today we did:\n\nLearned about OOP\nLearned how to make Classes\n\nHomework:\nDo pg. 167 TRY-IT-YOURSELF from the textbook in a file called Jun29_ClassHomework.py \nIf you have any questions\, please send an email to latisha@ayclogic.com
URL:https://www.ayclogic.com/event/4pm-object-oriented-programming-with-python-catchup/
END:VEVENT
END:VCALENDAR