BEGIN:VCALENDAR
VERSION:2.0
PRODID:-//American Young Coder - ECPv6.10.1.1//NONSGML v1.0//EN
CALSCALE:GREGORIAN
METHOD:PUBLISH
X-WR-CALNAME:American Young Coder
X-ORIGINAL-URL:https://www.ayclogic.com
X-WR-CALDESC:Events for American Young Coder
REFRESH-INTERVAL;VALUE=DURATION:PT1H
X-Robots-Tag:noindex
X-PUBLISHED-TTL:PT1H
BEGIN:VTIMEZONE
TZID:America/Los_Angeles
BEGIN:DAYLIGHT
TZOFFSETFROM:-0800
TZOFFSETTO:-0700
TZNAME:PDT
DTSTART:20210314T100000
END:DAYLIGHT
BEGIN:STANDARD
TZOFFSETFROM:-0700
TZOFFSETTO:-0800
TZNAME:PST
DTSTART:20211107T090000
END:STANDARD
END:VTIMEZONE
BEGIN:VEVENT
DTSTART;TZID=America/Los_Angeles:20210701T153000
DTEND;TZID=America/Los_Angeles:20210701T163000
DTSTAMP:20260425T065704
CREATED:20210703T180148Z
LAST-MODIFIED:20210703T180148Z
UID:8395-1625153400-1625157000@www.ayclogic.com
SUMMARY:3:30PM - Object Oriented Programming with Python
DESCRIPTION:Today we did:\n\nLearned about OOP\nLearned how to make Classes\n\nHomework:\n\nDo pg. 167 TRY-IT-YOURSELF from the textbook in a file called July1_ClassHomework.py\nDownload and Install Python (link here) and Pycharm (link here)\n\nIf you have any questions\, please send an email to latisha@ayclogic.com
URL:https://www.ayclogic.com/event/330pm-object-oriented-programming-with-python/
END:VEVENT
BEGIN:VEVENT
DTSTART;TZID=America/Los_Angeles:20210701T170000
DTEND;TZID=America/Los_Angeles:20210701T180000
DTSTAMP:20260425T065704
CREATED:20210702T071437Z
LAST-MODIFIED:20210703T060355Z
UID:8386-1625158800-1625162400@www.ayclogic.com
SUMMARY:5 PM - Scratch Level 1 - Allison
DESCRIPTION:Today we: \n\ncontinued the Funny Faces project\nadded a Hat sprite\ndrew the Nose sprite\nlearned how to forever switch costumes\nchanged the sprite size if needed\ncoded sprites to go to a specific location\nadded a background\nstarted drawing the Mouth sprite\n\nHomework \n\nadd a Glasses sprite (you can either draw this sprite or add it from the Sprite Library)\nadd 2 new decorations/ facial features\nex: eyebrows\, ears\, earrings\, anything you’d like\nemail us at gamas@ayclogic.com or allison.682.lee@gmail.com if you need any help or have any questions
URL:https://www.ayclogic.com/event/5-pm-scratch-level-1-43/
CATEGORIES:Scratch Class,Scratch Class Level 1
END:VEVENT
BEGIN:VEVENT
DTSTART;TZID=America/Los_Angeles:20210701T170000
DTEND;TZID=America/Los_Angeles:20210701T180000
DTSTAMP:20260425T065704
CREATED:20210707T105828Z
LAST-MODIFIED:20210712T230730Z
UID:8434-1625158800-1625162400@www.ayclogic.com
SUMMARY:5 PM Scratch Level 1 Alexander Lee
DESCRIPTION:Today We Do\nToday we continued and finished up the Birthday Card project. \nHomework\n\nPlease get two pictures of yourself and one of your dad or mom for your project.\nYour pictures should replace the sharks so there should be one photo with your mouth closed\, and the other with your mouth open.\nThe picture of your parent will be the button sprites costume instead of the normal button.\nAsk your parents for help on how to get pictures on to your computer if you are not sure.
URL:https://www.ayclogic.com/event/5-pm-scratch-level-1-alexander-lee-5/
CATEGORIES:Scratch Class,Scratch Class Level 1
END:VEVENT
END:VCALENDAR