BEGIN:VCALENDAR
VERSION:2.0
PRODID:-//American Young Coder - ECPv6.10.1.1//NONSGML v1.0//EN
CALSCALE:GREGORIAN
METHOD:PUBLISH
X-ORIGINAL-URL:https://www.ayclogic.com
X-WR-CALDESC:Events for American Young Coder
REFRESH-INTERVAL;VALUE=DURATION:PT1H
X-Robots-Tag:noindex
X-PUBLISHED-TTL:PT1H
BEGIN:VTIMEZONE
TZID:America/Los_Angeles
BEGIN:DAYLIGHT
TZOFFSETFROM:-0800
TZOFFSETTO:-0700
TZNAME:PDT
DTSTART:20210314T100000
END:DAYLIGHT
BEGIN:STANDARD
TZOFFSETFROM:-0700
TZOFFSETTO:-0800
TZNAME:PST
DTSTART:20211107T090000
END:STANDARD
END:VTIMEZONE
BEGIN:VEVENT
DTSTART;TZID=America/Los_Angeles:20210707T170000
DTEND;TZID=America/Los_Angeles:20210707T180000
DTSTAMP:20260425T041838
CREATED:20210708T010729Z
LAST-MODIFIED:20210714T021752Z
UID:8437-1625677200-1625680800@www.ayclogic.com
SUMMARY:5 PM Intro To Python
DESCRIPTION:Today We:\n\nFinished doing some If Statement things\nContinued learning about how to get inputs from the shell\nPracticed getting inputs from the shell and then using those inputs in other applications\n\nYour HW:\n\nCreate a new file called July7_InputFromShell_HW\nOnly do number 1 in the Tell Me Your Age assignment\n\nhttps://www.ayclogic.com/tell-me-your-age/
URL:https://www.ayclogic.com/event/5-pm-intro-to-python-19/
END:VEVENT
BEGIN:VEVENT
DTSTART;TZID=America/Los_Angeles:20210707T170000
DTEND;TZID=America/Los_Angeles:20210707T190000
DTSTAMP:20260425T041838
CREATED:20210708T040703Z
LAST-MODIFIED:20210708T040703Z
UID:8450-1625677200-1625684400@www.ayclogic.com
SUMMARY:5PM – Summer Intro to Python
DESCRIPTION:What We Did Today\n1. We learned how to create a shopping cart system \n2. We learned how to use variables to display user activity \n3. We learned how to store paragraphs in a single variable \n4. We learned how to keep a running tally of items purchased in a list \nHomework\nStudy past code to prepare for Final Exam. I especially recommend looking at Supermarket and all the turtle drawings we coded.
URL:https://www.ayclogic.com/event/5pm-summer-intro-to-python-8/
CATEGORIES:Python Level 1
END:VEVENT
BEGIN:VEVENT
DTSTART;TZID=America/Los_Angeles:20210707T180000
DTEND;TZID=America/Los_Angeles:20210707T184000
DTSTAMP:20260425T041838
CREATED:20210712T191734Z
LAST-MODIFIED:20210712T191734Z
UID:8503-1625680800-1625683200@www.ayclogic.com
SUMMARY:6PM - Intro to Python Makeup
DESCRIPTION:Today we learned:\n\nVariables\nData Types\nHow to combine strings using +\n\nHomework:\n\nDo pg.20-23 from the textbook in a file called Jul7_StringHomework.py\n\nIf you have any questions\, please send an email to latisha@ayclogic.com
URL:https://www.ayclogic.com/event/6pm-intro-to-python-makeup/
END:VEVENT
BEGIN:VEVENT
DTSTART;TZID=America/Los_Angeles:20210707T180000
DTEND;TZID=America/Los_Angeles:20210707T190000
DTSTAMP:20260425T041838
CREATED:20210708T020101Z
LAST-MODIFIED:20210714T033229Z
UID:8439-1625680800-1625684400@www.ayclogic.com
SUMMARY:6 PM - Python Game Development
DESCRIPTION:Today: \n\nWe went over the homework to add the coin and player sprites.\nWe added the upwards facing tube.\n\nHomework: \n\nFlip the upwards facing tube so it looks correct\nMake the player its wings\nMake the coin flip between the 3 different images.
URL:https://www.ayclogic.com/event/6-pm-python-game-development-147/
CATEGORIES:Python Game Development
END:VEVENT
BEGIN:VEVENT
DTSTART;TZID=America/Los_Angeles:20210707T190000
DTEND;TZID=America/Los_Angeles:20210707T200000
DTSTAMP:20260425T041838
CREATED:20210708T025023Z
LAST-MODIFIED:20210708T031959Z
UID:8443-1625684400-1625688000@www.ayclogic.com
SUMMARY:7 PM - Python Game Development
DESCRIPTION:Today we went over the projects\, and finished the shoot balloon target. \nHomework: \n\nAnson/Aydan:\nGo over collision between bullet and player\nAdd a way to indicate the game is over.\n\nYitong/Spencer:\nCrop the sprites\nFinish the Player assets\nCreate the background/map\nWhen the game starts\, show the background and the player
URL:https://www.ayclogic.com/event/7-pm-python-game-development-67/
CATEGORIES:Python Game Development
END:VEVENT
END:VCALENDAR