BEGIN:VCALENDAR
VERSION:2.0
PRODID:-//American Young Coder - ECPv6.10.1.1//NONSGML v1.0//EN
CALSCALE:GREGORIAN
METHOD:PUBLISH
X-ORIGINAL-URL:https://www.ayclogic.com
X-WR-CALDESC:Events for American Young Coder
REFRESH-INTERVAL;VALUE=DURATION:PT1H
X-Robots-Tag:noindex
X-PUBLISHED-TTL:PT1H
BEGIN:VTIMEZONE
TZID:America/Los_Angeles
BEGIN:DAYLIGHT
TZOFFSETFROM:-0800
TZOFFSETTO:-0700
TZNAME:PDT
DTSTART:20210314T100000
END:DAYLIGHT
BEGIN:STANDARD
TZOFFSETFROM:-0700
TZOFFSETTO:-0800
TZNAME:PST
DTSTART:20211107T090000
END:STANDARD
END:VTIMEZONE
BEGIN:VEVENT
DTSTART;TZID=America/Los_Angeles:20210715T153000
DTEND;TZID=America/Los_Angeles:20210715T163000
DTSTAMP:20260425T041341
CREATED:20210720T020248Z
LAST-MODIFIED:20210720T020248Z
UID:8607-1626363000-1626366600@www.ayclogic.com
SUMMARY:3:30PM - Object Oriented Python
DESCRIPTION:Today we did:\n\nStarted Student Application\nMade StudentApplication and Student class\nCreated application_loop method\n\nHomework:\nNone \nIf you have any questions\, please send an email to latisha@ayclogic.com
URL:https://www.ayclogic.com/event/330pm-object-oriented-python/
END:VEVENT
BEGIN:VEVENT
DTSTART;TZID=America/Los_Angeles:20210715T170000
DTEND;TZID=America/Los_Angeles:20210715T180000
DTSTAMP:20260425T041341
CREATED:20210716T005329Z
LAST-MODIFIED:20210716T010757Z
UID:8550-1626368400-1626372000@www.ayclogic.com
SUMMARY:5 PM - Scratch Level 1 - Allison
DESCRIPTION:Today we:\n\nadded more replies for Gobo to say\nrecorded our voices\ncoded Gobo to say our recorded voices\nfinished the Ask Gobo project\n\nHomework:\n\nprint out the image attached by clicking on this link: Numbered Shapes In Grid  before our class next week\nask your parents for help to print the image out if needed\nemail us at gamas@ayclogic.com or allison.682.lee@gmail.com if you need any help or have any questions\n\n 
URL:https://www.ayclogic.com/event/5-pm-scratch-level-1-allison-8/
CATEGORIES:Scratch Class,Scratch Class Level 1
END:VEVENT
BEGIN:VEVENT
DTSTART;TZID=America/Los_Angeles:20210715T170000
DTEND;TZID=America/Los_Angeles:20210715T180000
DTSTAMP:20260425T041341
CREATED:20210720T033444Z
LAST-MODIFIED:20210720T033453Z
UID:8618-1626368400-1626372000@www.ayclogic.com
SUMMARY:5 PM Scratch Level 1 Alexander Lee
DESCRIPTION:Today We:\nLearned about how to use the graph for Scratch.\nWe were able to draw in the square and learned how to look at certain coordinates on the graph paper. \nHomework: \nWrite down the coordinates for all of the points of the octagon.\nAlso attempt to draw in the rectangle and triangle the same as we did for the square.
URL:https://www.ayclogic.com/event/5-pm-scratch-level-1-46/
CATEGORIES:Scratch Class,Scratch Class Level 1
END:VEVENT
BEGIN:VEVENT
DTSTART;TZID=America/Los_Angeles:20210715T180000
DTEND;TZID=America/Los_Angeles:20210715T190000
DTSTAMP:20260425T041341
CREATED:20210716T034138Z
LAST-MODIFIED:20210716T034138Z
UID:8557-1626372000-1626375600@www.ayclogic.com
SUMMARY:6 PM - Intro To Java
DESCRIPTION:Today We Do\n\nWe reviewed the homework where after user login\, user should only be able to view his/her own emails in his/her Inbox. This is what should happen when they select “Check your inbox”.\nWe reviewed about HashMap.\nWe reviewed\, the current design now\, will only be able to store one email message person\, which is not good.\nNext week we are going to discuss how to store more than one email messages per person.\n\nHomework\n\nCreate a new Java project in IntelliJ\, call it HashMapListProject\nCreate a new Java file MapLoop.java and copy code from here: https://www.netjstech.com/2015/07/how-to-iterate-hash-map-of-arraylists-java.html\nRun the program and make sure there is no error. Next week we are going to discuss about Map<String\, List<EmailMessage>> which is similar to exercise above.
URL:https://www.ayclogic.com/event/6-pm-intro-to-java-18/
CATEGORIES:Introduction To Java,Java
END:VEVENT
BEGIN:VEVENT
DTSTART;TZID=America/Los_Angeles:20210715T190000
DTEND;TZID=America/Los_Angeles:20210715T200000
DTSTAMP:20260425T041341
CREATED:20210716T034703Z
LAST-MODIFIED:20210716T034703Z
UID:8559-1626375600-1626379200@www.ayclogic.com
SUMMARY:7 PM - Python Game Development
DESCRIPTION:Today We Do\n\nWe reviewed progress of each team project according to schedules.\nWe continued with Shoot Balloon project . The codes for this project can be found in google drive. Click here\n\nHomework\n\nContinue to make progress of your game project according to schedule.
URL:https://www.ayclogic.com/event/7-pm-python-game-development-69/
CATEGORIES:Python Class,Python Game Development
END:VEVENT
END:VCALENDAR