BEGIN:VCALENDAR
VERSION:2.0
PRODID:-//American Young Coder - ECPv6.10.1.1//NONSGML v1.0//EN
CALSCALE:GREGORIAN
METHOD:PUBLISH
X-ORIGINAL-URL:https://www.ayclogic.com
X-WR-CALDESC:Events for American Young Coder
REFRESH-INTERVAL;VALUE=DURATION:PT1H
X-Robots-Tag:noindex
X-PUBLISHED-TTL:PT1H
BEGIN:VTIMEZONE
TZID:America/Los_Angeles
BEGIN:DAYLIGHT
TZOFFSETFROM:-0800
TZOFFSETTO:-0700
TZNAME:PDT
DTSTART:20210314T100000
END:DAYLIGHT
BEGIN:STANDARD
TZOFFSETFROM:-0700
TZOFFSETTO:-0800
TZNAME:PST
DTSTART:20211107T090000
END:STANDARD
END:VTIMEZONE
BEGIN:VEVENT
DTSTART;TZID=America/Los_Angeles:20210716T190000
DTEND;TZID=America/Los_Angeles:20210716T200000
DTSTAMP:20260425T041352
CREATED:20210717T045235Z
LAST-MODIFIED:20210717T045235Z
UID:8564-1626462000-1626465600@www.ayclogic.com
SUMMARY:7 PM - Intro To Python
DESCRIPTION:Today We Do\n\nWe continued to check progress of each person’s python project.\nWe finished Supermarket Shopping Cart project.\n\nHomework\n\nThe python project is due next week. Please email and attach your Python file to gamas@ayclogic.com before next week. If you turn in early\, I can give feedback just in case if there are more improvement can be made.
URL:https://www.ayclogic.com/event/7-pm-intro-to-python-38/
CATEGORIES:Python Class,Python Level 1
END:VEVENT
END:VCALENDAR