BEGIN:VCALENDAR
VERSION:2.0
PRODID:-//American Young Coder - ECPv6.10.1.1//NONSGML v1.0//EN
CALSCALE:GREGORIAN
METHOD:PUBLISH
X-ORIGINAL-URL:https://www.ayclogic.com
X-WR-CALDESC:Events for American Young Coder
REFRESH-INTERVAL;VALUE=DURATION:PT1H
X-Robots-Tag:noindex
X-PUBLISHED-TTL:PT1H
BEGIN:VTIMEZONE
TZID:America/Los_Angeles
BEGIN:DAYLIGHT
TZOFFSETFROM:-0800
TZOFFSETTO:-0700
TZNAME:PDT
DTSTART:20210314T100000
END:DAYLIGHT
BEGIN:STANDARD
TZOFFSETFROM:-0700
TZOFFSETTO:-0800
TZNAME:PST
DTSTART:20211107T090000
END:STANDARD
END:VTIMEZONE
BEGIN:VEVENT
DTSTART;TZID=America/Los_Angeles:20210719T170000
DTEND;TZID=America/Los_Angeles:20210719T180000
DTSTAMP:20260425T041355
CREATED:20210726T233811Z
LAST-MODIFIED:20210726T233811Z
UID:8700-1626714000-1626717600@www.ayclogic.com
SUMMARY:5PM - Beginner Digital Illustration
DESCRIPTION:MONDAY \nToday we continued the Sea Turtle Squirt project\, adding the lines and the flat colors. \nHOMEWORK \nPlease fill out this form for your final project proposal. \nFor your final project illustration idea\, it needs to have all of these components:\n1. A background\n2. An animal\n3. A plant\n4. An object\n5. A person (or another animal) \nFill out the form\, and draw a sketch of your idea on paper\, or ibisPaint\, and submit the jpg or png file. (you can submit all this in the form above) \nYou can choose to draw anything you want\, even if it’s something we didn’t learn in class. As long as the minimum requirements I listed are included.
URL:https://www.ayclogic.com/event/5pm-beginner-digital-illustration-38/
CATEGORIES:Beginner Digital Illustration,Digital Illustration
END:VEVENT
BEGIN:VEVENT
DTSTART;TZID=America/Los_Angeles:20210719T180000
DTEND;TZID=America/Los_Angeles:20210719T190000
DTSTAMP:20260425T041355
CREATED:20210726T234132Z
LAST-MODIFIED:20210729T012322Z
UID:8702-1626717600-1626721200@www.ayclogic.com
SUMMARY:6PM - Intermediate Digital Illustration
DESCRIPTION:MONDAY \nToday we continued the project of drawing the character Link. We started to add the lines of his face and tunic. \nHere is our reference photo\, to compare what we did in class if you want to make it nicer for next class. \n 
URL:https://www.ayclogic.com/event/8702/
CATEGORIES:Digital Illustration,Intermediate Digital Illustration
END:VEVENT
END:VCALENDAR