BEGIN:VCALENDAR
VERSION:2.0
PRODID:-//American Young Coder - ECPv6.10.1.1//NONSGML v1.0//EN
CALSCALE:GREGORIAN
METHOD:PUBLISH
X-ORIGINAL-URL:https://www.ayclogic.com
X-WR-CALDESC:Events for American Young Coder
REFRESH-INTERVAL;VALUE=DURATION:PT1H
X-Robots-Tag:noindex
X-PUBLISHED-TTL:PT1H
BEGIN:VTIMEZONE
TZID:America/Los_Angeles
BEGIN:DAYLIGHT
TZOFFSETFROM:-0800
TZOFFSETTO:-0700
TZNAME:PDT
DTSTART:20210314T100000
END:DAYLIGHT
BEGIN:STANDARD
TZOFFSETFROM:-0700
TZOFFSETTO:-0800
TZNAME:PST
DTSTART:20211107T090000
END:STANDARD
END:VTIMEZONE
BEGIN:VEVENT
DTSTART;TZID=America/Los_Angeles:20210727T180000
DTEND;TZID=America/Los_Angeles:20210727T190000
DTSTAMP:20260425T041857
CREATED:20210728T020730Z
LAST-MODIFIED:20210728T020730Z
UID:8716-1627408800-1627412400@www.ayclogic.com
SUMMARY:6 PM - Intro to Python - Nathaniel
DESCRIPTION:What we did today: \n\nCompleted Quiz 1\n\nHomework: \n\nNo homework due next week\, congrats on finishing your first quiz!\n\nIf you have any questions\, feel free to email me at nathaniel@ayclogic.com
URL:https://www.ayclogic.com/event/6-pm-intro-to-python-nathaniel/
CATEGORIES:Python Level 1
END:VEVENT
BEGIN:VEVENT
DTSTART;TZID=America/Los_Angeles:20210727T180000
DTEND;TZID=America/Los_Angeles:20210727T190000
DTSTAMP:20260425T041857
CREATED:20210728T033353Z
LAST-MODIFIED:20210728T033353Z
UID:8723-1627408800-1627412400@www.ayclogic.com
SUMMARY:6 PM - Intro To Java
DESCRIPTION:Today We Do\n\nWe reviewed SchoolApplication project\n\nHomework\n\nWe have our first quiz on July 29\, please study well. Also come early on 5:30PM so you have more time to do the quiz.
URL:https://www.ayclogic.com/event/6-pm-intro-to-java-21/
CATEGORIES:Introduction To Java,Java
END:VEVENT
END:VCALENDAR