BEGIN:VCALENDAR
VERSION:2.0
PRODID:-//American Young Coder - ECPv6.10.1.1//NONSGML v1.0//EN
CALSCALE:GREGORIAN
METHOD:PUBLISH
X-WR-CALNAME:American Young Coder
X-ORIGINAL-URL:https://www.ayclogic.com
X-WR-CALDESC:Events for American Young Coder
REFRESH-INTERVAL;VALUE=DURATION:PT1H
X-Robots-Tag:noindex
X-PUBLISHED-TTL:PT1H
BEGIN:VTIMEZONE
TZID:America/Los_Angeles
BEGIN:DAYLIGHT
TZOFFSETFROM:-0800
TZOFFSETTO:-0700
TZNAME:PDT
DTSTART:20210314T100000
END:DAYLIGHT
BEGIN:STANDARD
TZOFFSETFROM:-0700
TZOFFSETTO:-0800
TZNAME:PST
DTSTART:20211107T090000
END:STANDARD
END:VTIMEZONE
BEGIN:VEVENT
DTSTART;TZID=America/Los_Angeles:20210728T170000
DTEND;TZID=America/Los_Angeles:20210728T180000
DTSTAMP:20260425T040300
CREATED:20210729T011914Z
LAST-MODIFIED:20210729T011914Z
UID:8729-1627491600-1627495200@www.ayclogic.com
SUMMARY:5pm Intro To Python
DESCRIPTION:Today We:\n\nPracticed Looping through lists using For Loops\nStarted Learning about for loops without using lists\nPracticed using For Loops and indexes\nLearned how to Number what we print out of the loops\n\nYour HW:\n\nCreate a New file called July28_ForLoopsHW\nDo page 57 in the book\nDo numbers 1 and 2 in (Link) https://www.ayclogic.com/list-inputs-if-and-else-loops-and-function/
URL:https://www.ayclogic.com/event/5pm-intro-to-python-21/
END:VEVENT
BEGIN:VEVENT
DTSTART;TZID=America/Los_Angeles:20210728T170000
DTEND;TZID=America/Los_Angeles:20210728T180000
DTSTAMP:20260425T040300
CREATED:20210729T013445Z
LAST-MODIFIED:20210729T013445Z
UID:8736-1627491600-1627495200@www.ayclogic.com
SUMMARY:5PM - Digital Illustration - NO CLASS
DESCRIPTION:A break between class levels! NO CLASS.
URL:https://www.ayclogic.com/event/5pm-digital-illustration-no-class/
CATEGORIES:Digital Illustration
END:VEVENT
BEGIN:VEVENT
DTSTART;TZID=America/Los_Angeles:20210728T170000
DTEND;TZID=America/Los_Angeles:20210728T190000
DTSTAMP:20260425T040300
CREATED:20210729T023016Z
LAST-MODIFIED:20210729T023334Z
UID:8743-1627491600-1627498800@www.ayclogic.com
SUMMARY:5PM – Summer Intro to Python
DESCRIPTION:What We Did Today\n1. We learned how to create a class that contains methods \n2. We learned how to import classes \n3. We learned how to used class attributes within class methods \nHomework\nI want you guys to finish option 2 from the SchoolApplication menu. This should output the the info of each student from student_list like this: \n“{name} – {age} years old – grade {grade}.” \n**Hint: this is the student method get_info \n  \nIf you guys have any questions you can email me at sohan@ayclogic.com
URL:https://www.ayclogic.com/event/5pm-summer-intro-to-python-12/
CATEGORIES:OOP Python
END:VEVENT
BEGIN:VEVENT
DTSTART;TZID=America/Los_Angeles:20210728T180000
DTEND;TZID=America/Los_Angeles:20210728T190000
DTSTAMP:20260425T040300
CREATED:20210729T015702Z
LAST-MODIFIED:20210801T014647Z
UID:8739-1627495200-1627498800@www.ayclogic.com
SUMMARY:6 PM - Python Game Development
DESCRIPTION:Today: \n\nWe went over the homework.\nWe added the dizzy mode for the flappy bird.\nI’ve uploaded the source code here.\n\nHomework: \n\nAdd the credits page. Also add a credit button on the landing page\, game over page\, and game won page.\nAdd a sound effect when the player hits the tube.
URL:https://www.ayclogic.com/event/8739/
CATEGORIES:Python Game Development
END:VEVENT
BEGIN:VEVENT
DTSTART;TZID=America/Los_Angeles:20210728T190000
DTEND;TZID=America/Los_Angeles:20210728T200000
DTSTAMP:20260425T040300
CREATED:20210729T030902Z
LAST-MODIFIED:20210805T041704Z
UID:8742-1627498800-1627502400@www.ayclogic.com
SUMMARY:7PM - Python Game Development
DESCRIPTION:Today \nWe went over the final projects. \nWe added the bug sprite to the shoot balloon. \nI’ve added the source code here. \nHomework \nAydan/Anson: \n\nAdd in the sound effects.\nAdd the landing page logo asset.\nMake players not take any damage during invulnerability mode.\n\nSpencer/Yitong: \n\nYitong: Handle collision between car and player (carry over).\nYitong: Fix spawn points for the car (carry over)\nSpencer: Create a winning zone (carry over)\nSpencer: Imrove starting page.\nSpencer: Create the Game Won page (carry over).
URL:https://www.ayclogic.com/event/7pm-python-game-development-3/
CATEGORIES:Python Game Development
END:VEVENT
END:VCALENDAR