BEGIN:VCALENDAR
VERSION:2.0
PRODID:-//American Young Coder - ECPv6.10.1.1//NONSGML v1.0//EN
CALSCALE:GREGORIAN
METHOD:PUBLISH
X-WR-CALNAME:American Young Coder
X-ORIGINAL-URL:https://www.ayclogic.com
X-WR-CALDESC:Events for American Young Coder
REFRESH-INTERVAL;VALUE=DURATION:PT1H
X-Robots-Tag:noindex
X-PUBLISHED-TTL:PT1H
BEGIN:VTIMEZONE
TZID:America/Los_Angeles
BEGIN:DAYLIGHT
TZOFFSETFROM:-0800
TZOFFSETTO:-0700
TZNAME:PDT
DTSTART:20210314T100000
END:DAYLIGHT
BEGIN:STANDARD
TZOFFSETFROM:-0700
TZOFFSETTO:-0800
TZNAME:PST
DTSTART:20211107T090000
END:STANDARD
END:VTIMEZONE
BEGIN:VEVENT
DTSTART;TZID=America/Los_Angeles:20210729T153000
DTEND;TZID=America/Los_Angeles:20210729T163000
DTSTAMP:20260425T053814
CREATED:20210805T053037Z
LAST-MODIFIED:20210805T053037Z
UID:8835-1627572600-1627576200@www.ayclogic.com
SUMMARY:3:30PM - Object Oriented Python
DESCRIPTION:Today we did:\n\nContinued working on School Application\nFinished find_student function\n\nHomework:\n\nNone\n\nIf you have any questions\, please send an email to latisha@ayclogic.com
URL:https://www.ayclogic.com/event/330pm-object-oriented-python-3/
END:VEVENT
BEGIN:VEVENT
DTSTART;TZID=America/Los_Angeles:20210729T170000
DTEND;TZID=America/Los_Angeles:20210729T180000
DTSTAMP:20260425T053814
CREATED:20210730T010409Z
LAST-MODIFIED:20210730T010409Z
UID:8752-1627578000-1627581600@www.ayclogic.com
SUMMARY:5 PM Scratch Level 1 Alexander Lee
DESCRIPTION:Today in Class: \n\nWe finished up Animal Crossing and gave a brief explanation on how to delete sprites on the edge of the screen without using if touching edge.\nAlso explained about the greater than and less than blocks for code.\nWe also started the tunnel of doom project.\n\nFor Homework: \n\nIf you haven’t drawn in your tunnel yet please do that\, also do from pages 127 to 128 as shown below.
URL:https://www.ayclogic.com/event/5-pm-scratch-level-1-alexander-lee-8/
CATEGORIES:Scratch Class,Scratch Class Level 1
END:VEVENT
BEGIN:VEVENT
DTSTART;TZID=America/Los_Angeles:20210729T170000
DTEND;TZID=America/Los_Angeles:20210729T180000
DTSTAMP:20260425T053814
CREATED:20210730T010515Z
LAST-MODIFIED:20210730T010515Z
UID:8756-1627578000-1627581600@www.ayclogic.com
SUMMARY:5 PM - Scratch Level 1 - Allison
DESCRIPTION:Today we:\n\nchecked last week’s homework\nstarted the Drawing Shapes on Grid project\nlearned about the Pen extension\ncoded the cat to draw a square and part of a triangle\n\nHomework:\n\ncode the cat to finish drawing the triangle and then draw the rectangle\nemail us at gamas@ayclogic.com or allison.682.lee@gmail.com if you need any help or have any questions
URL:https://www.ayclogic.com/event/5-pm-scratch-level-1-allison-10/
CATEGORIES:Scratch Class,Scratch Class Level 1
END:VEVENT
END:VCALENDAR