BEGIN:VCALENDAR
VERSION:2.0
PRODID:-//American Young Coder - ECPv6.10.1.1//NONSGML v1.0//EN
CALSCALE:GREGORIAN
METHOD:PUBLISH
X-ORIGINAL-URL:https://www.ayclogic.com
X-WR-CALDESC:Events for American Young Coder
REFRESH-INTERVAL;VALUE=DURATION:PT1H
X-Robots-Tag:noindex
X-PUBLISHED-TTL:PT1H
BEGIN:VTIMEZONE
TZID:America/Los_Angeles
BEGIN:DAYLIGHT
TZOFFSETFROM:-0800
TZOFFSETTO:-0700
TZNAME:PDT
DTSTART:20210314T100000
END:DAYLIGHT
BEGIN:STANDARD
TZOFFSETFROM:-0700
TZOFFSETTO:-0800
TZNAME:PST
DTSTART:20211107T090000
END:STANDARD
END:VTIMEZONE
BEGIN:VEVENT
DTSTART;TZID=America/Los_Angeles:20210801T090000
DTEND;TZID=America/Los_Angeles:20210801T100000
DTSTAMP:20260425T054609
CREATED:20210801T030240Z
LAST-MODIFIED:20210801T030731Z
UID:8791-1627808400-1627812000@www.ayclogic.com
SUMMARY:9 AM - Scratch 1 - Indo
DESCRIPTION:Today We Do\n\nWe completed Animal crossing\nWe started Birthday Card project in page 84\n\nHomework\n\nContinue with the Birthday Card project from page 87 to 89\nGet a picture of your mom\, make sure it is available in your computer.\nGet 2 pictures of your self\, make sure it is available in your computer.
URL:https://www.ayclogic.com/event/8791/
CATEGORIES:Scratch Class,Scratch Class Level 1
END:VEVENT
END:VCALENDAR