BEGIN:VCALENDAR
VERSION:2.0
PRODID:-//American Young Coder - ECPv6.10.1.1//NONSGML v1.0//EN
CALSCALE:GREGORIAN
METHOD:PUBLISH
X-ORIGINAL-URL:https://www.ayclogic.com
X-WR-CALDESC:Events for American Young Coder
REFRESH-INTERVAL;VALUE=DURATION:PT1H
X-Robots-Tag:noindex
X-PUBLISHED-TTL:PT1H
BEGIN:VTIMEZONE
TZID:America/Los_Angeles
BEGIN:DAYLIGHT
TZOFFSETFROM:-0800
TZOFFSETTO:-0700
TZNAME:PDT
DTSTART:20210314T100000
END:DAYLIGHT
BEGIN:STANDARD
TZOFFSETFROM:-0700
TZOFFSETTO:-0800
TZNAME:PST
DTSTART:20211107T090000
END:STANDARD
END:VTIMEZONE
BEGIN:VEVENT
DTSTART;TZID=America/Los_Angeles:20210802T160000
DTEND;TZID=America/Los_Angeles:20210802T170000
DTSTAMP:20260425T041809
CREATED:20210810T015514Z
LAST-MODIFIED:20210810T015514Z
UID:8913-1627920000-1627923600@www.ayclogic.com
SUMMARY:4PM - Python Game Development
DESCRIPTION:Today we did:\n\nContinued working on Shoot Balloon\nFixed Final Project\n\nHomework:\n\nNone\n\nIf you have any questions\, please send an email to latisha@ayclogic.com
URL:https://www.ayclogic.com/event/4pm-python-game-development-24/
END:VEVENT
BEGIN:VEVENT
DTSTART;TZID=America/Los_Angeles:20210802T170000
DTEND;TZID=America/Los_Angeles:20210802T180000
DTSTAMP:20260425T041809
CREATED:20210809T064325Z
LAST-MODIFIED:20210809T064325Z
UID:8905-1627923600-1627927200@www.ayclogic.com
SUMMARY:5PM - Beginner Digital Illustration
DESCRIPTION:MONDAY \nToday we continued on the drawing of Squirt. We added more shading and details to the shell layer\, and also started on the body layer. We used layer clipping to add details to these layers. \nFINAL PROJECT – Your background layer should be done by now. And have one more element added to it that we can talk about next class.
URL:https://www.ayclogic.com/event/5pm-beginner-digital-illustration-41/
CATEGORIES:Beginner Digital Illustration,Digital Illustration
END:VEVENT
BEGIN:VEVENT
DTSTART;TZID=America/Los_Angeles:20210802T170000
DTEND;TZID=America/Los_Angeles:20210802T190000
DTSTAMP:20260425T041809
CREATED:20210803T205517Z
LAST-MODIFIED:20210803T205608Z
UID:8811-1627923600-1627930800@www.ayclogic.com
SUMMARY:5PM – Summer Intro to Python
DESCRIPTION:What We Did Today\n1. We worked on School_Application \n2. We learned how to treat class objects as list items \n3. We learned how to utilize class methods \nHomework\n1. Create a new project in pycharm called August4_ShoppingCart \n  \nIf you guys have any questions you can email me at sohan@ayclogic.com
URL:https://www.ayclogic.com/event/5pm-summer-intro-to-python-13/
CATEGORIES:OOP Python
END:VEVENT
BEGIN:VEVENT
DTSTART;TZID=America/Los_Angeles:20210802T180000
DTEND;TZID=America/Los_Angeles:20210802T190000
DTSTAMP:20260425T041809
CREATED:20210809T065035Z
LAST-MODIFIED:20210809T065035Z
UID:8907-1627927200-1627930800@www.ayclogic.com
SUMMARY:6PM - Intermediate Digital Illustration
DESCRIPTION:MONDAY \nWe are still continuing to work on our Link project. reference \nNo homework\, but as always\, feel free to improve on your current drawing for the best results.
URL:https://www.ayclogic.com/event/6pm-intermediate-digital-illustration-20/
CATEGORIES:Digital Illustration,Intermediate Digital Illustration
END:VEVENT
END:VCALENDAR