BEGIN:VCALENDAR
VERSION:2.0
PRODID:-//American Young Coder - ECPv6.10.1.1//NONSGML v1.0//EN
CALSCALE:GREGORIAN
METHOD:PUBLISH
X-WR-CALNAME:American Young Coder
X-ORIGINAL-URL:https://www.ayclogic.com
X-WR-CALDESC:Events for American Young Coder
REFRESH-INTERVAL;VALUE=DURATION:PT1H
X-Robots-Tag:noindex
X-PUBLISHED-TTL:PT1H
BEGIN:VTIMEZONE
TZID:America/Los_Angeles
BEGIN:DAYLIGHT
TZOFFSETFROM:-0800
TZOFFSETTO:-0700
TZNAME:PDT
DTSTART:20210314T100000
END:DAYLIGHT
BEGIN:STANDARD
TZOFFSETFROM:-0700
TZOFFSETTO:-0800
TZNAME:PST
DTSTART:20211107T090000
END:STANDARD
END:VTIMEZONE
BEGIN:VEVENT
DTSTART;TZID=America/Los_Angeles:20210809T160000
DTEND;TZID=America/Los_Angeles:20210809T170000
DTSTAMP:20260425T053905
CREATED:20210810T015757Z
LAST-MODIFIED:20210810T015757Z
UID:8917-1628524800-1628528400@www.ayclogic.com
SUMMARY:4PM - Python Game Development
DESCRIPTION:Today we did:\n\nContinued working on Shoot Balloon\n\nCreated Score Explosion Sprite\nAdded collision detection\nBegan adding dizzy mode for bug\n\n\n\nHomework:\n\nPlay the plop.wav sound when the target and bug collide\n\nIf you have any questions\, please send an email to latisha@ayclogic.com
URL:https://www.ayclogic.com/event/4pm-python-game-development-25/
END:VEVENT
BEGIN:VEVENT
DTSTART;TZID=America/Los_Angeles:20210809T170000
DTEND;TZID=America/Los_Angeles:20210809T180000
DTSTAMP:20260425T053905
CREATED:20210810T061740Z
LAST-MODIFIED:20210810T061740Z
UID:8933-1628528400-1628532000@www.ayclogic.com
SUMMARY:5PM - Beginner Digital Illustration
DESCRIPTION:MONDAY \nToday we finished the Squirt Sea Turtle project. We finished shading the body of the turtle\, and added highlights to the whole drawing. \nToday we also started our last project of class\, which is to draw a Cute Pony. We just started the sketching part with three circles. \nFINAL PROJECT Homework – \nChloe: Finish refining your spirit wolf by lowering the opacity of the glow\, and smudging the edges for a softer glow effect. –  Add snow. \nNatalie: Add the red panda.
URL:https://www.ayclogic.com/event/5pm-beginner-digital-illustration-42/
CATEGORIES:Beginner Digital Illustration,Digital Illustration
END:VEVENT
BEGIN:VEVENT
DTSTART;TZID=America/Los_Angeles:20210809T170000
DTEND;TZID=America/Los_Angeles:20210809T190000
DTSTAMP:20260425T053905
CREATED:20210810T023656Z
LAST-MODIFIED:20210810T023656Z
UID:8928-1628528400-1628535600@www.ayclogic.com
SUMMARY:5PM – Summer Intro to Python
DESCRIPTION:What We Did Today:\n1. We worked on shopping_cart_main and shopping_cart_main2 \n2. We learned how to loop through lists containing objects \n3. We got more exposure calling methods within classes \n4. We also got more practice with accessing class attributes \nHomework:\nStudy previous lessons (especially SchoolApplication and shopping_cart_main) to prepare for the final exam on Monday \nIf you guys have any questions you can email me at sohan@ayclogic.com
URL:https://www.ayclogic.com/event/5pm-summer-intro-to-python-15/
CATEGORIES:OOP Python
END:VEVENT
BEGIN:VEVENT
DTSTART;TZID=America/Los_Angeles:20210809T180000
DTEND;TZID=America/Los_Angeles:20210809T190000
DTSTAMP:20260425T053905
CREATED:20210810T062443Z
LAST-MODIFIED:20210810T062443Z
UID:8935-1628532000-1628535600@www.ayclogic.com
SUMMARY:6PM - Intermediate Digital Illustration
DESCRIPTION:MONDAY \nToday we continued Link\, and worked on his sword. This is the hardest part of the drawing! And we will hopefully finish the lines by next class. \nNo homework!
URL:https://www.ayclogic.com/event/6pm-intermediate-digital-illustration-21/
CATEGORIES:Digital Illustration,Intermediate Digital Illustration
END:VEVENT
END:VCALENDAR