BEGIN:VCALENDAR
VERSION:2.0
PRODID:-//American Young Coder - ECPv6.10.1.1//NONSGML v1.0//EN
CALSCALE:GREGORIAN
METHOD:PUBLISH
X-ORIGINAL-URL:https://www.ayclogic.com
X-WR-CALDESC:Events for American Young Coder
REFRESH-INTERVAL;VALUE=DURATION:PT1H
X-Robots-Tag:noindex
X-PUBLISHED-TTL:PT1H
BEGIN:VTIMEZONE
TZID:America/Los_Angeles
BEGIN:DAYLIGHT
TZOFFSETFROM:-0800
TZOFFSETTO:-0700
TZNAME:PDT
DTSTART:20210314T100000
END:DAYLIGHT
BEGIN:STANDARD
TZOFFSETFROM:-0700
TZOFFSETTO:-0800
TZNAME:PST
DTSTART:20211107T090000
END:STANDARD
END:VTIMEZONE
BEGIN:VEVENT
DTSTART;TZID=America/Los_Angeles:20210811T170000
DTEND;TZID=America/Los_Angeles:20210811T180000
DTSTAMP:20260424T225904
CREATED:20210812T011908Z
LAST-MODIFIED:20210812T011908Z
UID:8958-1628701200-1628704800@www.ayclogic.com
SUMMARY:5pm Intro To Python
DESCRIPTION:Today We:\n\nLearned about while loops\nReviewed the while loops homework\nReviewed what we did last week\n\nYour HW:\n\nOpen Your Old TellMeYourAgeHW file\nDo Number 2 and 3 of this Assignment Link: https://www.ayclogic.com/tell-me-your-age/
URL:https://www.ayclogic.com/event/5pm-intro-to-python-23/
END:VEVENT
BEGIN:VEVENT
DTSTART;TZID=America/Los_Angeles:20210811T170000
DTEND;TZID=America/Los_Angeles:20210811T180000
DTSTAMP:20260424T225904
CREATED:20210817T235344Z
LAST-MODIFIED:20210817T235344Z
UID:9032-1628701200-1628704800@www.ayclogic.com
SUMMARY:5PM - Intermediate Digital Illustration
DESCRIPTION:WEDNESDAY \nToday we finished drawing the fancy anime eyes. \nFor Homework\, please try your best to recreate one of these fancy anime eyes. Take your time and remember the steps we used for during class. You need at least these layers: \n\nSkin\nEye shape\, eyelashes\, and eyebrows\nWhites of the eyes\nIris (Color of the eyes)\nDetails of the eyes\nAdditional shadows or sparkles\n\nIf you have more layers than that\, it’s ok. \nHere are the eyes to choose from:
URL:https://www.ayclogic.com/event/5pm-intermediate-digital-illustration-2/
CATEGORIES:Digital Illustration,Intermediate Digital Illustration
END:VEVENT
BEGIN:VEVENT
DTSTART;TZID=America/Los_Angeles:20210811T170000
DTEND;TZID=America/Los_Angeles:20210811T190000
DTSTAMP:20260424T225904
CREATED:20210812T024529Z
LAST-MODIFIED:20210812T024529Z
UID:8972-1628701200-1628708400@www.ayclogic.com
SUMMARY:5PM – Summer Intro to Python
DESCRIPTION:What We Did Today:\n1. We created an adventure game to prepare for the exam \n2. Went over class attributes and methods \n3. We went over calling methods within a class \nHomework:\nStudy previous lessons to prepare for the final exam on Monday \nIf you guys have any questions you can email me at sohan@ayclogic.com
URL:https://www.ayclogic.com/event/5pm-summer-intro-to-python-16/
CATEGORIES:OOP Python
END:VEVENT
BEGIN:VEVENT
DTSTART;TZID=America/Los_Angeles:20210811T180000
DTEND;TZID=America/Los_Angeles:20210811T190000
DTSTAMP:20260424T225904
CREATED:20210812T020118Z
LAST-MODIFIED:20210812T020140Z
UID:8961-1628704800-1628708400@www.ayclogic.com
SUMMARY:6 PM - Python Game Development
DESCRIPTION:Today: \nWe went over how to use gitlab. \nWe started shoot balloon. \n  \nHomework: \n\nMeet to discuss the final project — Sunday in the morning 10 to 11.\nChoose a final project: define victory conditions\, losing conditions\, and buy or choose game assets.  Create a google docs document listing these things.
URL:https://www.ayclogic.com/event/6-pm-python-game-development-154/
CATEGORIES:Python Game Development
END:VEVENT
BEGIN:VEVENT
DTSTART;TZID=America/Los_Angeles:20210811T190000
DTEND;TZID=America/Los_Angeles:20210811T200000
DTSTAMP:20260424T225904
CREATED:20210812T021611Z
LAST-MODIFIED:20210812T030229Z
UID:8968-1628708400-1628712000@www.ayclogic.com
SUMMARY:7 PM - Python Game Development
DESCRIPTION:Today \n\nWe went over the final projects\nWe added the landing page\, and countdown timers to shoot balloon. I’ve uploaded the source code here.\n\nHomework \nAydan/Anson \n\nAdd logo for landing page.\nFix spawn for cars.\nFix problem with buttons switching game modes correctly.\nAdd sound effects.\nFix background & remove tent like object.\n\nYitong/Spencer: \n\nAdd in some sounds effects for collision. (Yitong)\nMake sure the collision between car and player sets the mode to a GAME_OVER mode. (Yitong)\nAdd a winning zone sprite which switches the game mode on collision. (Spencer)\nAdd a winning page. (Spencer)\nAdd a game over page. (Spencer)
URL:https://www.ayclogic.com/event/8968/
CATEGORIES:Python Game Development
END:VEVENT
END:VCALENDAR