BEGIN:VCALENDAR
VERSION:2.0
PRODID:-//American Young Coder - ECPv6.10.1.1//NONSGML v1.0//EN
CALSCALE:GREGORIAN
METHOD:PUBLISH
X-WR-CALNAME:American Young Coder
X-ORIGINAL-URL:https://www.ayclogic.com
X-WR-CALDESC:Events for American Young Coder
REFRESH-INTERVAL;VALUE=DURATION:PT1H
X-Robots-Tag:noindex
X-PUBLISHED-TTL:PT1H
BEGIN:VTIMEZONE
TZID:America/Los_Angeles
BEGIN:DAYLIGHT
TZOFFSETFROM:-0800
TZOFFSETTO:-0700
TZNAME:PDT
DTSTART:20210314T100000
END:DAYLIGHT
BEGIN:STANDARD
TZOFFSETFROM:-0700
TZOFFSETTO:-0800
TZNAME:PST
DTSTART:20211107T090000
END:STANDARD
END:VTIMEZONE
BEGIN:VEVENT
DTSTART;TZID=America/Los_Angeles:20210814T090000
DTEND;TZID=America/Los_Angeles:20210814T100000
DTSTAMP:20260425T041012
CREATED:20210814T182439Z
LAST-MODIFIED:20210814T182439Z
UID:8999-1628931600-1628935200@www.ayclogic.com
SUMMARY:9 AM - Intro To Java
DESCRIPTION:Today We Do\n\nWe reviewed AnimalFightingSystem program\n\nHomework\n\nNext week is a 2 hour final test. Please come at 8 AM.\nStudy codes in AnimalFightingSystem\, DriverSystem\, MonsterInheritanceSystem. All source codes for these 3 programs can be found in google drive. https://drive.google.com/drive/u/0/folders/1pN97iclfS9uIGdqaZhjEbGqGYWxyRwqw
URL:https://www.ayclogic.com/event/9-am-intro-to-java-30/
CATEGORIES:Introduction To Java,Java
END:VEVENT
BEGIN:VEVENT
DTSTART;TZID=America/Los_Angeles:20210814T100000
DTEND;TZID=America/Los_Angeles:20210814T110000
DTSTAMP:20260425T041012
CREATED:20210814T042553Z
LAST-MODIFIED:20210821T162550Z
UID:8990-1628935200-1628938800@www.ayclogic.com
SUMMARY:SAT - 10 AM - Scratch 1 - Indo
DESCRIPTION:Today We Do\n\nWe continued with Mary Had A Little Lamb augmented realty project.\n\nHomework\n\nIn the conductor sprite\, add 3 costumes like the following. After that animate these 3 costumes just like how you guys did it in Funny Faces project with the runny nose animation
URL:https://www.ayclogic.com/event/sat-9-am-scratch-1-indo/
CATEGORIES:Scratch Class,Scratch Class Level 1
END:VEVENT
BEGIN:VEVENT
DTSTART;TZID=America/Los_Angeles:20210814T100000
DTEND;TZID=America/Los_Angeles:20210814T110000
DTSTAMP:20260425T041012
CREATED:20210814T180042Z
LAST-MODIFIED:20210814T180042Z
UID:8997-1628935200-1628938800@www.ayclogic.com
SUMMARY:10 AM - Intro To Java
DESCRIPTION:Today We Do\n\nWe added List all students and Find student features.\nWe modularize the code by creating methods\n\nHomework\n\nMake Find student feature non-case sensitive.\nCreate a method “findStudent()” and move the code to this method from run method.\nAdd code for Find teacher feature.
URL:https://www.ayclogic.com/event/10-am-intro-to-java-11/
CATEGORIES:Introduction To Java,Java
END:VEVENT
BEGIN:VEVENT
DTSTART;TZID=America/Los_Angeles:20210814T130000
DTEND;TZID=America/Los_Angeles:20210814T140000
DTSTAMP:20260425T041012
CREATED:20210814T214421Z
LAST-MODIFIED:20210814T214421Z
UID:9002-1628946000-1628949600@www.ayclogic.com
SUMMARY:1 PM -  Python Game Development
DESCRIPTION:Today \n\nWe went over the final projects\nWe learned how to commit code inside pycharm and push it to gitlab.\n\nHomework \n\nMake sure that you are able to push a commit to your project.\nAdd a plan to the first month of your project.\nAdd the background image to your final project.\n\n 
URL:https://www.ayclogic.com/event/1-pm-python-game-development-30/
CATEGORIES:Python Game Development
END:VEVENT
BEGIN:VEVENT
DTSTART;TZID=America/Los_Angeles:20210814T140000
DTEND;TZID=America/Los_Angeles:20210814T150000
DTSTAMP:20260425T041012
CREATED:20210814T215653Z
LAST-MODIFIED:20210814T215653Z
UID:9006-1628949600-1628953200@www.ayclogic.com
SUMMARY:2 PM - Intro To Python - Gamas
DESCRIPTION:Today We Do\n\nWe finished function with return value homework review\nWe learned about Python random module\nWe created Magic8Ball game.\n\nHomework\n\nChange the code in Aug14_Magic8Ball.py so when user enter “exit” or “quit” it will stop the game.\nCreate Aug14_StarwarsHomework.py and do exercises num 2\,3 and 4 from here: https://www.ayclogic.com/intro-to-python/star-wars-problem/
URL:https://www.ayclogic.com/event/2-pm-intro-to-python-gamas-2/
END:VEVENT
BEGIN:VEVENT
DTSTART;TZID=America/Los_Angeles:20210814T140000
DTEND;TZID=America/Los_Angeles:20210814T150000
DTSTAMP:20260425T041012
CREATED:20210815T052100Z
LAST-MODIFIED:20210815T052100Z
UID:9015-1628949600-1628953200@www.ayclogic.com
SUMMARY:2PM - Intro to Python - Latisha
DESCRIPTION:Today we learned:\n\nHow to replace elements in a list\nHow to use .append() and .insert() to add to a list\nHow to use del\, pop() and remove() to remove from a list\n\nHomework:\n\nDo pg. 50-52 from the textbook in a file called Aug14_ListForLoopHomework.py\n\nIf you have any questions\, please send an email to latisha@ayclogic.com
URL:https://www.ayclogic.com/event/2pm-intro-to-python-latisha-3/
END:VEVENT
BEGIN:VEVENT
DTSTART;TZID=America/Los_Angeles:20210814T150000
DTEND;TZID=America/Los_Angeles:20210814T160000
DTSTAMP:20260425T041012
CREATED:20210814T230631Z
LAST-MODIFIED:20210818T023137Z
UID:9008-1628953200-1628956800@www.ayclogic.com
SUMMARY:3pm Scratch Level 1 - Bill
DESCRIPTION:Today We:\n\nContinued the Funny Faces project\nAdded eyebrows and hair\nDrew the mouth\nDrew the Nose\nMade the nose have animated boogers\nCompleted the Funny Faces project\n\nYour HW:\n\nDownload this image\, (Link) \nPrint it out and make sure you have a physical copy (piece of printed paper with image on it) with you at the beginning of next week’s lesson.\nAlso make sure you have a pencil and eraser with that printout.
URL:https://www.ayclogic.com/event/3pm-scratch-level-1-12/
END:VEVENT
BEGIN:VEVENT
DTSTART;TZID=America/Los_Angeles:20210814T150000
DTEND;TZID=America/Los_Angeles:20210814T160000
DTSTAMP:20260425T041012
CREATED:20210814T231135Z
LAST-MODIFIED:20210822T205258Z
UID:9010-1628953200-1628956800@www.ayclogic.com
SUMMARY:3 PM - Scratch Level 1 - Allison
DESCRIPTION:Today we:\n\ncontinued the Mary Had a Little Lamb project\ncoded the sprites to play different notes\nstarted coding the Conductor sprite to play part of the song\n\nHomework:\n\ncode the Conductor sprite to finish the rest of the song\n\n\nthe image for the “Mary Had a Little Lamb” song is below\nafter you finish your homework\, the entire song should play when you click the Green Flag\ncomplete the homework in the same project we did in class (the Mary Had a Little Lamb project)\ncomplete the homework before our next class together\ncontact us if you need any help or have any questions
URL:https://www.ayclogic.com/event/3-pm-scratch-level-1-43/
CATEGORIES:Scratch Class,Scratch Class Level 1
END:VEVENT
BEGIN:VEVENT
DTSTART;TZID=America/Los_Angeles:20210814T150000
DTEND;TZID=America/Los_Angeles:20210814T160000
DTSTAMP:20260425T041012
CREATED:20210819T011757Z
LAST-MODIFIED:20210819T011757Z
UID:9042-1628953200-1628956800@www.ayclogic.com
SUMMARY:3 PM - Python Game Development
DESCRIPTION:Today We Do\n\nWe started the enemy waves code today. Still work in progress\n\nHomework\n\nAdd LANDING_PAGE and GAME_IN_SESSION in config.py.\nin main.py \, add code to display landing page. The landing page should use “assets/images/td-gui/PNG/menu/button_play.png” for the play button.’\nLook at how we did landing page in Birdie and Flappy Duck project.
URL:https://www.ayclogic.com/event/3-pm-python-game-development-40/
CATEGORIES:Python Class,Python Game Development
END:VEVENT
BEGIN:VEVENT
DTSTART;TZID=America/Los_Angeles:20210814T160000
DTEND;TZID=America/Los_Angeles:20210814T170000
DTSTAMP:20260425T041012
CREATED:20210815T065932Z
LAST-MODIFIED:20210815T065932Z
UID:9021-1628956800-1628960400@www.ayclogic.com
SUMMARY:4 PM - Intro to Python - Nathaniel
DESCRIPTION:Today We:\n\nFinished the complex shapes module with the rectangle face.\n\nHomework\n\nWrite turtle python code to create the following shape:
URL:https://www.ayclogic.com/event/4-pm-intro-to-python-nathaniel-4/
CATEGORIES:Python Level 1
END:VEVENT
BEGIN:VEVENT
DTSTART;TZID=America/Los_Angeles:20210814T170000
DTEND;TZID=America/Los_Angeles:20210814T180000
DTSTAMP:20260425T041012
CREATED:20210815T070255Z
LAST-MODIFIED:20210815T070255Z
UID:9023-1628960400-1628964000@www.ayclogic.com
SUMMARY:5 PM - OOP Python - Nathaniel
DESCRIPTION:Today We:\n\nFinished the SchoolApplication methods to handle the first 3 options of the menu (add\, list\, and find student)\n\nHomework\n\nCreate 3 new methods called add_teacher()\, list_teacher()\, and find_teacher()\nadd_teacher() should ask the user to enter a teacher’s information and add it to the list of teachers in SchoolApplication\nlist_teacher() should print the information of all the teachers in the list of teachers in SchoolApplication\nfind_teacher() should print the teacher’s information if they are in the list\, if they don’t exist then print “This teacher does not exist”\nHint: These three methods are identical to the ones we have already created for the Student class.
URL:https://www.ayclogic.com/event/5-pm-oop-python-nathaniel-2/
CATEGORIES:Python Level 1
END:VEVENT
BEGIN:VEVENT
DTSTART;TZID=America/Los_Angeles:20210814T180000
DTEND;TZID=America/Los_Angeles:20210814T190000
DTSTAMP:20260425T041012
CREATED:20210819T012424Z
LAST-MODIFIED:20210819T012424Z
UID:9046-1628964000-1628967600@www.ayclogic.com
SUMMARY:6 PM - Python Game Development
DESCRIPTION:Today We Do\n\nWe reviewed Final Projects progress\nWe continued with Shoot Balloon project.\n\nHomework\n\nContinue making progress of your Final project.
URL:https://www.ayclogic.com/event/6-pm-python-game-development-155/
CATEGORIES:Python Class,Python Game Development
END:VEVENT
END:VCALENDAR