BEGIN:VCALENDAR
VERSION:2.0
PRODID:-//American Young Coder - ECPv6.10.1.1//NONSGML v1.0//EN
CALSCALE:GREGORIAN
METHOD:PUBLISH
X-WR-CALNAME:American Young Coder
X-ORIGINAL-URL:https://www.ayclogic.com
X-WR-CALDESC:Events for American Young Coder
REFRESH-INTERVAL;VALUE=DURATION:PT1H
X-Robots-Tag:noindex
X-PUBLISHED-TTL:PT1H
BEGIN:VTIMEZONE
TZID:America/Los_Angeles
BEGIN:DAYLIGHT
TZOFFSETFROM:-0800
TZOFFSETTO:-0700
TZNAME:PDT
DTSTART:20210314T100000
END:DAYLIGHT
BEGIN:STANDARD
TZOFFSETFROM:-0700
TZOFFSETTO:-0800
TZNAME:PST
DTSTART:20211107T090000
END:STANDARD
END:VTIMEZONE
BEGIN:VEVENT
DTSTART;TZID=America/Los_Angeles:20210815T190000
DTEND;TZID=America/Los_Angeles:20210815T200000
DTSTAMP:20260425T041636
CREATED:20210819T080854Z
LAST-MODIFIED:20210819T080854Z
UID:9057-1629054000-1629057600@www.ayclogic.com
SUMMARY:7PM - Intro to Python
DESCRIPTION:Today we learned:\n\nFinished Magic 8 Ball using random.randint()\nCreated Magic 8 Ball using random.choice()\n\nHomework:\n\nDo exercise 1 and 2 from Star Wars Problem Website\, and do it in a file called Aug15_StarWarsHomework.py\n\nIf you have any questions\, please send an email to latisha@ayclogic.com
URL:https://www.ayclogic.com/event/7pm-intro-to-python-21/
END:VEVENT
END:VCALENDAR