BEGIN:VCALENDAR
VERSION:2.0
PRODID:-//American Young Coder - ECPv6.10.1.1//NONSGML v1.0//EN
CALSCALE:GREGORIAN
METHOD:PUBLISH
X-ORIGINAL-URL:https://www.ayclogic.com
X-WR-CALDESC:Events for American Young Coder
REFRESH-INTERVAL;VALUE=DURATION:PT1H
X-Robots-Tag:noindex
X-PUBLISHED-TTL:PT1H
BEGIN:VTIMEZONE
TZID:America/Los_Angeles
BEGIN:DAYLIGHT
TZOFFSETFROM:-0800
TZOFFSETTO:-0700
TZNAME:PDT
DTSTART:20210314T100000
END:DAYLIGHT
BEGIN:STANDARD
TZOFFSETFROM:-0700
TZOFFSETTO:-0800
TZNAME:PST
DTSTART:20211107T090000
END:STANDARD
END:VTIMEZONE
BEGIN:VEVENT
DTSTART;TZID=America/Los_Angeles:20210820T190000
DTEND;TZID=America/Los_Angeles:20210820T200000
DTSTAMP:20260424T202546
CREATED:20210821T025418Z
LAST-MODIFIED:20210821T025418Z
UID:9067-1629486000-1629489600@www.ayclogic.com
SUMMARY:7 PM - Python OOP
DESCRIPTION:Today We Do\n\nWe learned about Python Dictionary\nWe learned how to go through each element inside dictionary.\nWe learned how to check if the key exists inside dictionary.\n\nHomework\n\nCreate python file Aug20_DictionaryHomework.py\nDo exercises in\n\nPage 92 to 97.\nPage 99 TRY IT YOURSELF. 6-1 and 6-2\n\n\n\n 
URL:https://www.ayclogic.com/event/7-pm-python-oop/
CATEGORIES:OOP Python,Python Class
END:VEVENT
END:VCALENDAR