BEGIN:VCALENDAR
VERSION:2.0
PRODID:-//American Young Coder - ECPv6.10.1.1//NONSGML v1.0//EN
CALSCALE:GREGORIAN
METHOD:PUBLISH
X-ORIGINAL-URL:https://www.ayclogic.com
X-WR-CALDESC:Events for American Young Coder
REFRESH-INTERVAL;VALUE=DURATION:PT1H
X-Robots-Tag:noindex
X-PUBLISHED-TTL:PT1H
BEGIN:VTIMEZONE
TZID:America/Los_Angeles
BEGIN:DAYLIGHT
TZOFFSETFROM:-0800
TZOFFSETTO:-0700
TZNAME:PDT
DTSTART:20210314T100000
END:DAYLIGHT
BEGIN:STANDARD
TZOFFSETFROM:-0700
TZOFFSETTO:-0800
TZNAME:PST
DTSTART:20211107T090000
END:STANDARD
END:VTIMEZONE
BEGIN:VEVENT
DTSTART;TZID=America/Los_Angeles:20210822T090000
DTEND;TZID=America/Los_Angeles:20210822T100000
DTSTAMP:20260425T065928
CREATED:20210822T025650Z
LAST-MODIFIED:20210822T025650Z
UID:9095-1629622800-1629626400@www.ayclogic.com
SUMMARY:9 AM - Scratch 1
DESCRIPTION:Today We Do\n\nWe completed Happy Birthday electronic card\nWe learn how to share Scratch project.\nWe started Spiralizer project until page 96\n\nHomework\n\ncontinue on Spiralizer project form page 97 to 99
URL:https://www.ayclogic.com/event/9-am-scratch-1-6/
CATEGORIES:Scratch Class,Scratch Class Level 1
END:VEVENT
BEGIN:VEVENT
DTSTART;TZID=America/Los_Angeles:20210822T190000
DTEND;TZID=America/Los_Angeles:20210822T200000
DTSTAMP:20260425T065928
CREATED:20210824T010744Z
LAST-MODIFIED:20210824T021712Z
UID:9109-1629658800-1629662400@www.ayclogic.com
SUMMARY:7PM - Intro to Python
DESCRIPTION:Today we did:\n\nReviewed functions\nStarted working on Hangman game\n\nHomework:\n\nContinuously (forever loop) get user input and ask the user “Guess a letter or the whole word: ” and save the input into a variable called user_guess. If the user’s guess is equal to the secret word\, break from the loop and print “Congratulations you have won the game”.\nExample output:\n\nSecret word is kraken\n\nGuess a letter or the whole word: asd \n\nGuess a letter or the whole word: dragon \n\nGuess a letter or the whole word: kraken \n\nCongratulation you have won the game.\nIf you have any questions\, please send an email to latisha@ayclogic.com
URL:https://www.ayclogic.com/event/7pm-intro-to-python-22/
END:VEVENT
END:VCALENDAR