BEGIN:VCALENDAR
VERSION:2.0
PRODID:-//American Young Coder - ECPv6.10.1.1//NONSGML v1.0//EN
CALSCALE:GREGORIAN
METHOD:PUBLISH
X-ORIGINAL-URL:https://www.ayclogic.com
X-WR-CALDESC:Events for American Young Coder
REFRESH-INTERVAL;VALUE=DURATION:PT1H
X-Robots-Tag:noindex
X-PUBLISHED-TTL:PT1H
BEGIN:VTIMEZONE
TZID:America/Los_Angeles
BEGIN:DAYLIGHT
TZOFFSETFROM:-0800
TZOFFSETTO:-0700
TZNAME:PDT
DTSTART:20210314T100000
END:DAYLIGHT
BEGIN:STANDARD
TZOFFSETFROM:-0700
TZOFFSETTO:-0800
TZNAME:PST
DTSTART:20211107T090000
END:STANDARD
END:VTIMEZONE
BEGIN:VEVENT
DTSTART;TZID=America/Los_Angeles:20210826T170000
DTEND;TZID=America/Los_Angeles:20210826T180000
DTSTAMP:20260425T010927
CREATED:20210827T010817Z
LAST-MODIFIED:20210827T010817Z
UID:9132-1629997200-1630000800@www.ayclogic.com
SUMMARY:5 PM - Scratch Level 1 - Allison
DESCRIPTION:Today we: \n\nused variables to control the spiralizer’s angle\, speed\, and pen width\nset the angle and speed to a certain number when the Green Flag is clicked\nerased all pen drawings and deleted clones when the space key is pressed\nforever changed the pen color\nfinished the Spiralizer Project\n\n  \nHomework: \n\nread and do the codes in Scratch Book Pg. 124-126\nif you want\, you can choose any song you want instead of the “Drive Around” song that the book tells you to use\ncontact us if you need any help or have any questions\n\n 
URL:https://www.ayclogic.com/event/5-pm-scratch-level-1-allison-12/
CATEGORIES:Scratch Class,Scratch Class Level 1
END:VEVENT
BEGIN:VEVENT
DTSTART;TZID=America/Los_Angeles:20210826T170000
DTEND;TZID=America/Los_Angeles:20210826T180000
DTSTAMP:20260425T010927
CREATED:20210902T234315Z
LAST-MODIFIED:20210902T234315Z
UID:9250-1629997200-1630000800@www.ayclogic.com
SUMMARY:5 PM - Scratch 1 - Alex Lee
DESCRIPTION:Today We Do\n\nWe continued on Window Cleaner project.\nWe started Punch the Dummy project.\n\nHomework\n\nNo homework
URL:https://www.ayclogic.com/event/5-pm-scratch-1-alex-lee/
CATEGORIES:Scratch Class,Scratch Class Level 1
END:VEVENT
BEGIN:VEVENT
DTSTART;TZID=America/Los_Angeles:20210826T180000
DTEND;TZID=America/Los_Angeles:20210826T190000
DTSTAMP:20260425T010927
CREATED:20210827T021941Z
LAST-MODIFIED:20210827T021941Z
UID:9136-1630000800-1630004400@www.ayclogic.com
SUMMARY:6 PM - Intro To Java
DESCRIPTION:Homework:\n\nContinue with MonsterInheritanceSystem. Inside run() method\, when user enter “exit” stop the loop and print “Thank you for playing AYCLOGIC Monster Game.” and stop the program.\nIf user enter a monster name that is not in the system\, just print “We cannot find <monster name> in our system.”\nCreate Phoenix.java class. This class needs to inherits from Monster.java class. Override “doDamage” method so when magicAttack is equal to “fire”\, print “Fire magic attack will do no damage to Phoenix” and do not reduce the health.\nCreate WaterGolem.java class. This class needs to inherits from Monster.java class. Override “doDamage” method so when magicAttack is equal to “water”\, print “Water magic attack will do no damage to Water Golem” and do not reduce the health.
URL:https://www.ayclogic.com/event/6-pm-intro-to-java-29/
CATEGORIES:Introduction To Java,Java
END:VEVENT
BEGIN:VEVENT
DTSTART;TZID=America/Los_Angeles:20210826T190000
DTEND;TZID=America/Los_Angeles:20210826T200000
DTSTAMP:20260425T010927
CREATED:20210827T032955Z
LAST-MODIFIED:20210827T032955Z
UID:9138-1630004400-1630008000@www.ayclogic.com
SUMMARY:7 PM - Python Game Development
DESCRIPTION:Today We Do\n\nWe reviewed Python game projects from each team.\nWe continued with Shoot Balloon project\n\nHomework\n\nThere are some polishing and final touch still need to be done with each team’s Python game projects\, please do them.\nIn Shoot Balloon project\, make the bug move left and right. When they are off the screen\, kill the bug.
URL:https://www.ayclogic.com/event/7-pm-python-game-development-77/
CATEGORIES:Python Class,Python Game Development
END:VEVENT
END:VCALENDAR