BEGIN:VCALENDAR
VERSION:2.0
PRODID:-//American Young Coder - ECPv6.10.1.1//NONSGML v1.0//EN
CALSCALE:GREGORIAN
METHOD:PUBLISH
X-WR-CALNAME:American Young Coder
X-ORIGINAL-URL:https://www.ayclogic.com
X-WR-CALDESC:Events for American Young Coder
REFRESH-INTERVAL;VALUE=DURATION:PT1H
X-Robots-Tag:noindex
X-PUBLISHED-TTL:PT1H
BEGIN:VTIMEZONE
TZID:America/Los_Angeles
BEGIN:DAYLIGHT
TZOFFSETFROM:-0800
TZOFFSETTO:-0700
TZNAME:PDT
DTSTART:20210314T100000
END:DAYLIGHT
BEGIN:STANDARD
TZOFFSETFROM:-0700
TZOFFSETTO:-0800
TZNAME:PST
DTSTART:20211107T090000
END:STANDARD
END:VTIMEZONE
BEGIN:VEVENT
DTSTART;TZID=America/Los_Angeles:20210828T080000
DTEND;TZID=America/Los_Angeles:20210828T090000
DTSTAMP:20260425T041016
CREATED:20210828T171028Z
LAST-MODIFIED:20210828T171028Z
UID:9153-1630137600-1630141200@www.ayclogic.com
SUMMARY:8 AM - Intro To Java
DESCRIPTION:Intro To Java Final Test retake. 2 hours
URL:https://www.ayclogic.com/event/8-am-intro-to-java-2/
CATEGORIES:Introduction To Java,Java
END:VEVENT
BEGIN:VEVENT
DTSTART;TZID=America/Los_Angeles:20210828T100000
DTEND;TZID=America/Los_Angeles:20210828T110000
DTSTAMP:20260425T041016
CREATED:20210828T041512Z
LAST-MODIFIED:20210828T041512Z
UID:9151-1630144800-1630148400@www.ayclogic.com
SUMMARY:SAT - 10 AM - Scratch 1 - Indo
DESCRIPTION:Today We Do\n\nWe finished Tunnel Of Doom project.\n\nHomework\n\nNo homework next week.
URL:https://www.ayclogic.com/event/sat-10-am-scratch-1-indo-5/
CATEGORIES:OOP Python,Python Class
END:VEVENT
BEGIN:VEVENT
DTSTART;TZID=America/Los_Angeles:20210828T100000
DTEND;TZID=America/Los_Angeles:20210828T110000
DTSTAMP:20260425T041016
CREATED:20210828T171143Z
LAST-MODIFIED:20210828T180254Z
UID:9155-1630144800-1630148400@www.ayclogic.com
SUMMARY:10 AM - Intro To Java
DESCRIPTION:Today We Do\n\nWe continued with School Application.\nWe learned about Map and HashMap.\n\nHomework\n\nAdd code inside School Application to be able to find student using HashMap.\nThere is no class on September 4 because of Labor day weekends. Happy holiday.
URL:https://www.ayclogic.com/event/10-am-intro-to-java-13/
CATEGORIES:Introduction To Java,Java
END:VEVENT
BEGIN:VEVENT
DTSTART;TZID=America/Los_Angeles:20210828T120000
DTEND;TZID=America/Los_Angeles:20210828T130000
DTSTAMP:20260425T041016
CREATED:20210828T190325Z
LAST-MODIFIED:20210828T195816Z
UID:9162-1630152000-1630155600@www.ayclogic.com
SUMMARY:12 PM - Advanced Python Game Development
DESCRIPTION:Today We Do\n\nWe completed Shields\nWe display powerup sprite on empty space on the map.\n\nHomework\n\nMake the powerup show up once every 5 seconds.\nAdd collision detection between player tank and the powerup sprite. If they collide enable player’s shield. Make sure you remove the code that will automatically enabled the player’s shield now.\nDo the same thing with enemy tank and the powerup sprite.\nThere is no class on Sept 4 because labor day weekend.
URL:https://www.ayclogic.com/event/12-pm-advanced-python-game-development-11/
CATEGORIES:Advanced Python Game Development,Python Class
END:VEVENT
BEGIN:VEVENT
DTSTART;TZID=America/Los_Angeles:20210828T120000
DTEND;TZID=America/Los_Angeles:20210828T130000
DTSTAMP:20260425T041016
CREATED:20210828T195759Z
LAST-MODIFIED:20210828T220438Z
UID:9166-1630152000-1630155600@www.ayclogic.com
SUMMARY:12 PM - Python Game Development
DESCRIPTION:Today: \n\n Introductions and class overview\nReview how to create and use classes.\nLearned about inheritance: Student/Human example.\n\nHomework: \n\nRead and do the examples and exercises from page 167 to page 169.
URL:https://www.ayclogic.com/event/12-pm-python-game-development-23/
CATEGORIES:Python Game Development
END:VEVENT
BEGIN:VEVENT
DTSTART;TZID=America/Los_Angeles:20210828T130000
DTEND;TZID=America/Los_Angeles:20210828T140000
DTSTAMP:20260425T041016
CREATED:20210828T215405Z
LAST-MODIFIED:20210828T220247Z
UID:9170-1630155600-1630159200@www.ayclogic.com
SUMMARY:1 PM - Python Game Development
DESCRIPTION:Today \n\nWe went over the final projects.\nMake sure you check your project is working before you commit changes.  Work with your teammate to also make sure it still works on their computer.\n\nHomework \n\nContinue your final projects.  Email questions to chet@ayclogic.com.
URL:https://www.ayclogic.com/event/1-pm-python-game-development-32/
CATEGORIES:Python Game Development
END:VEVENT
BEGIN:VEVENT
DTSTART;TZID=America/Los_Angeles:20210828T130000
DTEND;TZID=America/Los_Angeles:20210828T140000
DTSTAMP:20260425T041016
CREATED:20210830T035358Z
LAST-MODIFIED:20210830T035358Z
UID:9211-1630155600-1630159200@www.ayclogic.com
SUMMARY:1PM - Object Oriented Python
DESCRIPTION:Today we did:\n\nContinued working on Supermarket\n\nContinued working on application_loop\n\n\n\nHomework:\n\nIf the item’s frozen_food attribute is True\, print “Store this in the refrigerator”\n\nIf you have any questions\, please send an email to latisha@ayclogic.com
URL:https://www.ayclogic.com/event/1pm-object-oriented-python-2/
END:VEVENT
BEGIN:VEVENT
DTSTART;TZID=America/Los_Angeles:20210828T140000
DTEND;TZID=America/Los_Angeles:20210828T150000
DTSTAMP:20260425T041016
CREATED:20210828T232705Z
LAST-MODIFIED:20210828T232705Z
UID:9180-1630159200-1630162800@www.ayclogic.com
SUMMARY:2 PM - Intro To Python - Gamas
DESCRIPTION:Today We Do\n\nWe continue with Hangman game. We display the clues (“?”) properly according to the number of letter inside the secret word\nWe learned how to use a different unicode symbol other than heart symbol.\nWe learned how to reduce the health when user made a wrong guess.\nWhen health == 0\, we break from the loop.\n\nHomework\n\nWhen health == 0\, right now it will break from the loop\, but it will print “Congratulation you have won the game.” which is wrong. Change the code so when you break from the loop\, when the player’s health is finished\, it needs to display “HA HA HA!! you lose: <secret word>”
URL:https://www.ayclogic.com/event/2-pm-intro-to-python-gamas-3/
CATEGORIES:Python Class,Python Level 1
END:VEVENT
BEGIN:VEVENT
DTSTART;TZID=America/Los_Angeles:20210828T140000
DTEND;TZID=America/Los_Angeles:20210828T150000
DTSTAMP:20260425T041016
CREATED:20210830T035031Z
LAST-MODIFIED:20210911T210430Z
UID:9209-1630159200-1630162800@www.ayclogic.com
SUMMARY:2PM - Intro to Python - Latisha
DESCRIPTION:Today we learned:\n\nHow to make For loops using Range\n\nHomework:\n\nDo pg.118 and pg.121 from the textbook in a file called Aug28_WhileLoopHomework\n\nThere is no class next week due to Labour Day Holiday. See you in two weeks! \nIf you have any questions\, please send an email to latisha@ayclogic.com
URL:https://www.ayclogic.com/event/2pm-intro-to-python-3/
END:VEVENT
BEGIN:VEVENT
DTSTART;TZID=America/Los_Angeles:20210828T150000
DTEND;TZID=America/Los_Angeles:20210828T160000
DTSTAMP:20260425T041016
CREATED:20210828T231235Z
LAST-MODIFIED:20210901T024448Z
UID:9176-1630162800-1630166400@www.ayclogic.com
SUMMARY:3pm Scratch Level 1 – Bill
DESCRIPTION:Today We:\n\nWent over the Octagon in the shapes in grid printout\nMoved into Scratch and started a new Shapes In Grid Project\nMade the Background have the Grid to help us see\nLearned how to use the Pen tool/extension\nDrew the Square and Triangle onto the Screen\n\nYour HW:\n\nNo Class on September 4th\, Class will resume on September 11th\nBroadcast a new message “Rectangle”\nAdd a When I Receive “Rectangle” code\nUnder the When I Receive\, draw the rectangle just like the way we drew the Square and Triangle in class\nRepeat steps 1-3 except make the new message called “Octagon” and draw the octagon
URL:https://www.ayclogic.com/event/3pm-scratch-level-1-bill-2/
END:VEVENT
BEGIN:VEVENT
DTSTART;TZID=America/Los_Angeles:20210828T150000
DTEND;TZID=America/Los_Angeles:20210828T160000
DTSTAMP:20260425T041016
CREATED:20210828T232357Z
LAST-MODIFIED:20210828T233115Z
UID:9175-1630162800-1630166400@www.ayclogic.com
SUMMARY:3 PM - Scratch Level 1 - Allison
DESCRIPTION:Today we:\n\nfinished the Mary Had a Little Lamb project\nstarted the Virtual Snow project\ncreated the snowflake sprite and background\ncreated clones of the snowflake sprite\nstarted coding the clones to move\n\nHomework:\n\nread and do the codes on Scratch Book Pg. 147-148\, Steps #7-9\n\n\nNote: Click on “Scratch Book Pg. 147-148\, Steps #7-9” above to see the book pages for homework\nNote: To do this homework\, you can just add new codes to the codes you already have in your Virtual Snow project\nNote: There is no class next week to observe Labor Day weekend. The school will not have classes on September 4 – September 6. Our next class be on September 11\n\n 
URL:https://www.ayclogic.com/event/3-pm-scratch-level-1-allison/
CATEGORIES:Scratch Class,Scratch Class Level 1
END:VEVENT
BEGIN:VEVENT
DTSTART;TZID=America/Los_Angeles:20210828T150000
DTEND;TZID=America/Los_Angeles:20210828T160000
DTSTAMP:20260425T041016
CREATED:20210828T233025Z
LAST-MODIFIED:20210828T233025Z
UID:9188-1630162800-1630166400@www.ayclogic.com
SUMMARY:3 PM - Python Game Development
DESCRIPTION:Today We Do\n\nWe continued with Tower of Defense game. We make sure the enemy waves is working properly.\n\nHomework\n\nRaelyn\, Corey and Bradley: change the play button to be smaller. Use pygame.transform.scale(…). And fix the broken player movement. The y coordinate needs to be changed.\nKyle and Anderson: display the health on the screen. Look at how we draw_score in Birdie project.
URL:https://www.ayclogic.com/event/3-pm-python-game-development-41/
END:VEVENT
BEGIN:VEVENT
DTSTART;TZID=America/Los_Angeles:20210828T160000
DTEND;TZID=America/Los_Angeles:20210828T170000
DTSTAMP:20260425T041016
CREATED:20210830T001053Z
LAST-MODIFIED:20210902T031529Z
UID:9200-1630166400-1630170000@www.ayclogic.com
SUMMARY:4 PM - Intro to Python - Nathaniel
DESCRIPTION:Today We:\n\nMade requests to current project proposals\nFinished learning about Spiral image in turtle\n\nHomework\n\nEmail nathaniel@ayclogic.com a picture of your edited project proposal\nFinal Project Criteria Link: https://www.ayclogic.com/intro-to-python-final-project-criteria/\nBegin coding your project\, I will be checking the progress each class period\nFinal Project due date: October 2\nReminder: No class next week due to labor day!\n\n  \nIf you have any questions please feel free to email me at nathaniel@ayclogic.com!
URL:https://www.ayclogic.com/event/4-pm-intro-to-python-nathaniel-6/
CATEGORIES:Python Level 1
END:VEVENT
BEGIN:VEVENT
DTSTART;TZID=America/Los_Angeles:20210828T170000
DTEND;TZID=America/Los_Angeles:20210828T180000
DTSTAMP:20260425T041016
CREATED:20210830T001240Z
LAST-MODIFIED:20210830T001240Z
UID:9202-1630170000-1630173600@www.ayclogic.com
SUMMARY:5 PM - OOP in Python - Nathaniel
DESCRIPTION:Today We:\n\nFinished working on the first version of the ShoppingCart Application.\n\nHomework\n\nNo homework!\nReminder: No class next week due to labor day!\n\nIf you have any questions\, feel free to email me at nathaniel@ayc.logic.com
URL:https://www.ayclogic.com/event/5-pm-oop-in-python-nathaniel-2/
CATEGORIES:Python Level 1
END:VEVENT
BEGIN:VEVENT
DTSTART;TZID=America/Los_Angeles:20210828T180000
DTEND;TZID=America/Los_Angeles:20210828T190000
DTSTAMP:20260425T041016
CREATED:20210829T005645Z
LAST-MODIFIED:20210829T015724Z
UID:9193-1630173600-1630177200@www.ayclogic.com
SUMMARY:6 PM - Python Game Development
DESCRIPTION:Today We Do\n\nWe reviewed final projects from each team.\nWe continued with Shoot Balloon project.\n\nHomework\n\nThere is no class on September 4 because of labor day weekend. The class will resume on September 11.\nFinished whatever left over on your Final Project. This is an extension\, it is supposed to be due today.\nIn shoot balloon project do the following 3 things then target collide with balloon and user click the mouse\n\nIncrease score according to balloon.speed\nplay plop.wav sound effect\nDisplay score on the screen.
URL:https://www.ayclogic.com/event/6-pm-python-game-development-158/
CATEGORIES:Python Class,Python Game Development
END:VEVENT
END:VCALENDAR