BEGIN:VCALENDAR
VERSION:2.0
PRODID:-//American Young Coder - ECPv6.10.1.1//NONSGML v1.0//EN
CALSCALE:GREGORIAN
METHOD:PUBLISH
X-ORIGINAL-URL:https://www.ayclogic.com
X-WR-CALDESC:Events for American Young Coder
REFRESH-INTERVAL;VALUE=DURATION:PT1H
X-Robots-Tag:noindex
X-PUBLISHED-TTL:PT1H
BEGIN:VTIMEZONE
TZID:America/Los_Angeles
BEGIN:DAYLIGHT
TZOFFSETFROM:-0800
TZOFFSETTO:-0700
TZNAME:PDT
DTSTART:20210314T100000
END:DAYLIGHT
BEGIN:STANDARD
TZOFFSETFROM:-0700
TZOFFSETTO:-0800
TZNAME:PST
DTSTART:20211107T090000
END:STANDARD
END:VTIMEZONE
BEGIN:VEVENT
DTSTART;TZID=America/Los_Angeles:20210831T150000
DTEND;TZID=America/Los_Angeles:20210831T160000
DTSTAMP:20260424T201603
CREATED:20210907T011150Z
LAST-MODIFIED:20210907T011244Z
UID:9274-1630422000-1630425600@www.ayclogic.com
SUMMARY:3PM - Python Game Development
DESCRIPTION:Today we did:\n\nStarted Tank Game\n\nWorked on Tank sprite\n\n\n\nHomework:\n\nadd all the directions to config and choose the right image for self.image depending on the direction.\nCreate the update function for Tank. Call next_costume and blit the tank to the screen.\nCreate a tank in main.py and display it in the game loop\n\nThere is no class next week due to Labour Day Holiday. See you in two weeks! \nIf you have any questions\, please send an email to latisha@ayclogic.com
URL:https://www.ayclogic.com/event/3pm-python-game-development-7/
END:VEVENT
BEGIN:VEVENT
DTSTART;TZID=America/Los_Angeles:20210831T180000
DTEND;TZID=America/Los_Angeles:20210831T190000
DTSTAMP:20260424T201603
CREATED:20210901T015433Z
LAST-MODIFIED:20210901T015433Z
UID:9232-1630432800-1630436400@www.ayclogic.com
SUMMARY:6 PM- Intro to Python - Nathaniel
DESCRIPTION:What we did today: \n\nFinished learning about functions with return values\nPracticed problems with functions with return values\n\nHomework: \n\nPage 137 Try-it-yourself (8-3\,8-4\,8-5)\n\nIf you have any questions\, feel free to email me at nathaniel@ayclogic.com
URL:https://www.ayclogic.com/event/6-pm-intro-to-python-nathaniel-5/
CATEGORIES:Python Level 1
END:VEVENT
BEGIN:VEVENT
DTSTART;TZID=America/Los_Angeles:20210831T180000
DTEND;TZID=America/Los_Angeles:20210831T190000
DTSTAMP:20260424T201603
CREATED:20210901T020101Z
LAST-MODIFIED:20210901T020101Z
UID:9234-1630432800-1630436400@www.ayclogic.com
SUMMARY:6 PM - Intro To Java
DESCRIPTION:Homework\n\nFigure out why when we attack Phoenix with fire magic attack\, the phoenix health is still being reduced. Look at DriverSystem project and see where we use CarRacerDriver\, NewYorkCityDriver and SlowDriver. You should do similar thing with Phoenix and WaterGolem class.\nWhen user chose “Hand to hand attack”\, just reduce the monster health by 10.\nPlease download https://developer.android.com/studio
URL:https://www.ayclogic.com/event/6-pm-intro-to-java-30/
CATEGORIES:Introduction To Java,Java
END:VEVENT
END:VCALENDAR