BEGIN:VCALENDAR
VERSION:2.0
PRODID:-//American Young Coder - ECPv6.10.1.1//NONSGML v1.0//EN
CALSCALE:GREGORIAN
METHOD:PUBLISH
X-WR-CALNAME:American Young Coder
X-ORIGINAL-URL:https://www.ayclogic.com
X-WR-CALDESC:Events for American Young Coder
REFRESH-INTERVAL;VALUE=DURATION:PT1H
X-Robots-Tag:noindex
X-PUBLISHED-TTL:PT1H
BEGIN:VTIMEZONE
TZID:America/Los_Angeles
BEGIN:DAYLIGHT
TZOFFSETFROM:-0800
TZOFFSETTO:-0700
TZNAME:PDT
DTSTART:20210314T100000
END:DAYLIGHT
BEGIN:STANDARD
TZOFFSETFROM:-0700
TZOFFSETTO:-0800
TZNAME:PST
DTSTART:20211107T090000
END:STANDARD
END:VTIMEZONE
BEGIN:VEVENT
DTSTART;TZID=America/Los_Angeles:20210903T190000
DTEND;TZID=America/Los_Angeles:20210903T200000
DTSTAMP:20260424T184816
CREATED:20210904T025721Z
LAST-MODIFIED:20210904T040724Z
UID:9267-1630695600-1630699200@www.ayclogic.com
SUMMARY:7 PM - Python OOP
DESCRIPTION:Today We Do\n\nWe continued to improve Shopping Cart program to use dictionary and removed code duplication\nWe also created the menu dynamically according to the elements inside the dictionary.\n\nHomework\n\nCreate file Sep3_ClassHomework from Page 158 to 161.
URL:https://www.ayclogic.com/event/7-pm-python-oop-3/
CATEGORIES:OOP Python,Python Class
END:VEVENT
END:VCALENDAR