BEGIN:VCALENDAR
VERSION:2.0
PRODID:-//American Young Coder - ECPv6.10.1.1//NONSGML v1.0//EN
CALSCALE:GREGORIAN
METHOD:PUBLISH
X-ORIGINAL-URL:https://www.ayclogic.com
X-WR-CALDESC:Events for American Young Coder
REFRESH-INTERVAL;VALUE=DURATION:PT1H
X-Robots-Tag:noindex
X-PUBLISHED-TTL:PT1H
BEGIN:VTIMEZONE
TZID:America/Los_Angeles
BEGIN:DAYLIGHT
TZOFFSETFROM:-0800
TZOFFSETTO:-0700
TZNAME:PDT
DTSTART:20210314T100000
END:DAYLIGHT
BEGIN:STANDARD
TZOFFSETFROM:-0700
TZOFFSETTO:-0800
TZNAME:PST
DTSTART:20211107T090000
END:STANDARD
END:VTIMEZONE
BEGIN:VEVENT
DTSTART;TZID=America/Los_Angeles:20210906T080000
DTEND;TZID=America/Los_Angeles:20210906T170000
DTSTAMP:20260424T202054
CREATED:20210907T011803Z
LAST-MODIFIED:20210907T011803Z
UID:9277-1630915200-1630947600@www.ayclogic.com
SUMMARY:4PM - Object Oriented Python
DESCRIPTION:Today we did:\n\nContinued working on Supermarket\n\nCompleted Supermarket version 1\nCreated Version 2 using dictionary for menu\n\n\n\nHomework:\n\nNone\n\nIf you have any questions\, please send an email to latisha@ayclogic.com
URL:https://www.ayclogic.com/event/4pm-object-oriented-python/
END:VEVENT
BEGIN:VEVENT
DTSTART;TZID=America/Los_Angeles:20210906T170000
DTEND;TZID=America/Los_Angeles:20210906T180000
DTSTAMP:20260424T202054
CREATED:20210831T073933Z
LAST-MODIFIED:20210831T073933Z
UID:9224-1630947600-1630951200@www.ayclogic.com
SUMMARY:5PM - Beginner Digital Illustration - NO CLASS
DESCRIPTION:NO CLASS! \nHappy Labor Day \nHomework reminder -> Please fill out THIS FORM to submit your work from the class\, and the Final Project. \nSee you next week for the Advanced Digital Illustration!
URL:https://www.ayclogic.com/event/5pm-beginner-digital-illustration-no-class-2/
CATEGORIES:Beginner Digital Illustration,Digital Illustration
END:VEVENT
BEGIN:VEVENT
DTSTART;TZID=America/Los_Angeles:20210906T180000
DTEND;TZID=America/Los_Angeles:20210906T190000
DTSTAMP:20260424T202054
CREATED:20210831T080413Z
LAST-MODIFIED:20210831T080413Z
UID:9228-1630951200-1630954800@www.ayclogic.com
SUMMARY:6PM - Advanced Digital Illustration - NO CLASS
DESCRIPTION:NO CLASS \nHomework Reminder: Please think about your character for your final project and fill out THIS FORM to submit your ideas. \nSee you next week. 🙂
URL:https://www.ayclogic.com/event/6pm-advanced-digital-illustration-no-class/
CATEGORIES:Digital Illustration,Intermediate Digital Illustration
END:VEVENT
END:VCALENDAR