BEGIN:VCALENDAR
VERSION:2.0
PRODID:-//American Young Coder - ECPv6.10.1.1//NONSGML v1.0//EN
CALSCALE:GREGORIAN
METHOD:PUBLISH
X-ORIGINAL-URL:https://www.ayclogic.com
X-WR-CALDESC:Events for American Young Coder
REFRESH-INTERVAL;VALUE=DURATION:PT1H
X-Robots-Tag:noindex
X-PUBLISHED-TTL:PT1H
BEGIN:VTIMEZONE
TZID:America/Los_Angeles
BEGIN:DAYLIGHT
TZOFFSETFROM:-0800
TZOFFSETTO:-0700
TZNAME:PDT
DTSTART:20210314T100000
END:DAYLIGHT
BEGIN:STANDARD
TZOFFSETFROM:-0700
TZOFFSETTO:-0800
TZNAME:PST
DTSTART:20211107T090000
END:STANDARD
END:VTIMEZONE
BEGIN:VEVENT
DTSTART;TZID=America/Los_Angeles:20210909T160000
DTEND;TZID=America/Los_Angeles:20210909T170000
DTSTAMP:20260424T202524
CREATED:20210915T180800Z
LAST-MODIFIED:20210915T180800Z
UID:9392-1631203200-1631206800@www.ayclogic.com
SUMMARY:4PM - Object Oriented Python
DESCRIPTION:Today we did:\n\nLearned about Inheritance\nStarted Adventure Game\n\nHomework:\n\nDo pg. 168-170 from the textbook in a file called Sept9_InheritanceHomework.py\n\nIf you have any questions\, please send an email to latisha@ayclogic.com
URL:https://www.ayclogic.com/event/4pm-object-oriented-python-2/
END:VEVENT
BEGIN:VEVENT
DTSTART;TZID=America/Los_Angeles:20210909T170000
DTEND;TZID=America/Los_Angeles:20210909T180000
DTSTAMP:20260424T202524
CREATED:20210910T010643Z
LAST-MODIFIED:20210910T010643Z
UID:9308-1631206800-1631210400@www.ayclogic.com
SUMMARY:5 PM - Scratch Level 1 - Allison
DESCRIPTION:Today we:\n\ncontinued the Tunnel of Doom project\nadded a Home Button sprite and a Banner sprite\ncoded the Cat sprite to stop scripts when it touches the Home Button\nadded at timer\n\nHomework:\n\nread and do the codes from the pink Scratch Book Pg. 132-133\ncontact us if you need any help or have any questions
URL:https://www.ayclogic.com/event/5-pm-scratch-level-1-allison-14/
CATEGORIES:Scratch Class,Scratch Class Level 1
END:VEVENT
BEGIN:VEVENT
DTSTART;TZID=America/Los_Angeles:20210909T170000
DTEND;TZID=America/Los_Angeles:20210909T180000
DTSTAMP:20260424T202524
CREATED:20210914T020309Z
LAST-MODIFIED:20210918T010233Z
UID:9370-1631206800-1631210400@www.ayclogic.com
SUMMARY:5 PM Scratch Level 1 Alexander Lee
DESCRIPTION:Today We Do\n\nContinued with our punch the dummy project\, as well as giving some review on the basics.\n\nFor Homework:\n\nThere’s no homework for this week good luck with school!
URL:https://www.ayclogic.com/event/5-pm-scratch-level-1-alexander-lee-13/
CATEGORIES:Scratch Class,Scratch Class Level 1
END:VEVENT
BEGIN:VEVENT
DTSTART;TZID=America/Los_Angeles:20210909T180000
DTEND;TZID=America/Los_Angeles:20210909T190000
DTSTAMP:20260424T202524
CREATED:20210910T005440Z
LAST-MODIFIED:20210910T032226Z
UID:9306-1631210400-1631214000@www.ayclogic.com
SUMMARY:6 PM - Intro To Java
DESCRIPTION:Today We Do\n\nWe started Temperature Converter Android project\nWe added EditText\, TextView label and button.\n\nHomework\n\nWe added a text field earlier\, your homework is to add one more Plain Text field on the screen. If you forgot how to do it\, click on the main_activity.xml file. Under Palette > Text > Plain Text. Drag to the screen under the first text field. And try to setup the top\, left and right layout constraints.\nHopefully will look something like below
URL:https://www.ayclogic.com/event/6-pm-intro-to-java-33/
CATEGORIES:Introduction To Java,Java
END:VEVENT
BEGIN:VEVENT
DTSTART;TZID=America/Los_Angeles:20210909T190000
DTEND;TZID=America/Los_Angeles:20210909T200000
DTSTAMP:20260424T202524
CREATED:20210910T025456Z
LAST-MODIFIED:20210910T025456Z
UID:9310-1631214000-1631217600@www.ayclogic.com
SUMMARY:7 PM - Python Game Development
DESCRIPTION:Today We Do\n\nWe started doing the loader images loop. Still work in progress\n\nHomework\n\nDisplay “assets/balloon_title.png” and play_button.png in the landing page\nAdd count down timer when game is in session. Look at how we did this in the Flappy Duck.\nWhen the count_down timer goes to 0\, switch to GAME_WIN mode.
URL:https://www.ayclogic.com/event/7-pm-python-game-development-81/
CATEGORIES:Python Class,Python Game Development
END:VEVENT
END:VCALENDAR