BEGIN:VCALENDAR
VERSION:2.0
PRODID:-//American Young Coder - ECPv6.10.1.1//NONSGML v1.0//EN
CALSCALE:GREGORIAN
METHOD:PUBLISH
X-WR-CALNAME:American Young Coder
X-ORIGINAL-URL:https://www.ayclogic.com
X-WR-CALDESC:Events for American Young Coder
REFRESH-INTERVAL;VALUE=DURATION:PT1H
X-Robots-Tag:noindex
X-PUBLISHED-TTL:PT1H
BEGIN:VTIMEZONE
TZID:America/Los_Angeles
BEGIN:DAYLIGHT
TZOFFSETFROM:-0800
TZOFFSETTO:-0700
TZNAME:PDT
DTSTART:20210314T100000
END:DAYLIGHT
BEGIN:STANDARD
TZOFFSETFROM:-0700
TZOFFSETTO:-0800
TZNAME:PST
DTSTART:20211107T090000
END:STANDARD
END:VTIMEZONE
BEGIN:VEVENT
DTSTART;TZID=America/Los_Angeles:20210910T190000
DTEND;TZID=America/Los_Angeles:20210910T200000
DTSTAMP:20260424T182758
CREATED:20210911T025822Z
LAST-MODIFIED:20210911T040518Z
UID:9317-1631300400-1631304000@www.ayclogic.com
SUMMARY:7 PM - Python OOP
DESCRIPTION:Today We Do:\n\nWe went over the class homework\nWe learn about class\nWe learn about __init__ method/constructor\nWe learn about class attributes\n\nHomework\n\nCreate Sep10_ClassHomework2.py\, do exercises from page 162 (TRY IT YOURSELF)\nDownload a new Python Editor called Pycharm Community edition from here: https://www.jetbrains.com/pycharm/download/
URL:https://www.ayclogic.com/event/7-pm-python-oop-4/
END:VEVENT
END:VCALENDAR