BEGIN:VCALENDAR
VERSION:2.0
PRODID:-//American Young Coder - ECPv6.10.1.1//NONSGML v1.0//EN
CALSCALE:GREGORIAN
METHOD:PUBLISH
X-WR-CALNAME:American Young Coder
X-ORIGINAL-URL:https://www.ayclogic.com
X-WR-CALDESC:Events for American Young Coder
REFRESH-INTERVAL;VALUE=DURATION:PT1H
X-Robots-Tag:noindex
X-PUBLISHED-TTL:PT1H
BEGIN:VTIMEZONE
TZID:America/Los_Angeles
BEGIN:DAYLIGHT
TZOFFSETFROM:-0800
TZOFFSETTO:-0700
TZNAME:PDT
DTSTART:20210314T100000
END:DAYLIGHT
BEGIN:STANDARD
TZOFFSETFROM:-0700
TZOFFSETTO:-0800
TZNAME:PST
DTSTART:20211107T090000
END:STANDARD
END:VTIMEZONE
BEGIN:VEVENT
DTSTART;TZID=America/Los_Angeles:20210911T100000
DTEND;TZID=America/Los_Angeles:20210911T110000
DTSTAMP:20260424T182635
CREATED:20210911T040653Z
LAST-MODIFIED:20210911T040653Z
UID:9321-1631354400-1631358000@www.ayclogic.com
SUMMARY:SAT - 10 AM - Scratch 1 - Indo
DESCRIPTION:Today We Do\n\nWe finished Virtual Snow project in page 144.\n\nHomework\n\nNo homework next week
URL:https://www.ayclogic.com/event/sat-10-am-scratch-1-indo-6/
CATEGORIES:Scratch Class,Scratch Class Level 1
END:VEVENT
BEGIN:VEVENT
DTSTART;TZID=America/Los_Angeles:20210911T100000
DTEND;TZID=America/Los_Angeles:20210911T110000
DTSTAMP:20260424T182635
CREATED:20210911T181610Z
LAST-MODIFIED:20210911T181610Z
UID:9324-1631354400-1631358000@www.ayclogic.com
SUMMARY:10 AM - Intro To Java
DESCRIPTION:Today We Do\n\nWe reviewed HashMap topic\, how to use it. Key and Value datatype\nWe added feature to find student using HashMap\n\nHomework\n\nInside SAT10AM_SchoolApplication\, change initializeStudents() to also add all 4 students inside studentMap.\nSimilar to “12. Find student using HashMap”\, add new feature “13. Find teacher using HashMap”\nInside SAT10AM_IntroToJava project\, create a new Java file September11_HashMapExercise2.java. Add a new HashMap<String\, String> nameToAddress. Create a small application to be able to add a new address and find an address according to its name continuously. Look at example below\n\nWelcome to AYCLOGIC address finder\n\nWhat do you want to do:\n1. Enter a new name and address\n2. Find an address according to name\nEnter your selection or 'exit' to quit: 1\n\nEnter a name: GAMas\nEnter an address: 9127 Ardendale Avenue\, San Gabriel\, CA 91775\nYou have entered GAMas address.\n\nWhat do you want to do:\n1. Enter a new name and address\n2. Find an address according to name\nEnter your selection or 'exit' to quit: 2\n\nEnter a name: Gamas\nGAMas address is 9127 Ardendale Avenue\, San Gabriel\, CA 91775\n\nWhat do you want to do:\n1. Enter a new name and address\n2. Find an address according to name\nEnter your selection or 'exit' to quit: exit\n\nBye bye
URL:https://www.ayclogic.com/event/10-am-intro-to-java-14/
CATEGORIES:Introduction To Java,Java
END:VEVENT
BEGIN:VEVENT
DTSTART;TZID=America/Los_Angeles:20210911T120000
DTEND;TZID=America/Los_Angeles:20210911T130000
DTSTAMP:20260424T182635
CREATED:20210911T201049Z
LAST-MODIFIED:20210911T202151Z
UID:9327-1631361600-1631365200@www.ayclogic.com
SUMMARY:12 PM - Python Game Development - Chet
DESCRIPTION:Today We Do\n\nWe reviewed Car and ElectricCar classes and how ElectricCar inherits Car class.\nWe reviewed how ElectriCar class can override fill_up_the_gas method.\nI uploaded the files that we did in the class today in here: https://drive.google.com/drive/folders/1HTpfefGJBLnFg5SozZ3It7lHtnmlLc_z?usp=sharing\n\nHomework\n\nDo TRY IT YOURSELF from page 173. Just do the 9-6 Ice Cream Stand
URL:https://www.ayclogic.com/event/12-pm-python-game-development-chet/
CATEGORIES:Python Class,Python Game Development
END:VEVENT
BEGIN:VEVENT
DTSTART;TZID=America/Los_Angeles:20210911T120000
DTEND;TZID=America/Los_Angeles:20210911T130000
DTSTAMP:20260424T182635
CREATED:20210911T201848Z
LAST-MODIFIED:20210911T201848Z
UID:9329-1631361600-1631365200@www.ayclogic.com
SUMMARY:12 PM - Advanced Python Game Development
DESCRIPTION:Today We Do\n\nWe added the code to activate the shield when one of the tanks collide with the powerup sprite.\nWe added the code that will display GAME OVER page.\n\nHomework\n\nAdd sound effects\n\nWhen bullet hit the wall\, play “assets/audio/hit1.wav” sound effect\nWhen bullet hit any of the tank\, play “assets/audio/explodify.wav”\nWhen any of the tank launch bullet\, play “assets/audio/TankFiring.wav”
URL:https://www.ayclogic.com/event/12-pm-advanced-python-game-development-12/
CATEGORIES:Advanced Python Game Development,Python Class
END:VEVENT
BEGIN:VEVENT
DTSTART;TZID=America/Los_Angeles:20210911T140000
DTEND;TZID=America/Los_Angeles:20210911T150000
DTSTAMP:20260424T182635
CREATED:20210911T220740Z
LAST-MODIFIED:20210911T220740Z
UID:9333-1631368800-1631372400@www.ayclogic.com
SUMMARY:2PM - Intro to Python - Latisha
DESCRIPTION:Today we learned:\n\nHow to make while loops\nHow to break from a forever loop\n\nHomework:\n\nDo questions 2-3 from Tell Me Your Age in your old TellMeYourAge.py file. If you don’t have the file\, you can download it from the drive folder.\n\nIf you have any questions\, please send an email to latisha@ayclogic.com
URL:https://www.ayclogic.com/event/2pm-intro-to-python-latisha-5/
END:VEVENT
BEGIN:VEVENT
DTSTART;TZID=America/Los_Angeles:20210911T140000
DTEND;TZID=America/Los_Angeles:20210911T150000
DTSTAMP:20260424T182635
CREATED:20210911T234844Z
LAST-MODIFIED:20210911T234844Z
UID:9348-1631368800-1631372400@www.ayclogic.com
SUMMARY:2 PM - Intro To Python - Gamas
DESCRIPTION:Today We Do\n\nWe continued on Hangman game. We learned on how to loop through each letter at a time in Sep11_LoopingEachLetterInAWord.py. The latest code is uploaded into the google drive already.\n\nHomework\n\nInside Sep11_LoopingEachLetterInAWord.py create a new variable “clues” and this should be a List of 6 question marks.\nTry your best\, Inside the for loop that loops every letter of the “secret_word“\, change the code so when secret_word[index] == user_input\, it will update one of the element inside “clues” list with the “user_input”.\nAfter the for loop\, print the “clues” variable.\nIf you do things properly\, it will do the following output\n\nd\nr - replace the ?\na\ng\no\nn\n['?'\, 'r'\, '?'\, '?'\, '?'\, '?']
URL:https://www.ayclogic.com/event/2-pm-intro-to-python-gamas-4/
CATEGORIES:Python Class,Python Level 1
END:VEVENT
BEGIN:VEVENT
DTSTART;TZID=America/Los_Angeles:20210911T150000
DTEND;TZID=America/Los_Angeles:20210911T160000
DTSTAMP:20260424T182635
CREATED:20210911T225929Z
LAST-MODIFIED:20210911T231807Z
UID:9335-1631372400-1631376000@www.ayclogic.com
SUMMARY:3 PM - Python Game Development
DESCRIPTION:Homework for Corey\, Bradley\, Raelyn\n\nPlease make sure the bullet appear on the screen and moving to the right.\nLaunch bullet from left side of the screen once every 3 seconds going to the right.\nInside enemy.py\, assign a different health and speed according to self.enemy_type.\n\nHomework for Kyle and Anderson\n\nDisplayed the health and the coins in a bigger font\, try size 30.\n\nHomework for everyone\n\nWhen self.health goes to 0\, change the game_mode to GAME_OVER and display GAME OVER page.\nInside main.py\, add a new class attribute self.coins = 1000. Similar to score and health\, display the coins on the screen near the top.
URL:https://www.ayclogic.com/event/3-pm-python-game-development-42/
CATEGORIES:Python Class,Python Game Development
END:VEVENT
BEGIN:VEVENT
DTSTART;TZID=America/Los_Angeles:20210911T150000
DTEND;TZID=America/Los_Angeles:20210911T160000
DTSTAMP:20260424T182635
CREATED:20210911T231226Z
LAST-MODIFIED:20210914T010732Z
UID:9337-1631372400-1631376000@www.ayclogic.com
SUMMARY:3 PM - Scratch Level 1 - Allison
DESCRIPTION:Today we:\n\ncontinued the Virtual Snow project\ncoded Snowflake clones to stamp and delete itself when touching the color white or when touching the Snowman sprite\n\nHomework:\n\nno homework this week\ncontact us if you need any help or have any questions
URL:https://www.ayclogic.com/event/3-pm-scratch-level-1-allison-2/
CATEGORIES:Scratch Class,Scratch Class Level 1
END:VEVENT
BEGIN:VEVENT
DTSTART;TZID=America/Los_Angeles:20210911T150000
DTEND;TZID=America/Los_Angeles:20210911T160000
DTSTAMP:20260424T182635
CREATED:20210911T231328Z
LAST-MODIFIED:20210911T231328Z
UID:9338-1631372400-1631376000@www.ayclogic.com
SUMMARY:3pm Scratch Level 1 - Bill
DESCRIPTION:Today We:\n\nContinued the Shapes in grid project\nLearned how to make the pen drawing smoother using Glide __ seconds to x:_ y:_ code\nImplemented that in with the code drawing the rectangle and the octagon\nLearned that the pen drawing marks come out of the center of the sprite\nChanged the cat costume to a pencil\nCentered the pencil costume on the tip of the pencil so it looks like the pencil is actually drawing the shapes\nFinished the Shapes in Grid Project\nStarted the Animal Crossing project\nAdded a mouse and made it move from the left side of the screen to the right side\nAdded a bat and made it move from the bottom of the screen to the top\n\nYour HW:\n\nAdd another mouse\nMake the new mouse start at the middle right side of the screen\nMake the mouse move to the left side of the screen\nAdd another bat or dog\nMake the bat/dog start from the top middle of the screen\nMake that bat/dog move straight down to the bottom
URL:https://www.ayclogic.com/event/3pm-scratch-level-1-bill-3/
END:VEVENT
BEGIN:VEVENT
DTSTART;TZID=America/Los_Angeles:20210911T160000
DTEND;TZID=America/Los_Angeles:20210911T170000
DTSTAMP:20260424T182635
CREATED:20210911T234344Z
LAST-MODIFIED:20210911T234344Z
UID:9349-1631376000-1631379600@www.ayclogic.com
SUMMARY:4 PM - Intro to Python - Nathaniel
DESCRIPTION:Today We:\n\nFinished building GrocerySystem program\n\nHomework\n\nContinue coding your project\, I will be checking the progress each class period\nFinal Project due date: October 2\nFinal Project Criteria Link: https://www.ayclogic.com/intro-to-python-final-project-criteria/\nProject Examples\nProject Examples 2\n\nIf you have any questions please feel free to email me at nathaniel@ayclogic.com!
URL:https://www.ayclogic.com/event/4-pm-intro-to-python-nathaniel-7/
CATEGORIES:Python Level 1
END:VEVENT
BEGIN:VEVENT
DTSTART;TZID=America/Los_Angeles:20210911T170000
DTEND;TZID=America/Los_Angeles:20210911T180000
DTSTAMP:20260424T182635
CREATED:20210912T004721Z
LAST-MODIFIED:20210912T004721Z
UID:9354-1631379600-1631383200@www.ayclogic.com
SUMMARY:5 PM - OOP Python - Nathaniel
DESCRIPTION:Today We:\n\nFinished building ShoppingCart program\n\nHomework\n\nBegin studying for the final exam\nGreat study material would be the code we’ve written since the beginning of OOP Python. The files can also be found in the class google drive.\n\nIf you have any questions please feel free to email me at nathaniel@ayclogic.com!
URL:https://www.ayclogic.com/event/5-pm-oop-python-nathaniel-3/
CATEGORIES:OOP Python
END:VEVENT
BEGIN:VEVENT
DTSTART;TZID=America/Los_Angeles:20210911T180000
DTEND;TZID=America/Los_Angeles:20210911T190000
DTSTAMP:20260424T182635
CREATED:20210912T015810Z
LAST-MODIFIED:20210912T015810Z
UID:9356-1631383200-1631386800@www.ayclogic.com
SUMMARY:6 PM - Python Game Development
DESCRIPTION:Homework\n\nMake the bug appear on the screen once every 5 seconds\, moving left or right. Make the bug move really fast.\nAdd collision detection between bug and target.\nWhen you click on the bug\, display the explode_score sprite and make the bug disappear.
URL:https://www.ayclogic.com/event/6-pm-python-game-development-161/
CATEGORIES:Python Game Development
END:VEVENT
END:VCALENDAR