BEGIN:VCALENDAR
VERSION:2.0
PRODID:-//American Young Coder - ECPv6.10.1.1//NONSGML v1.0//EN
CALSCALE:GREGORIAN
METHOD:PUBLISH
X-WR-CALNAME:American Young Coder
X-ORIGINAL-URL:https://www.ayclogic.com
X-WR-CALDESC:Events for American Young Coder
REFRESH-INTERVAL;VALUE=DURATION:PT1H
X-Robots-Tag:noindex
X-PUBLISHED-TTL:PT1H
BEGIN:VTIMEZONE
TZID:America/Los_Angeles
BEGIN:DAYLIGHT
TZOFFSETFROM:-0800
TZOFFSETTO:-0700
TZNAME:PDT
DTSTART:20210314T100000
END:DAYLIGHT
BEGIN:STANDARD
TZOFFSETFROM:-0700
TZOFFSETTO:-0800
TZNAME:PST
DTSTART:20211107T090000
END:STANDARD
END:VTIMEZONE
BEGIN:VEVENT
DTSTART;TZID=America/Los_Angeles:20210913T160000
DTEND;TZID=America/Los_Angeles:20210913T170000
DTSTAMP:20260424T201857
CREATED:20210914T000041Z
LAST-MODIFIED:20210914T013052Z
UID:9361-1631548800-1631552400@www.ayclogic.com
SUMMARY:4 PM - Advance Python Game Development
DESCRIPTION:Today We Do\n\nMake the tank able to use LEFT\, RIGHT\, UP and DOWN costumes.\nMake the tank able to move up\, down\, left and right via W\, S A\, D keys on your keyboard.\nWe added player_turret.py sprite and make the turret follow wherever the player_tank is moving.\n\nHomework:\n\nCreate a new sprite \, brick.py\, use “assets/Brick.png” for the image.\nDisplay one of this sprite anywhere on the screen.
URL:https://www.ayclogic.com/event/4-pm-advance-python-game-development/
CATEGORIES:Advanced Python Game Development,Python Class
END:VEVENT
BEGIN:VEVENT
DTSTART;TZID=America/Los_Angeles:20210913T170000
DTEND;TZID=America/Los_Angeles:20210913T180000
DTSTAMP:20260424T201857
CREATED:20210914T011614Z
LAST-MODIFIED:20210914T011614Z
UID:9366-1631552400-1631556000@www.ayclogic.com
SUMMARY:5pm Scratch Level 2 - Bill
DESCRIPTION:Today We:\n\nStarted the new Rocket Ship Game project\nCreated Stars that started at the top of the screen and fell to the bottom of the screen\nCreated a rocket ship that the player could control with WASD/Arrow keys\nWent over how to create costumes for the Asteroid\n\nYour HW:\n\nCreate 3+ more costumes for the Asteroid (The more you have\, the more variety of asteroids your game will have)\nMake sure they are drawn with a fiery trail and that they are all equally sized\nAlso make sure they are centered on the costumes editor tab
URL:https://www.ayclogic.com/event/5pm-scratch-level-2-bill/
END:VEVENT
BEGIN:VEVENT
DTSTART;TZID=America/Los_Angeles:20210913T170000
DTEND;TZID=America/Los_Angeles:20210913T180000
DTSTAMP:20260424T201857
CREATED:20210916T025248Z
LAST-MODIFIED:20210916T025248Z
UID:9406-1631552400-1631556000@www.ayclogic.com
SUMMARY:5PM - Advanced Digital Illustration
DESCRIPTION:MONDAY \nWelcome to the first class of Advanced Digital Illustration. \nToday we started with a simple project to draw a detailed and somewhat fancy anime eye. Next class we will talk about Face and Head proportions/anatomy for drawing. \nNo Homework this week.
URL:https://www.ayclogic.com/event/5pm-advanced-digital-illustration-3/
CATEGORIES:Digital Illustration,Intermediate Digital Illustration
END:VEVENT
BEGIN:VEVENT
DTSTART;TZID=America/Los_Angeles:20210913T180000
DTEND;TZID=America/Los_Angeles:20210913T190000
DTSTAMP:20260424T201857
CREATED:20210916T030622Z
LAST-MODIFIED:20210922T234524Z
UID:9408-1631556000-1631559600@www.ayclogic.com
SUMMARY:6PM - Advanced Digital Illustration
DESCRIPTION:MONDAY \nToday we finished our Link project finally! Great job. \nHomework \nWe are going to start working on our final projects this week\, which is drawing a character on your own (using references). \nThis week\, your task is to create an accurate sketch of your character in the pose you want to draw them in. The key is to use your submitted images as references only. NO TRACING! Good luck 🙂
URL:https://www.ayclogic.com/event/6pm-advanced-digital-illustration-5/
CATEGORIES:Digital Illustration,Intermediate Digital Illustration
END:VEVENT
END:VCALENDAR