BEGIN:VCALENDAR
VERSION:2.0
PRODID:-//American Young Coder - ECPv6.10.1.1//NONSGML v1.0//EN
CALSCALE:GREGORIAN
METHOD:PUBLISH
X-ORIGINAL-URL:https://www.ayclogic.com
X-WR-CALDESC:Events for American Young Coder
REFRESH-INTERVAL;VALUE=DURATION:PT1H
X-Robots-Tag:noindex
X-PUBLISHED-TTL:PT1H
BEGIN:VTIMEZONE
TZID:America/Los_Angeles
BEGIN:DAYLIGHT
TZOFFSETFROM:-0800
TZOFFSETTO:-0700
TZNAME:PDT
DTSTART:20210314T100000
END:DAYLIGHT
BEGIN:STANDARD
TZOFFSETFROM:-0700
TZOFFSETTO:-0800
TZNAME:PST
DTSTART:20211107T090000
END:STANDARD
END:VTIMEZONE
BEGIN:VEVENT
DTSTART;TZID=America/Los_Angeles:20210916T170000
DTEND;TZID=America/Los_Angeles:20210916T180000
DTSTAMP:20260424T201606
CREATED:20210917T031236Z
LAST-MODIFIED:20210917T031256Z
UID:9415-1631811600-1631815200@www.ayclogic.com
SUMMARY:5 PM - Scratch Level 1 - Allison
DESCRIPTION:Today we:\n\nadded music to the Tunnel of Doom project\nfinished the Tunnel of Doom project\nintroduced and started the Window Cleaner project\n\nHomework:\n\nin your Window Cleaner project\, create three more costumes for your Splat sprite (you should have four different costumes in total)\ncontact us if you need any help or have any questions
URL:https://www.ayclogic.com/event/5-pm-scratch-level-1-allison-15/
CATEGORIES:Scratch Class,Scratch Class Level 1
END:VEVENT
BEGIN:VEVENT
DTSTART;TZID=America/Los_Angeles:20210916T170000
DTEND;TZID=America/Los_Angeles:20210916T180000
DTSTAMP:20260424T201606
CREATED:20210918T005656Z
LAST-MODIFIED:20210918T010249Z
UID:9425-1631811600-1631815200@www.ayclogic.com
SUMMARY:5 PM Scratch Level 1 Alexander Lee
DESCRIPTION:Today we\n\nStarted the Mary had a little lamb project.\n\nFor Homework:\n\nPlease finish up your conductor and also add in the two other costumes to make it look like the conductor is moving their hand up and down.\nAlso add in the broadcasts as shown in the screenshot below in order to broadcast the message to the circles to play sound.
URL:https://www.ayclogic.com/event/5-pm-scratch-level-1-alexander-lee-14/
CATEGORIES:Scratch Class,Scratch Class Level 1
END:VEVENT
BEGIN:VEVENT
DTSTART;TZID=America/Los_Angeles:20210916T180000
DTEND;TZID=America/Los_Angeles:20210916T190000
DTSTAMP:20260424T201606
CREATED:20210917T032207Z
LAST-MODIFIED:20210917T033141Z
UID:9420-1631815200-1631818800@www.ayclogic.com
SUMMARY:6 Pm - Intro To Java
DESCRIPTION:Today We Do\n\nWe added two TextViews (Fahrenheit and Celcius) on the top of the screen.\nWe configured the Constraint Layout properly.\nWhen user click on the “convert” button\, convert the Fahrenheit to the Celcius\n\nHomework\n\nAdd a Spinner UI component and place it above the Convert button. Spinner UI component can be found under Pallete > Containers > Spinner.\nName this spinner id to “conversionType”\nConfigure the convert button layout to 24dp and app:layout_constraintTop_toBottomOf=”@+id/conversionType”\nConfigure the spinner ui component layout to 24 dp and  app:layout_constraintTop_toBottomOf=”@+id/destinationTextField”\nThe spinner will be blank now\, but that’s ok\, we will learn how to add elements into the spinner next week.
URL:https://www.ayclogic.com/event/6-pm-intro-to-java-35/
CATEGORIES:Introduction To Java,Java
END:VEVENT
BEGIN:VEVENT
DTSTART;TZID=America/Los_Angeles:20210916T190000
DTEND;TZID=America/Los_Angeles:20210916T200000
DTSTAMP:20260424T201606
CREATED:20210917T030759Z
LAST-MODIFIED:20210917T031312Z
UID:9413-1631818800-1631822400@www.ayclogic.com
SUMMARY:7 PM - Python Game Development
DESCRIPTION:Homework\n\nWhen target pop the regular balloon\, play plop.wav sound effect\nWhen target pop the bad balloon\, play explodify.wav sound effect\nLoad assets/bug/birdchirp2.wav inside bug.py and play the sound when a bug is created.\nIf you have not done the landing page and game win page\, please do it. This is supposed to be last week homework.\n\n 
URL:https://www.ayclogic.com/event/7-pm-python-game-development-82/
CATEGORIES:Python Class,Python Game Development
END:VEVENT
END:VCALENDAR