BEGIN:VCALENDAR
VERSION:2.0
PRODID:-//American Young Coder - ECPv6.10.1.1//NONSGML v1.0//EN
CALSCALE:GREGORIAN
METHOD:PUBLISH
X-ORIGINAL-URL:https://www.ayclogic.com
X-WR-CALDESC:Events for American Young Coder
REFRESH-INTERVAL;VALUE=DURATION:PT1H
X-Robots-Tag:noindex
X-PUBLISHED-TTL:PT1H
BEGIN:VTIMEZONE
TZID:America/Los_Angeles
BEGIN:DAYLIGHT
TZOFFSETFROM:-0800
TZOFFSETTO:-0700
TZNAME:PDT
DTSTART:20210314T100000
END:DAYLIGHT
BEGIN:STANDARD
TZOFFSETFROM:-0700
TZOFFSETTO:-0800
TZNAME:PST
DTSTART:20211107T090000
END:STANDARD
END:VTIMEZONE
BEGIN:VEVENT
DTSTART;TZID=America/Los_Angeles:20210920T160000
DTEND;TZID=America/Los_Angeles:20210920T170000
DTSTAMP:20260424T202052
CREATED:20210921T080351Z
LAST-MODIFIED:20210926T230945Z
UID:9484-1632153600-1632157200@www.ayclogic.com
SUMMARY:4PM - Advanced Python Game Development
DESCRIPTION:Today We Did:\n\nAdded collision detection for the walls\nAdded map\n\nHomework:\n\nNone\n\nIf you have any questions\, please send an email to latisha@ayclogic.com
URL:https://www.ayclogic.com/event/4pm-advanced-python-game-development/
END:VEVENT
BEGIN:VEVENT
DTSTART;TZID=America/Los_Angeles:20210920T170000
DTEND;TZID=America/Los_Angeles:20210920T180000
DTSTAMP:20260424T202052
CREATED:20210921T011212Z
LAST-MODIFIED:20210921T011212Z
UID:9479-1632157200-1632160800@www.ayclogic.com
SUMMARY:5 pm Scratch Level 2 - Bill
DESCRIPTION:Today We: \n\nContinued the Rocket Ship project\nAdded the meteor sprite\nMade it so the meteors spawned less frequently and larger than the stars\nMade the meteors have random costumes\nMade it so the costume of the rocket ship will change depending on what direction the player moves in\nAdded a fire ball sprite\nMade the fire ball destroy a meteor when it hits it\n\nYour HW: \n\nUse that variable “Time” we created at the end of class and try your best to create a timer that tells the user how many seconds they have survived for\nHint: Use a forever loop to add 1 to the Time variable every second
URL:https://www.ayclogic.com/event/5-pm-scratch-level-2-bill/
END:VEVENT
BEGIN:VEVENT
DTSTART;TZID=America/Los_Angeles:20210920T170000
DTEND;TZID=America/Los_Angeles:20210920T180000
DTSTAMP:20260424T202052
CREATED:20210929T071856Z
LAST-MODIFIED:20210929T071856Z
UID:9600-1632157200-1632160800@www.ayclogic.com
SUMMARY:5PM - Advanced Digital Illustration
DESCRIPTION:MONDAY \nToday we learned about the proportions of the head and face when drawing characters. We learned how to draw heads that are facing the “camera” (facing forward)\, and heads that are slightly turned to the side. \nFor Homework: \nDraw 3 Heads. 1) Facing forward 2) Facing slightly left 3) facing slightly right
URL:https://www.ayclogic.com/event/5pm-advanced-digital-illustration-5/
CATEGORIES:Digital Illustration,Intermediate Digital Illustration
END:VEVENT
BEGIN:VEVENT
DTSTART;TZID=America/Los_Angeles:20210920T180000
DTEND;TZID=America/Los_Angeles:20210920T190000
DTSTAMP:20260424T202052
CREATED:20210929T072446Z
LAST-MODIFIED:20210929T072446Z
UID:9602-1632160800-1632164400@www.ayclogic.com
SUMMARY:6PM - Advanced Digital Illustration
DESCRIPTION:MONDAY \nToday we started a new project of drawing a girl floating in the stars. We drew her stick figure sketch to layout what the pose will be\, and then we started on the lines. We will work on this in class while we are also working on the final projects at home. \nFor Homework: \nThis week\, build upon your sketch by adding in a filled out figure of your character without clothing details\, like we did in class today.
URL:https://www.ayclogic.com/event/6pm-advanced-digital-illustration-6/
CATEGORIES:Digital Illustration,Intermediate Digital Illustration
END:VEVENT
END:VCALENDAR