BEGIN:VCALENDAR
VERSION:2.0
PRODID:-//American Young Coder - ECPv6.10.1.1//NONSGML v1.0//EN
CALSCALE:GREGORIAN
METHOD:PUBLISH
X-WR-CALNAME:American Young Coder
X-ORIGINAL-URL:https://www.ayclogic.com
X-WR-CALDESC:Events for American Young Coder
REFRESH-INTERVAL;VALUE=DURATION:PT1H
X-Robots-Tag:noindex
X-PUBLISHED-TTL:PT1H
BEGIN:VTIMEZONE
TZID:America/Los_Angeles
BEGIN:DAYLIGHT
TZOFFSETFROM:-0800
TZOFFSETTO:-0700
TZNAME:PDT
DTSTART:20210314T100000
END:DAYLIGHT
BEGIN:STANDARD
TZOFFSETFROM:-0700
TZOFFSETTO:-0800
TZNAME:PST
DTSTART:20211107T090000
END:STANDARD
END:VTIMEZONE
BEGIN:VEVENT
DTSTART;TZID=America/Los_Angeles:20211007T160000
DTEND;TZID=America/Los_Angeles:20211007T170000
DTSTAMP:20260424T142818
CREATED:20211010T083710Z
LAST-MODIFIED:20211010T083710Z
UID:9766-1633622400-1633626000@www.ayclogic.com
SUMMARY:4PM - Object Oriented Python
DESCRIPTION:Today we did:\n\nContinued working on Adventure Game\n\nContinued adding to application_loop\nAdded normal attack\nBegan working on magic attack\n\n\n\nHomework:\n\nWhen the user chooses normal attack\, assign a random number from 5 to the monster’s attack to a variable called monster_attack and subtract that number from the user’s life points. Then\, print to the shell how much the user was attacked by and how much life they have left.\n\nIf you have any questions\, please send an email to latisha@ayclogic.com
URL:https://www.ayclogic.com/event/4pm-object-oriented-python-5/
END:VEVENT
BEGIN:VEVENT
DTSTART;TZID=America/Los_Angeles:20211007T170000
DTEND;TZID=America/Los_Angeles:20211007T180000
DTSTAMP:20260424T142818
CREATED:20211008T030122Z
LAST-MODIFIED:20211008T030757Z
UID:9726-1633626000-1633629600@www.ayclogic.com
SUMMARY:5 PM-Scratch Level 1-Alexander Lee
DESCRIPTION:Today We Did:\n\nWe started the Spaceship 1.0 project\nChanged the Virtual Snow project by converting the snow into the stars and the asteroids.\nReviewed about broadcast/when I receive\n\nFor Homework\n\nPlease make a costume for the asteroid so that it looks like an asteroid.\nAlso\, in all the sprites please add in the When I receive and stop other sprites in the sprite just like how you did with the game over broadcast.\nMake sure to add another costume for the Banner that says “You Win!!” and switch to it when “you win” is broadcasted.
URL:https://www.ayclogic.com/event/5-pm-scratch-level-1-alexander-lee-17/
CATEGORIES:Scratch Class,Scratch Class Level 1
END:VEVENT
BEGIN:VEVENT
DTSTART;TZID=America/Los_Angeles:20211007T170000
DTEND;TZID=America/Los_Angeles:20211007T180000
DTSTAMP:20260424T142818
CREATED:20211008T050654Z
LAST-MODIFIED:20211008T050654Z
UID:9732-1633626000-1633629600@www.ayclogic.com
SUMMARY:5 PM - Scratch Level 1 - Allison
DESCRIPTION:Today we:\n\ncoded the project to get rid of a splat when we touch the splat with video motion\nmade the splats look like they are fading away when touched\nturned video camera off when the space bar is pressed\nfinished the Window Cleaner project\nintroduced the Punch Dummy project\n\nHomework:\n\ncreate a new project and title it “Punch Dummy”\ncreate a sprite and name it “Head”\ncreate two costumes for the Head sprite. One costume is a happy face\, and the other costume is a sad face. Examples of my costumes are attached below. You do not have to copy my examples; feel free to design your own.\nNote: DO NOT draw eyes \ncontact us if you need any help or have any questions
URL:https://www.ayclogic.com/event/5-pm-scratch-level-1-allison-18/
CATEGORIES:Scratch Class,Scratch Class Level 1
END:VEVENT
BEGIN:VEVENT
DTSTART;TZID=America/Los_Angeles:20211007T190000
DTEND;TZID=America/Los_Angeles:20211007T200000
DTSTAMP:20260424T142818
CREATED:20211008T025650Z
LAST-MODIFIED:20211008T025650Z
UID:9724-1633633200-1633636800@www.ayclogic.com
SUMMARY:THU - 7 PM - Intro to Java
DESCRIPTION:Today We Do\n\nWe installed IntelliJ and JDK 17.\nWe learned about int\, String\, double data types.\nWe learned about Java syntax\n\nHomework\n\nCreate Oct7_VariableDataTypeHomework.java\nDo number 1 to 3 exercises from https://www.ayclogic.com/java-variables-datatypes/
URL:https://www.ayclogic.com/event/thu-7-pm-intro-to-java/
CATEGORIES:Introduction To Java,Java
END:VEVENT
END:VCALENDAR