BEGIN:VCALENDAR
VERSION:2.0
PRODID:-//American Young Coder - ECPv6.10.1.1//NONSGML v1.0//EN
CALSCALE:GREGORIAN
METHOD:PUBLISH
X-ORIGINAL-URL:https://www.ayclogic.com
X-WR-CALDESC:Events for American Young Coder
REFRESH-INTERVAL;VALUE=DURATION:PT1H
X-Robots-Tag:noindex
X-PUBLISHED-TTL:PT1H
BEGIN:VTIMEZONE
TZID:America/Los_Angeles
BEGIN:DAYLIGHT
TZOFFSETFROM:-0800
TZOFFSETTO:-0700
TZNAME:PDT
DTSTART:20210314T100000
END:DAYLIGHT
BEGIN:STANDARD
TZOFFSETFROM:-0700
TZOFFSETTO:-0800
TZNAME:PST
DTSTART:20211107T090000
END:STANDARD
END:VTIMEZONE
BEGIN:VEVENT
DTSTART;TZID=America/Los_Angeles:20211012T160000
DTEND;TZID=America/Los_Angeles:20211012T170000
DTSTAMP:20260424T143027
CREATED:20211018T074643Z
LAST-MODIFIED:20211018T074643Z
UID:10006-1634054400-1634058000@www.ayclogic.com
SUMMARY:4PM - Advanced Python Game Development
DESCRIPTION:Today We Did:\n\nStarted working on MazeSolver\n\nHomework:\n\nWhen the bullet leaves the screen\, kill it\n\nIf you have any questions\, please send an email to latisha@ayclogic.com
URL:https://www.ayclogic.com/event/4pm-advanced-python-game-development-6/
END:VEVENT
BEGIN:VEVENT
DTSTART;TZID=America/Los_Angeles:20211012T180000
DTEND;TZID=America/Los_Angeles:20211012T190000
DTSTAMP:20260424T143027
CREATED:20211013T021826Z
LAST-MODIFIED:20211019T011152Z
UID:9814-1634061600-1634065200@www.ayclogic.com
SUMMARY:6PM – Scratch Level 1 - Yitong
DESCRIPTION:Today we:\n\nwent over homework\nlearned about direction\nlearned about sensing blocks\n\nHomework:\n\nScratch Coding Book page 43-45 Coding Hw\nSecond ballerina page 46-47
URL:https://www.ayclogic.com/event/6pm-scratch-level-1-yitong/
CATEGORIES:Scratch Class,Scratch Class Level 1
END:VEVENT
BEGIN:VEVENT
DTSTART;TZID=America/Los_Angeles:20211012T180000
DTEND;TZID=America/Los_Angeles:20211012T190000
DTSTAMP:20260424T143027
CREATED:20211013T043841Z
LAST-MODIFIED:20211013T043841Z
UID:9818-1634061600-1634065200@www.ayclogic.com
SUMMARY:6 PM - Intro to Python - Nathaniel
DESCRIPTION:Today we: \n\nFinished learning about how to debug code in python\nCompleted https://www.ayclogic.com/fixing-python-bugs/\n\nHomework: \n\nhttps://www.ayclogic.com/fix-python-bugs-2/
URL:https://www.ayclogic.com/event/6-pm-intro-to-python-nathaniel-11/
CATEGORIES:Python Level 1
END:VEVENT
END:VCALENDAR