BEGIN:VCALENDAR
VERSION:2.0
PRODID:-//American Young Coder - ECPv6.10.1.1//NONSGML v1.0//EN
CALSCALE:GREGORIAN
METHOD:PUBLISH
X-ORIGINAL-URL:https://www.ayclogic.com
X-WR-CALDESC:Events for American Young Coder
REFRESH-INTERVAL;VALUE=DURATION:PT1H
X-Robots-Tag:noindex
X-PUBLISHED-TTL:PT1H
BEGIN:VTIMEZONE
TZID:America/Los_Angeles
BEGIN:DAYLIGHT
TZOFFSETFROM:-0800
TZOFFSETTO:-0700
TZNAME:PDT
DTSTART:20210314T100000
END:DAYLIGHT
BEGIN:STANDARD
TZOFFSETFROM:-0700
TZOFFSETTO:-0800
TZNAME:PST
DTSTART:20211107T090000
END:STANDARD
END:VTIMEZONE
BEGIN:VEVENT
DTSTART;TZID=America/Los_Angeles:20211016T090000
DTEND;TZID=America/Los_Angeles:20211016T100000
DTSTAMP:20260424T143042
CREATED:20211017T034320Z
LAST-MODIFIED:20211017T034320Z
UID:9968-1634374800-1634378400@www.ayclogic.com
SUMMARY:9 AM - Android Game Development with Java
DESCRIPTION:Today We Do\n\nWe started GameActivity.java and GameView.java.\n\nHomework\n\nAdd a new button in activity_main.xml. Use the following image \nRight click on the “app” directory and choose New > Activity > Empty Activity.\nName the Activity: SettingActivity\nOnce the new Activity is created\, you should see a new Activity tag inside AndroidManifest.xml\nSet the SettingActivity to have screenOrientation landscape.\nAdd the Background Image and back button and “Settings” label\nLook at screenshots below\n\n\n\n 
URL:https://www.ayclogic.com/event/9-am-android-game-development-with-java/
CATEGORIES:Java
END:VEVENT
BEGIN:VEVENT
DTSTART;TZID=America/Los_Angeles:20211016T100000
DTEND;TZID=America/Los_Angeles:20211016T110000
DTSTAMP:20260424T143042
CREATED:20211016T182659Z
LAST-MODIFIED:20211016T182659Z
UID:9935-1634378400-1634382000@www.ayclogic.com
SUMMARY:10 AM - Intro To Java
DESCRIPTION:Homework\n\nThe email application code now can only have one email message per person. Fix the code so it can have more than one email message per person.\nLook at handleCreateEmail(EmailAccount) method. You have to change the code so it will do the following\n\nCheck if there is already existing List<EmailMessage> inside messageMap. If there is already one\, just add the new EmailMessage to this existing list.\nIf there is not existing List\, then create a new List\, add the new EmailMessage to this new List and insert the list to the messageMap. This is the current behavior.
URL:https://www.ayclogic.com/event/10-am-intro-to-java-19/
CATEGORIES:Introduction To Java,Java
END:VEVENT
BEGIN:VEVENT
DTSTART;TZID=America/Los_Angeles:20211016T120000
DTEND;TZID=America/Los_Angeles:20211016T130000
DTSTAMP:20260424T143042
CREATED:20211016T200008Z
LAST-MODIFIED:20211016T200008Z
UID:9937-1634385600-1634389200@www.ayclogic.com
SUMMARY:12 PM - Intro To Java
DESCRIPTION:Homework\n\nCreate a new Java file OCT16_CarDealerHomework.java\nDo exercises from https://www.ayclogic.com/java-exercise-2b-input-from-shell-and-if-else/
URL:https://www.ayclogic.com/event/12-pm-intro-to-java-2/
CATEGORIES:Introduction To Java,Java
END:VEVENT
BEGIN:VEVENT
DTSTART;TZID=America/Los_Angeles:20211016T130000
DTEND;TZID=America/Los_Angeles:20211016T140000
DTSTAMP:20260424T143042
CREATED:20211016T210020Z
LAST-MODIFIED:20211017T044948Z
UID:9939-1634389200-1634392800@www.ayclogic.com
SUMMARY:1 PM - Python Game Development
DESCRIPTION:Today \n\nWe went over the final projects\nWe added collision detection between the targets and the balloons.\n\nHomework \n\nContinue working on your final projects.
URL:https://www.ayclogic.com/event/7-pm-python-game-development-88/
END:VEVENT
BEGIN:VEVENT
DTSTART;TZID=America/Los_Angeles:20211016T140000
DTEND;TZID=America/Los_Angeles:20211016T150000
DTSTAMP:20260424T143042
CREATED:20211016T212755Z
LAST-MODIFIED:20211017T063903Z
UID:9942-1634392800-1634396400@www.ayclogic.com
SUMMARY:2PM - Intro to Python - Gamas
DESCRIPTION:Today we did:\n\nLearned how to use Turtle\nMade a rectangle using t.goto()\nCreated Rectangle function\nStarted Robot Builder\n\nHomework:\n\nDraw the Eyes and Mouth of the Robot using the photo below in Oct16_RobotBuilder.py file.\n\nIf you have any questions\, please send an email to latisha@ayclogic.com
URL:https://www.ayclogic.com/event/2pm-intro-to-python-gamas-2/
END:VEVENT
BEGIN:VEVENT
DTSTART;TZID=America/Los_Angeles:20211016T140000
DTEND;TZID=America/Los_Angeles:20211016T150000
DTSTAMP:20260424T143042
CREATED:20211017T040637Z
LAST-MODIFIED:20211017T220436Z
UID:9973-1634392800-1634396400@www.ayclogic.com
SUMMARY:2 PM - Intro To Python - Latisha
DESCRIPTION:Today We Do\n\nWe when over how to do IF ELSE statements\, you can find what we did in the google drive OCT16_Exercises.py.\nWe reviewed the homeworks\n\nHomeworks\n\nIf you did not do your homework last week\, please do them. I will check last week homeworks if you did not do them.\nFor this week homework\, please create a new file called OCT16_IFELSE_LIST_Homework.py\nFrom the text book\, please do page 84 TRY IT YOURSELF. Do 5-3 and 5-4. If you don’t understand this\, look at today’s exercise “OCT16_Exercises.py”. You can find this file in the google drive\, if you don’t have it.\nFrom the text book\, please do page 89 TRY IT YOURSELF. Do 5-8. If you don’t understand how to do this\, look at page 86. Or you can also look at Aug21_ListForLoopHomework.py\, you can find this file in the homework.
URL:https://www.ayclogic.com/event/2-pm-intro-to-python-37/
CATEGORIES:Python Class,Python Level 1
END:VEVENT
BEGIN:VEVENT
DTSTART;TZID=America/Los_Angeles:20211016T150000
DTEND;TZID=America/Los_Angeles:20211016T160000
DTSTAMP:20260424T143042
CREATED:20211016T231040Z
LAST-MODIFIED:20211016T231040Z
UID:9951-1634396400-1634400000@www.ayclogic.com
SUMMARY:3 PM - Python Game Development
DESCRIPTION:Homework\n\nBradley\, Corey\, Raelyn: In enemy.py\, create different health and attack_points and image for different self.type.\nFor everyone: similar to tower_for_purchase.py\, you need to blit the self.health on top of the enemy image.
URL:https://www.ayclogic.com/event/3-pm-python-game-development-47/
CATEGORIES:Python Class,Python Game Development
END:VEVENT
BEGIN:VEVENT
DTSTART;TZID=America/Los_Angeles:20211016T150000
DTEND;TZID=America/Los_Angeles:20211016T160000
DTSTAMP:20260424T143042
CREATED:20211016T232205Z
LAST-MODIFIED:20211016T233030Z
UID:9954-1634396400-1634400000@www.ayclogic.com
SUMMARY:3 PM Scratch Level 1 - Bill
DESCRIPTION:Today We:\n\nContinued the Spyralizer Project\nAdded in sliders for the angle and speed\nAdded in a darker background\nMade the clones get bigger the further out they get from the center\nMade pen trails that follow the ball clones\nAdded in a pen trail size slider\nFinished the Spyralizer Project\nStarted the Christmas Card Project\nMade a copy of the BirthDay Card Project\n\nYour HW:\n\nDownload the Christmas Background\, present\, and tree images from Courses > Project Resources at the top of the website\nReplace the cake with the present\, Replace the button with the Christmas tree\, Replace the Background with the Christmas background
URL:https://www.ayclogic.com/event/3-pm-scratch-level-1-bill/
END:VEVENT
BEGIN:VEVENT
DTSTART;TZID=America/Los_Angeles:20211016T150000
DTEND;TZID=America/Los_Angeles:20211016T160000
DTSTAMP:20260424T143042
CREATED:20211017T192335Z
LAST-MODIFIED:20211019T004014Z
UID:9991-1634396400-1634400000@www.ayclogic.com
SUMMARY:3 PM - Scratch Level 1 - Allison
DESCRIPTION:Today we:\n\nReviewed for the Final Test\n\nHomework:\n\nStudy for the Final Test (which is on Saturday\, October 23)\nCome to our next class on time (come to the zoom meeting at 3:00 PM) so I can explain test instructions. You do not have to come to class earlier than 3:00 PM.\nJerry: ask your parents to confirm/verify your Scratch email and account\nIf you’d like\, you can study the resources attached below to prepare for the test\nContact us if you have any questions or need any help\n\nResources: \n\nSpaceship V1.0: https://scratch.mit.edu/projects/266884838\nAnimal Crossing: https://scratch.mit.edu/projects/559936031\nBirthday Card: https://scratch.mit.edu/projects/557279686\nCat Art: https://scratch.mit.edu/projects/331671044\nAnimal Race: https://scratch.mit.edu/projects/537193836\n\nClick on the link below to see a picture of a coordinate plane with labeled coordinates. Make sure to memorize the coordinates (the ones in red). \nNumbered Shapes In Grid – Labeled
URL:https://www.ayclogic.com/event/3-pm-scratch-level-1-allison-8/
CATEGORIES:Scratch Class,Scratch Class Level 1
END:VEVENT
BEGIN:VEVENT
DTSTART;TZID=America/Los_Angeles:20211016T163000
DTEND;TZID=America/Los_Angeles:20211016T173000
DTSTAMP:20260424T143042
CREATED:20211017T002712Z
LAST-MODIFIED:20211017T060336Z
UID:9959-1634401800-1634405400@www.ayclogic.com
SUMMARY:4:30 PM - Scratch Level 1
DESCRIPTION:Today we:\n\nstarted the Dino Dance project\nlearned about sprites\, costumes\, and backgrounds\nlearned how to make a sprite switch costumes\nlearned how to make the background change colors\n\nHomework:\n\nread and do the codes in Scratch Book Pg. 41\ndo the codes in the same project we did in class (The Dino Dance project)\ncomplete the homework before our next class\ncontact us at gamas@ayclogic.com and allison.682.lee@gmail.com if you have any questions or need any help
URL:https://www.ayclogic.com/event/430-pm-scratch-level-1/
CATEGORIES:Scratch Class,Scratch Class Level 1
END:VEVENT
BEGIN:VEVENT
DTSTART;TZID=America/Los_Angeles:20211016T170000
DTEND;TZID=America/Los_Angeles:20211016T180000
DTSTAMP:20260424T143042
CREATED:20211017T030632Z
LAST-MODIFIED:20211017T030632Z
UID:9966-1634403600-1634407200@www.ayclogic.com
SUMMARY:5 PM - Python Game Development
DESCRIPTION:Today We Do\n\nWe learned about list\, index and how to rotate the index from 0 to len(list) and back to 0.\nWe fixed the problem with the bug costumes.\nThe students are done with the Python Game Development course. If they want to continue\, they can continue with either\n\nIntro To Java or\nAdvanced Python Game Development
URL:https://www.ayclogic.com/event/5-pm-python-game-development-2/
CATEGORIES:Python Class,Python Game Development
END:VEVENT
BEGIN:VEVENT
DTSTART;TZID=America/Los_Angeles:20211016T180000
DTEND;TZID=America/Los_Angeles:20211016T190000
DTSTAMP:20260424T143042
CREATED:20211017T053559Z
LAST-MODIFIED:20211017T053559Z
UID:9980-1634407200-1634410800@www.ayclogic.com
SUMMARY:6PM – Intro to Python
DESCRIPTION:October 16 @ 6:00 pm – 7:00 pm\n\n\n\nToday we learned:\n\nWhat is a variable\nHow to make and print a variable\nIntegers\, Doubles/Floats\, Strings\nHow to combine strings\n\nHomework:\n\npg. 20-23 from the book (IntroToPythonP20toP23)\, put into a file called Oct16_StringHomework.py\n\nIf you have any questions\, please send an email to ingrid@ayclogic.com
URL:https://www.ayclogic.com/event/6pm-intro-to-python-3/
END:VEVENT
END:VCALENDAR