BEGIN:VCALENDAR
VERSION:2.0
PRODID:-//American Young Coder - ECPv6.10.1.1//NONSGML v1.0//EN
CALSCALE:GREGORIAN
METHOD:PUBLISH
X-WR-CALNAME:American Young Coder
X-ORIGINAL-URL:https://www.ayclogic.com
X-WR-CALDESC:Events for American Young Coder
REFRESH-INTERVAL;VALUE=DURATION:PT1H
X-Robots-Tag:noindex
X-PUBLISHED-TTL:PT1H
BEGIN:VTIMEZONE
TZID:America/Los_Angeles
BEGIN:DAYLIGHT
TZOFFSETFROM:-0800
TZOFFSETTO:-0700
TZNAME:PDT
DTSTART:20210314T100000
END:DAYLIGHT
BEGIN:STANDARD
TZOFFSETFROM:-0700
TZOFFSETTO:-0800
TZNAME:PST
DTSTART:20211107T090000
END:STANDARD
END:VTIMEZONE
BEGIN:VEVENT
DTSTART;TZID=America/Los_Angeles:20211017T090000
DTEND;TZID=America/Los_Angeles:20211017T100000
DTSTAMP:20260424T142709
CREATED:20211017T030222Z
LAST-MODIFIED:20211017T030222Z
UID:9964-1634461200-1634464800@www.ayclogic.com
SUMMARY:9 AM - Scratch 1
DESCRIPTION:Homework\n\nContinue on Mary Had A Little Lamb project.\nCreate duplicate the “Fa” sprite 4 more times and name them “So”\, “La”\, “Ti”\, “Do”.\nFor each of the new Sprite\, assign a unique color.\nFor each of the new Sprite\, assign the appropriate piano sound.
URL:https://www.ayclogic.com/event/9-am-scratch-1-10/
CATEGORIES:Scratch Class,Scratch Class Level 1
END:VEVENT
BEGIN:VEVENT
DTSTART;TZID=America/Los_Angeles:20211017T190000
DTEND;TZID=America/Los_Angeles:20211017T200000
DTSTAMP:20260424T142709
CREATED:20211018T030446Z
LAST-MODIFIED:20211025T050732Z
UID:9999-1634497200-1634500800@www.ayclogic.com
SUMMARY:7 PM - Python Game Development
DESCRIPTION:Today: \n\nWe went over the homework to add Cloud.\nWe added sprite “Group” to organize our sprites and draw them on the screen.\nWe added the player sprite moving the left and right with “a” and “d” key presses. I’ve uploaded the source code here.\n\nHomework: \n\nMake the player move up and down when you press the “w” and “s” keys respectively.\nAdd a “Fireball” sprite class using the “fireball.png” file.\nMake the fireball appear on the screen.\nBonus: create a new fireball when the player presses the “f”key.
URL:https://www.ayclogic.com/event/7-pm-python-game-development-89/
END:VEVENT
END:VCALENDAR