BEGIN:VCALENDAR
VERSION:2.0
PRODID:-//American Young Coder - ECPv6.10.1.1//NONSGML v1.0//EN
CALSCALE:GREGORIAN
METHOD:PUBLISH
X-ORIGINAL-URL:https://www.ayclogic.com
X-WR-CALDESC:Events for American Young Coder
REFRESH-INTERVAL;VALUE=DURATION:PT1H
X-Robots-Tag:noindex
X-PUBLISHED-TTL:PT1H
BEGIN:VTIMEZONE
TZID:America/Los_Angeles
BEGIN:DAYLIGHT
TZOFFSETFROM:-0800
TZOFFSETTO:-0700
TZNAME:PDT
DTSTART:20210314T100000
END:DAYLIGHT
BEGIN:STANDARD
TZOFFSETFROM:-0700
TZOFFSETTO:-0800
TZNAME:PST
DTSTART:20211107T090000
END:STANDARD
END:VTIMEZONE
BEGIN:VEVENT
DTSTART;TZID=America/Los_Angeles:20211018T160000
DTEND;TZID=America/Los_Angeles:20211018T170000
DTSTAMP:20260424T175405
CREATED:20211024T002108Z
LAST-MODIFIED:20211024T002108Z
UID:10137-1634572800-1634576400@www.ayclogic.com
SUMMARY:4PM - Advanced Python Game Development
DESCRIPTION:Today We Did:\n\nCompleted MazeSolver\n\nHomework:\n\nNone\n\nIf you have any questions\, please send an email to latisha@ayclogic.com
URL:https://www.ayclogic.com/event/4pm-advanced-python-game-development-7/
END:VEVENT
BEGIN:VEVENT
DTSTART;TZID=America/Los_Angeles:20211018T170000
DTEND;TZID=America/Los_Angeles:20211018T180000
DTSTAMP:20260424T175405
CREATED:20211020T015955Z
LAST-MODIFIED:20211020T020541Z
UID:10022-1634576400-1634580000@www.ayclogic.com
SUMMARY:5pm Scratch Level 2 - Bill
DESCRIPTION:Today We:\n\nContinued the Cheese chase project\nLearned about my blocks\nUsed a custom MyBlock for movement to make changing things in the movement easier\nAdded the cheese\nMade a score variable to keep track of the score\nMade the cheese only spawn where the player can get it\nAdded the beetle\nQuickly coded the beetle movement\n\nYour HW:\n\nIf you haven’t already\, inside your maze sprite make another costume and draw a second level design maze\nDo page 64-65 (Create a second beetle to do by yourself)
URL:https://www.ayclogic.com/event/5pm-scratch-level-2-bill-4/
END:VEVENT
BEGIN:VEVENT
DTSTART;TZID=America/Los_Angeles:20211018T170000
DTEND;TZID=America/Los_Angeles:20211018T180000
DTSTAMP:20260424T175405
CREATED:20211020T041021Z
LAST-MODIFIED:20211020T041021Z
UID:10033-1634576400-1634580000@www.ayclogic.com
SUMMARY:5PM - Advanced Digital Illustration
DESCRIPTION:MONDAY \nToday we started a new project: An anime style bust portrait of Sam Sparks from Cloudy with a Chance of Meatballs. Today we did the sketching of her face\, body\, hand\, and clothes. Next week we will finish sketching the hair and also do the lines. \n \nHomework \nCatch up on the sketch we did in class. Use the image above as a guide. Refine any part of your sketch before class. \nIf you didn’t do last week’s homework\, please check the calendar event for last week.
URL:https://www.ayclogic.com/event/5pm-advanced-digital-illustration-12/
CATEGORIES:Digital Illustration,Intermediate Digital Illustration
END:VEVENT
BEGIN:VEVENT
DTSTART;TZID=America/Los_Angeles:20211018T180000
DTEND;TZID=America/Los_Angeles:20211018T190000
DTSTAMP:20260424T175405
CREATED:20211020T041730Z
LAST-MODIFIED:20211020T041730Z
UID:10036-1634580000-1634583600@www.ayclogic.com
SUMMARY:6PM - Advanced Digital Illustration
DESCRIPTION:MONDAY \nOur last project for this class will be simple and fun bust of Harry Potter in an anime style drawing. Today we finished sketching and also started on the lines. \n \n  \nHOMEWORK \nPlease finish the lines by next class. You can do all the lines on one layer all together. If you want to use more layers\, that is also fine. Just make sure your lines are at least on a different layer than the sketch. \nI finished the lines below for you to use as reference. \n  \nYou can see that some of my lines doesn’t exactly match the sketch\, because I decided to change some things. You can trace your sketch exactly\, but make sure to turn off the sketch layer sometimes so that you can see if the lines by themselves looks good.
URL:https://www.ayclogic.com/event/6pm-advanced-digital-illustration-9/
CATEGORIES:Digital Illustration,Intermediate Digital Illustration
END:VEVENT
END:VCALENDAR