BEGIN:VCALENDAR
VERSION:2.0
PRODID:-//American Young Coder - ECPv6.10.1.1//NONSGML v1.0//EN
CALSCALE:GREGORIAN
METHOD:PUBLISH
X-WR-CALNAME:American Young Coder
X-ORIGINAL-URL:https://www.ayclogic.com
X-WR-CALDESC:Events for American Young Coder
REFRESH-INTERVAL;VALUE=DURATION:PT1H
X-Robots-Tag:noindex
X-PUBLISHED-TTL:PT1H
BEGIN:VTIMEZONE
TZID:America/Los_Angeles
BEGIN:DAYLIGHT
TZOFFSETFROM:-0800
TZOFFSETTO:-0700
TZNAME:PDT
DTSTART:20210314T100000
END:DAYLIGHT
BEGIN:STANDARD
TZOFFSETFROM:-0700
TZOFFSETTO:-0800
TZNAME:PST
DTSTART:20211107T090000
END:STANDARD
END:VTIMEZONE
BEGIN:VEVENT
DTSTART;TZID=America/Los_Angeles:20211019T160000
DTEND;TZID=America/Los_Angeles:20211019T170000
DTSTAMP:20260424T142758
CREATED:20211024T002225Z
LAST-MODIFIED:20211024T002225Z
UID:10139-1634659200-1634662800@www.ayclogic.com
SUMMARY:4PM - Advanced Python Game Development
DESCRIPTION:Today We Did:\n\nModified EnemyTank so that it will automatically follow the PlayerTank\n\nHomework:\n\nEdit the game map so that the enemy is able to get to the player\n\nIf you have any questions\, please send an email to latisha@ayclogic.com
URL:https://www.ayclogic.com/event/4pm-advanced-python-game-development-8/
END:VEVENT
BEGIN:VEVENT
DTSTART;TZID=America/Los_Angeles:20211019T180000
DTEND;TZID=America/Los_Angeles:20211019T190000
DTSTAMP:20260424T142758
CREATED:20211020T015821Z
LAST-MODIFIED:20211020T015821Z
UID:10021-1634666400-1634670000@www.ayclogic.com
SUMMARY:6 PM - Intro to Python - Nathaniel
DESCRIPTION:Today We\n\nReviewed for Quiz 2\nReviewed for loops\, lists\, while loops\, fixing errors\, random\n\nHomework\nHomework: TRY-IT-YOURSELF from textbook Pg. 89 5-8\, Pg. 131 8-2 and Pg. 142 8-6\nNext week we will continue reviewing for Quiz 2. The only material left to\nstudy is functions. \nIf you have any questions\, please send an email to nathaniel@ayclogic.com
URL:https://www.ayclogic.com/event/6-pm-intro-to-python-nathaniel-12/
CATEGORIES:Python Level 1
END:VEVENT
BEGIN:VEVENT
DTSTART;TZID=America/Los_Angeles:20211019T180000
DTEND;TZID=America/Los_Angeles:20211019T190000
DTSTAMP:20260424T142758
CREATED:20211020T021258Z
LAST-MODIFIED:20211020T021341Z
UID:10020-1634666400-1634670000@www.ayclogic.com
SUMMARY:6PM - Scratch Level 1 - Yitong
DESCRIPTION:Today we:\n\ncreated a second ballerina\nreviewed direction\n\nHomework:\n\nCreate a dance for a new sprite\n\nClick sprites button (cat icon)\nNext to the search bar at the top click “dance”\nChoose a sprite (DO NOT choose ballerina again)\nCreate a dance using the costumes (if you need help look at the ballerinas’ codes!)\n\n\n\n\nStudy direction notes (SMALL QUIZ NEXT CLASS)
URL:https://www.ayclogic.com/event/6pm-scratch-level-1-yitong-2/
CATEGORIES:Scratch Class,Scratch Class Level 1
END:VEVENT
END:VCALENDAR