BEGIN:VCALENDAR
VERSION:2.0
PRODID:-//American Young Coder - ECPv6.10.1.1//NONSGML v1.0//EN
CALSCALE:GREGORIAN
METHOD:PUBLISH
X-ORIGINAL-URL:https://www.ayclogic.com
X-WR-CALDESC:Events for American Young Coder
REFRESH-INTERVAL;VALUE=DURATION:PT1H
X-Robots-Tag:noindex
X-PUBLISHED-TTL:PT1H
BEGIN:VTIMEZONE
TZID:America/Los_Angeles
BEGIN:DAYLIGHT
TZOFFSETFROM:-0800
TZOFFSETTO:-0700
TZNAME:PDT
DTSTART:20210314T100000
END:DAYLIGHT
BEGIN:STANDARD
TZOFFSETFROM:-0700
TZOFFSETTO:-0800
TZNAME:PST
DTSTART:20211107T090000
END:STANDARD
END:VTIMEZONE
BEGIN:VEVENT
DTSTART;TZID=America/Los_Angeles:20211020T170000
DTEND;TZID=America/Los_Angeles:20211020T180000
DTSTAMP:20260424T155557
CREATED:20211021T010434Z
LAST-MODIFIED:20211021T010434Z
UID:10045-1634749200-1634752800@www.ayclogic.com
SUMMARY:5 PM - Intro To Python - Gamas
DESCRIPTION:Homework\n\nThere will be final test on 10/23 from 4 PM to 6 PM.\nPlease study: Aug14_Complex_Shapes.py. Make sure you know how to draw face1\, face2\, face3 continuously.\nPlease study: Sep25_Robux.py. Make sure you know how to keep track of price\, and items_purchased. Practice creating an adventure game where player has health and coins and inventory. And there are monster that keeps attacking the player and reducing the health.\nPlease study: Sep11_GroceryCheckout.py.\nMake sure you practice writing codes\, don’t just read the codes. The more you practice writing codes\, the better you will be.
URL:https://www.ayclogic.com/event/5-pm-intro-to-python-gamas-2/
CATEGORIES:Python Class,Python Level 1
END:VEVENT
BEGIN:VEVENT
DTSTART;TZID=America/Los_Angeles:20211020T170000
DTEND;TZID=America/Los_Angeles:20211020T180000
DTSTAMP:20260424T155557
CREATED:20211021T023212Z
LAST-MODIFIED:20211021T023212Z
UID:10056-1634749200-1634752800@www.ayclogic.com
SUMMARY:5pm Intro To Python - Bill
DESCRIPTION:Today We:\n\nContinued the Hangman Project\nMade it so when you guess wrong\, you lose a life\nMade the life bar update and show the correct number of lives you have\nMade it so you lose when you run out of lives and ends the game\nStarted to review looping through lists and index’s to better understand how to make the guessing list of letters show what the player has guessed\n\nYour HW:\n\nCreate a list of integers: [-2\,-5\,10\,20\,100]\nContinuously ask user “Enter an integer: “\nGet the integer input from the shell (Hint: all input from shell comes in as a String)\nLoop through the list of integers and check for if the input is in the list\n\nIf it is\, print out “<number> is inside the list\nwith index <index>”\n\n\nExpected result:\nEnter a number: 0\n\nEnter a number:10\n10 is inside the list with index 2\n\nEnter a number: -2\n-2 is inside the list with index 0\n\nCreate a list of movies [“Shrek”\,”Transformers”\, “The Bee Movie”]\nAsk the user for their favorite movie\nLoop throught hte list of movies and check if that movie is in the list\nIf it is\, print out “<Movie> is inside the list\nwith index <index>”\nExpected result\nEnter a movie: Mario\n\nEnter a movie: Shrek\n\nShrek is inside the list with index 0\n\n\n 
URL:https://www.ayclogic.com/event/5pm-intro-to-python-bill-4/
END:VEVENT
BEGIN:VEVENT
DTSTART;TZID=America/Los_Angeles:20211020T170000
DTEND;TZID=America/Los_Angeles:20211020T180000
DTSTAMP:20260424T155557
CREATED:20211021T050254Z
LAST-MODIFIED:20211021T050254Z
UID:10062-1634749200-1634752800@www.ayclogic.com
SUMMARY:5PM - Advanced Digital Illustration
DESCRIPTION:WEDNESDAY \nToday we finished lines for the Ayaka project. Below is what we finished in class. \nUpdate your line-art as needed. \n \nHOMEWORK \nColor the Ayaka project in flat colors. (no shading) Here’s the reference. \nUse different layers for the different areas of color. \n1) Skin 2) Hair 3) Clothes 4) Accessories
URL:https://www.ayclogic.com/event/5pm-advanced-digital-illustration-13/
CATEGORIES:Digital Illustration,Intermediate Digital Illustration
END:VEVENT
BEGIN:VEVENT
DTSTART;TZID=America/Los_Angeles:20211020T180000
DTEND;TZID=America/Los_Angeles:20211020T190000
DTSTAMP:20260424T155557
CREATED:20211021T015858Z
LAST-MODIFIED:20211021T015858Z
UID:10047-1634752800-1634756400@www.ayclogic.com
SUMMARY:6 PM - Python Game Development
DESCRIPTION:Today \n\nWe went over the final projects.\nWe added the explosion and the bugs.\nContinue making progress.\n\n 
URL:https://www.ayclogic.com/event/6-pm-python-game-development-170/
CATEGORIES:Python Game Development
END:VEVENT
BEGIN:VEVENT
DTSTART;TZID=America/Los_Angeles:20211020T180000
DTEND;TZID=America/Los_Angeles:20211020T190000
DTSTAMP:20260424T155557
CREATED:20211021T020255Z
LAST-MODIFIED:20211021T020931Z
UID:10050-1634752800-1634756400@www.ayclogic.com
SUMMARY:6PM - Intro to Python
DESCRIPTION:Today We Did:\n\nReviewed data types\nLearned about f-strings vs using + signs for string combination\nLearned about how to use .title()\, .upper()\, and .lower() with f-string\n\nHomework:\n\nDo pg. 25 TRY-IT-YOURSELF 2-3 and 2-4 in a file called Oct20_String_TryItYourself.py\n\nIf you have any questions\, please send an email to latisha@ayclogic.com
URL:https://www.ayclogic.com/event/6pm-intro-to-python-4/
END:VEVENT
BEGIN:VEVENT
DTSTART;TZID=America/Los_Angeles:20211020T190000
DTEND;TZID=America/Los_Angeles:20211020T200000
DTSTAMP:20260424T155557
CREATED:20211021T030950Z
LAST-MODIFIED:20211021T030950Z
UID:10058-1634756400-1634760000@www.ayclogic.com
SUMMARY:7 PM - Advanced Python Game Development
DESCRIPTION:Today: \n\nWe went over the homework to add the bullet.\nWe went over the problem with centering the turret.\nWe fixed the problem centering the turret by drawing it with respect to the center of the image.\n\nHomework \n\nAdd collision detection between the bullet and the bricks:\n\nAdd self.rect attributes to both the bullet and the bricks.\nUse pygame.sprite.groupcollide to detect when bullets and sprites collide.\nWhen they collide both the bullet and the bricks disappear\n\n\nAdd animation so that when the brick is destroyed\, it explodes into fragments.\n\nLoad all the Brick fragment frames from “Bricks/Bricks_0x.png”.\nUse get_next_image technique to animation the destruction of the brick.\nWhen the animation gets to the final frame call “self.kill” so the animation doesn’t repeat.
URL:https://www.ayclogic.com/event/7-pm-advanced-python-game-development-4/
CATEGORIES:Python Game Development
END:VEVENT
END:VCALENDAR