BEGIN:VCALENDAR
VERSION:2.0
PRODID:-//American Young Coder - ECPv6.10.1.1//NONSGML v1.0//EN
CALSCALE:GREGORIAN
METHOD:PUBLISH
X-ORIGINAL-URL:https://www.ayclogic.com
X-WR-CALDESC:Events for American Young Coder
REFRESH-INTERVAL;VALUE=DURATION:PT1H
X-Robots-Tag:noindex
X-PUBLISHED-TTL:PT1H
BEGIN:VTIMEZONE
TZID:America/Los_Angeles
BEGIN:DAYLIGHT
TZOFFSETFROM:-0800
TZOFFSETTO:-0700
TZNAME:PDT
DTSTART:20210314T100000
END:DAYLIGHT
BEGIN:STANDARD
TZOFFSETFROM:-0700
TZOFFSETTO:-0800
TZNAME:PST
DTSTART:20211107T090000
END:STANDARD
END:VTIMEZONE
BEGIN:VEVENT
DTSTART;TZID=America/Los_Angeles:20211024T090000
DTEND;TZID=America/Los_Angeles:20211024T100000
DTSTAMP:20260424T154500
CREATED:20211024T030759Z
LAST-MODIFIED:20211024T030759Z
UID:10147-1635066000-1635069600@www.ayclogic.com
SUMMARY:9 AM - Scratch 1
DESCRIPTION:Today We Do\n\nWe finished Mary Had A Little Lamb project.\nWe added conductor animation.\n\nHomework\n\nPractice typing twice a day for the entire week. Click this link\, which is typing game: https://www.typerush.com/account.html?play=1 . You need to practice typing because we want you to take Intro To Python class and over there you need to do a lot of typing.
URL:https://www.ayclogic.com/event/9-am-scratch-1-11/
CATEGORIES:Scratch Class,Scratch Class Level 1
END:VEVENT
BEGIN:VEVENT
DTSTART;TZID=America/Los_Angeles:20211024T190000
DTEND;TZID=America/Los_Angeles:20211024T200000
DTSTAMP:20260424T154500
CREATED:20211025T030226Z
LAST-MODIFIED:20211025T030226Z
UID:10165-1635102000-1635105600@www.ayclogic.com
SUMMARY:7 PM - Python Game Development
DESCRIPTION:Today: \n\nWe went over the homework to add the fireball\nWe started creating birds continuously.\nWe introduced the timer technique to slow down the creation of birds.\nWe spawned birds moving to the left and the right.\n\nHomework: \n\nCreate clouds continuously\, with a random y value.\nUse the timer technique to slow down the creation of clouds.\nMake the clouds move to the right and to the left.\nAdd a new speed attribute for both the bird and the cloud sprites.  And make the speed attributes modify the position.  Then randomize the speed attributes of the birds to be between 3 and 7\, and the speed of the clouds to be between 1 and 3.
URL:https://www.ayclogic.com/event/7-pm-python-game-development-90/
CATEGORIES:Python Game Development
END:VEVENT
END:VCALENDAR