BEGIN:VCALENDAR
VERSION:2.0
PRODID:-//American Young Coder - ECPv6.10.1.1//NONSGML v1.0//EN
CALSCALE:GREGORIAN
METHOD:PUBLISH
X-ORIGINAL-URL:https://www.ayclogic.com
X-WR-CALDESC:Events for American Young Coder
REFRESH-INTERVAL;VALUE=DURATION:PT1H
X-Robots-Tag:noindex
X-PUBLISHED-TTL:PT1H
BEGIN:VTIMEZONE
TZID:America/Los_Angeles
BEGIN:DAYLIGHT
TZOFFSETFROM:-0800
TZOFFSETTO:-0700
TZNAME:PDT
DTSTART:20210314T100000
END:DAYLIGHT
BEGIN:STANDARD
TZOFFSETFROM:-0700
TZOFFSETTO:-0800
TZNAME:PST
DTSTART:20211107T090000
END:STANDARD
END:VTIMEZONE
BEGIN:VEVENT
DTSTART;TZID=America/Los_Angeles:20211027T170000
DTEND;TZID=America/Los_Angeles:20211027T180000
DTSTAMP:20260424T154515
CREATED:20211028T013016Z
LAST-MODIFIED:20211028T013016Z
UID:10191-1635354000-1635357600@www.ayclogic.com
SUMMARY:5PM - Advanced Digital Illustration
DESCRIPTION:WEDNESDAY \nContinuing the Ayaka Project: today we started shading the character. Using the clipping mask on top of the skin and hair layers\, we added shading to the skin and face. We also started on the hair at the end of class. \nHOMEWORK \nPlease catch up on the progress of the Ayaka Project. You can use the images below from class\, previous week’s event pages\, and this reference photo to help you.
URL:https://www.ayclogic.com/event/5pm-advanced-digital-illustration-14/
CATEGORIES:Digital Illustration,Intermediate Digital Illustration
END:VEVENT
BEGIN:VEVENT
DTSTART;TZID=America/Los_Angeles:20211027T170000
DTEND;TZID=America/Los_Angeles:20211027T180000
DTSTAMP:20260424T154515
CREATED:20211028T020645Z
LAST-MODIFIED:20211028T020645Z
UID:10195-1635354000-1635357600@www.ayclogic.com
SUMMARY:5pm Intro To Python - Bill
DESCRIPTION:Today We:\n\nReviewed the Homework practice problems\nContinued the Hang Man project\nFinished the updating the hints code\nMoved that code to the main hang man project file\nCleaned up some code\nFinished the Hang Man project\n\nYour HW:\n\nCreate a new file called Oct27_ExtraPracticeHW\nDo 1-5 from this link: https://www.ayclogic.com/intro-to-python-exercises/
URL:https://www.ayclogic.com/event/5pm-intro-to-python-bill-5/
END:VEVENT
BEGIN:VEVENT
DTSTART;TZID=America/Los_Angeles:20211027T180000
DTEND;TZID=America/Los_Angeles:20211027T190000
DTSTAMP:20260424T154515
CREATED:20211028T020113Z
LAST-MODIFIED:20211028T020144Z
UID:10196-1635357600-1635361200@www.ayclogic.com
SUMMARY:6 PM - Python Game Development
DESCRIPTION:Today \n\nWe went over the final project.\nWe went over how to use different musics for different pages.\nWe added collision detection for the bug.\n\nHomework \n\nDiscuss the final project\nContinue work on your final project.
URL:https://www.ayclogic.com/event/6-pm-python-game-development-171/
CATEGORIES:Python Game Development
END:VEVENT
BEGIN:VEVENT
DTSTART;TZID=America/Los_Angeles:20211027T190000
DTEND;TZID=America/Los_Angeles:20211027T200000
DTSTAMP:20260424T154515
CREATED:20211028T031951Z
LAST-MODIFIED:20211028T032015Z
UID:10199-1635361200-1635364800@www.ayclogic.com
SUMMARY:7 PM - Advanced Python Game Development
DESCRIPTION:Today: \n\nWe went over the homework\nWe made the bullet shoot in the direction the turret is facing.\n\nHomework: \n\nAdd a cool-down period that enforces a minimum time between when the tank can shoot bullets.\nAdd logic to prevent the tank from moving through the brick wall.\n\nKeep track of a prev_x and prev_y attributes.\nIf the tank collides with the brick\, then set the x value to the prev_x and the y equal to the prev_y.\nIf the brick wall is exploded\, you can pass through it.\n\n\nStart the bullet moving from the center of the turret rather than the upper left corner of the tank.  You can use the turrets self.center_x\, and self.center_y values.
URL:https://www.ayclogic.com/event/7-pm-advanced-python-game-development-5/
CATEGORIES:Python Game Development
END:VEVENT
END:VCALENDAR