BEGIN:VCALENDAR
VERSION:2.0
PRODID:-//American Young Coder - ECPv6.10.1.1//NONSGML v1.0//EN
CALSCALE:GREGORIAN
METHOD:PUBLISH
X-WR-CALNAME:American Young Coder
X-ORIGINAL-URL:https://www.ayclogic.com
X-WR-CALDESC:Events for American Young Coder
REFRESH-INTERVAL;VALUE=DURATION:PT1H
X-Robots-Tag:noindex
X-PUBLISHED-TTL:PT1H
BEGIN:VTIMEZONE
TZID:America/Los_Angeles
BEGIN:DAYLIGHT
TZOFFSETFROM:-0800
TZOFFSETTO:-0700
TZNAME:PDT
DTSTART:20210314T100000
END:DAYLIGHT
BEGIN:STANDARD
TZOFFSETFROM:-0700
TZOFFSETTO:-0800
TZNAME:PST
DTSTART:20211107T090000
END:STANDARD
END:VTIMEZONE
BEGIN:VEVENT
DTSTART;TZID=America/Los_Angeles:20211030T090000
DTEND;TZID=America/Los_Angeles:20211030T100000
DTSTAMP:20260424T154330
CREATED:20211030T183123Z
LAST-MODIFIED:20211030T183123Z
UID:10221-1635584400-1635588000@www.ayclogic.com
SUMMARY:9 AM - Android Game Development using Java
DESCRIPTION:Today We Do\n\nWe added player sprite into the screen.\n\nHomework\n\nCreate a new sprite Bird.java and use the bird0a.png as the image. Make it appear on the screen.
URL:https://www.ayclogic.com/event/9-am-android-game-development-using-java/
CATEGORIES:Android Game Development,Java
END:VEVENT
BEGIN:VEVENT
DTSTART;TZID=America/Los_Angeles:20211030T100000
DTEND;TZID=America/Los_Angeles:20211030T110000
DTSTAMP:20260424T154330
CREATED:20211030T041224Z
LAST-MODIFIED:20211030T041224Z
UID:10215-1635588000-1635591600@www.ayclogic.com
SUMMARY:SAT - 10 AM - Scratch 1 - Indo
DESCRIPTION:Today We Do\n\nWe reviewed the test results\nWe started Spaceship 2.0\nWe created fireball sprite\n\nHomework\n\nWhen space key is pressed\, a fireball clone is created.\nMake the fireball clone appear on the screen\nMake the fireball clone move up\nWhen the fireball clone hit the top of the screen. Make it disappear.
URL:https://www.ayclogic.com/event/sat-10-am-scratch-1-indo-8/
CATEGORIES:Scratch Class,Scratch Class Level 2
END:VEVENT
BEGIN:VEVENT
DTSTART;TZID=America/Los_Angeles:20211030T100000
DTEND;TZID=America/Los_Angeles:20211030T110000
DTSTAMP:20260424T154330
CREATED:20211030T182826Z
LAST-MODIFIED:20211030T182826Z
UID:10219-1635588000-1635591600@www.ayclogic.com
SUMMARY:10 AM - Intro To Java
DESCRIPTION:Today We Do\n\nWe reviewed SchoolApplication and EmailSystem to prepare for quiz next week.\n\nHomework\n\nStudy SchoolApplication and EmailSystem.\nTry to do SchoolApplication from scratch. And try not to look at the finish version. This way you are coding practice. If you are stuck\, you can look at the finish version. Try to do\, add new student\, list all students\, find student using dictionary. Also try list all students using dictionary.
URL:https://www.ayclogic.com/event/10-am-intro-to-java-21/
CATEGORIES:Python Class,Python Level 1
END:VEVENT
BEGIN:VEVENT
DTSTART;TZID=America/Los_Angeles:20211030T120000
DTEND;TZID=America/Los_Angeles:20211030T130000
DTSTAMP:20260424T154330
CREATED:20211030T195654Z
LAST-MODIFIED:20211030T195654Z
UID:10224-1635595200-1635598800@www.ayclogic.com
SUMMARY:12 PM - Intro To Java
DESCRIPTION:Homework\n\nCreate a new Java file Oct30_WhileLoopHomework.java\nDo exercises from https://www.ayclogic.com/java-exercise-while-loop/
URL:https://www.ayclogic.com/event/12-pm-intro-to-java-4/
CATEGORIES:Introduction To Java,Java
END:VEVENT
BEGIN:VEVENT
DTSTART;TZID=America/Los_Angeles:20211030T130000
DTEND;TZID=America/Los_Angeles:20211030T140000
DTSTAMP:20260424T154330
CREATED:20211030T210026Z
LAST-MODIFIED:20211030T211021Z
UID:10226-1635598800-1635602400@www.ayclogic.com
SUMMARY:1 PM - Python Game Development
DESCRIPTION:Today: \n\nWe went over the final projects.\nWe added the score indicator countdown indicator and explosion sprites. I’ve uploaded the source code here.\n\nHomework: \n\nFinish your final projects and send me an email by Friday letting me know you’re done.
URL:https://www.ayclogic.com/event/1-pm-python-game-development-38/
CATEGORIES:Python Game Development
END:VEVENT
BEGIN:VEVENT
DTSTART;TZID=America/Los_Angeles:20211030T140000
DTEND;TZID=America/Los_Angeles:20211030T150000
DTSTAMP:20260424T154330
CREATED:20211030T215029Z
LAST-MODIFIED:20211030T215805Z
UID:10231-1635602400-1635606000@www.ayclogic.com
SUMMARY:2PM - Intro to Python - Gamas
DESCRIPTION:Today we Did:\n\nFinish Robot Builder\n\nRight arm\nLeft and Right Legs\n\n\nStarted DrawFace\n\nHomework:\n\nNone\n\n \nIf you have any questions\, please send an email to latisha@ayclogic.com
URL:https://www.ayclogic.com/event/2pm-intro-to-python-gamas-4/
END:VEVENT
BEGIN:VEVENT
DTSTART;TZID=America/Los_Angeles:20211030T140000
DTEND;TZID=America/Los_Angeles:20211030T150000
DTSTAMP:20260424T154330
CREATED:20211031T032134Z
LAST-MODIFIED:20211031T032848Z
UID:10248-1635602400-1635606000@www.ayclogic.com
SUMMARY:2 PM - Intro To Python - Latisha
DESCRIPTION:Today We Do\n\nWe went over the homeworks\nWe reviewed While loop coding.\n\nHomework\n\nNext week on Nov 6\, we will have 1st quiz retake. It will be an hour quiz. But please come 15 mins early at 1:45 PM\, so you have a little bit more time.\nTo prepare for your quiz\, please review your last quiz and try to do the quiz on Thonny. If you are stuck\, you can look at the answer keys that I have provided in the quiz feedbacks.\nTo prepare for your quiz\, please redo all the homeworks that we have done in the past 3 weeks. Create a new file for each homeworks\, try not to look at the solution. If you are stuck you can look at the solution. The more your practice coding\, the better you will be in the quiz\n\nOct 23 – https://www.ayclogic.com/event/2-pm-intro-to-python-latisha-2/\nOct 16 – https://www.ayclogic.com/event/2-pm-intro-to-python-37/\nOct 9 – https://www.ayclogic.com/event/2-pm-intro-to-python-latisha/\n\n\nPlease try to do number 9 only from here. You need to use while loop for this\, which we went over today in the class: https://www.ayclogic.com/intro-to-python-exercises/\nI have uploaded all python files we have done in the class into google drive: https://drive.google.com/drive/u/0/folders/1M7HsIvSLN0w8r3pbgf9I7rJT4pN2lknL\nYou can also play around with Python here if you want: https://www.w3schools.com/python/
URL:https://www.ayclogic.com/event/2-pm-intro-to-python-latisha-3/
CATEGORIES:Python Class,Python Level 1
END:VEVENT
BEGIN:VEVENT
DTSTART;TZID=America/Los_Angeles:20211030T150000
DTEND;TZID=America/Los_Angeles:20211030T160000
DTSTAMP:20260424T154330
CREATED:20211030T224919Z
LAST-MODIFIED:20211030T224919Z
UID:10235-1635606000-1635609600@www.ayclogic.com
SUMMARY:3 PM - OOP Python - Nathaniel
DESCRIPTION:Today we:\n\nWent over MonsterInheritanceSystem program\nAdded the Godzilla class to the program\nCreated the Hangman class\n\n  \nHomework:\nCreate a class called "Counter". And have an attribute of a count (starts at 0).\nCreate an application loop that runs the program of allowing a user to\nincrease count by whatever number they input. There should be one other helper methods:\n\ndef increase(x)\n\n\nExample program run:\n\nWelcome to the Counter game!\nPlease enter a number that you would like to add from the current count\n\n>> 3\nCount is now at a value of 3!\n\n>> 9\nCount is now at a value of 12!\n\n>> 100\nCount is now at a value of 112!
URL:https://www.ayclogic.com/event/3-pm-oop-python-nathaniel-4/
CATEGORIES:OOP Python
END:VEVENT
BEGIN:VEVENT
DTSTART;TZID=America/Los_Angeles:20211030T150000
DTEND;TZID=America/Los_Angeles:20211030T160000
DTSTAMP:20260424T154330
CREATED:20211031T030755Z
LAST-MODIFIED:20211031T030755Z
UID:10246-1635606000-1635609600@www.ayclogic.com
SUMMARY:3 PM - Python Game Development
DESCRIPTION:Today We Do\n\nWe Added “Start Wave” and “Cancel Purchase” buttons on the screen.\n\nHomework\n\nAdd code in main.py to make “Start Wave” and “Cancel Purchase” buttons clickable. Please do this by Wednesday night.
URL:https://www.ayclogic.com/event/3-pm-python-game-development-48/
CATEGORIES:Python Class,Python Game Development
END:VEVENT
BEGIN:VEVENT
DTSTART;TZID=America/Los_Angeles:20211030T150000
DTEND;TZID=America/Los_Angeles:20211030T160000
DTSTAMP:20260424T154330
CREATED:20211104T010928Z
LAST-MODIFIED:20211104T010928Z
UID:10280-1635606000-1635609600@www.ayclogic.com
SUMMARY:4 PM - Scratch 1 - Allison
DESCRIPTION:Homework\n\nDo the following practice test: https://docs.google.com/forms/d/1LWyLrW3Ps26vr3OSQuXj7anye7_g130ijfw7FBDVlBA \nMake sure to finish this before the class on Saturday.
URL:https://www.ayclogic.com/event/4-pm-scratch-1-allison/
CATEGORIES:Scratch Class,Scratch Class Level 1
END:VEVENT
BEGIN:VEVENT
DTSTART;TZID=America/Los_Angeles:20211030T150000
DTEND;TZID=America/Los_Angeles:20211030T160000
DTSTAMP:20260424T154330
CREATED:20211106T174204Z
LAST-MODIFIED:20211106T174204Z
UID:10322-1635606000-1635609600@www.ayclogic.com
SUMMARY:3 PM - Scratch 1 - Bill Han
DESCRIPTION:Homework\n\nNo homework
URL:https://www.ayclogic.com/event/3-pm-scratch-1-bill-han/
CATEGORIES:Scratch Class,Scratch Class Level 1
END:VEVENT
BEGIN:VEVENT
DTSTART;TZID=America/Los_Angeles:20211030T163000
DTEND;TZID=America/Los_Angeles:20211030T173000
DTSTAMP:20260424T154330
CREATED:20211031T221051Z
LAST-MODIFIED:20211031T221051Z
UID:10253-1635611400-1635615000@www.ayclogic.com
SUMMARY:4:30 PM - Scratch Level 1
DESCRIPTION:Today we:\n\nContinued the Dino Dance project\nCoded the Dinosaur3 sprite to move when the left\, up\, and down arrow is pressed\nAdded the Ballerina sprite\nLearned about the Repeat code\nCoded the Ballerina sprite to switch costumes\n\nHomework:\n\nRead Scratch Book Pg. 45\, and do the codes in steps #30-31\nComplete the homework before our next class\nCome to our next class with two devices: one for doing your Scratch project and one for looking at the zoom call\nContact us if you have any questions or need any help
URL:https://www.ayclogic.com/event/430-pm-scratch-level-1-3/
CATEGORIES:Scratch Class,Scratch Class Level 1
END:VEVENT
BEGIN:VEVENT
DTSTART;TZID=America/Los_Angeles:20211030T180000
DTEND;TZID=America/Los_Angeles:20211030T190000
DTSTAMP:20260424T154330
CREATED:20211031T023539Z
LAST-MODIFIED:20211031T023539Z
UID:10239-1635616800-1635620400@www.ayclogic.com
SUMMARY:6 PM – Intro To Python – David
DESCRIPTION:Today We Do\n\nWe reviewed if statements\, else-if statements\, and else\n==\, <=\, >= \, <\, >\, and !=\nAND and OR\n\nHomework\n\nPage 84\, 5-3\, 5-4\nONLY question #3 from: https://www.ayclogic.com/list-inputs-if-and-else-loops-and-function/\n\nIf you have any questions\, please email david@ayclogic.com. I have also uploaded the homework into the drive folder since you guys may not have the textbook yet.
URL:https://www.ayclogic.com/event/6-pm-intro-to-python-david-2/
END:VEVENT
END:VCALENDAR