BEGIN:VCALENDAR
VERSION:2.0
PRODID:-//American Young Coder - ECPv6.10.1.1//NONSGML v1.0//EN
CALSCALE:GREGORIAN
METHOD:PUBLISH
X-ORIGINAL-URL:https://www.ayclogic.com
X-WR-CALDESC:Events for American Young Coder
REFRESH-INTERVAL;VALUE=DURATION:PT1H
X-Robots-Tag:noindex
X-PUBLISHED-TTL:PT1H
BEGIN:VTIMEZONE
TZID:America/Los_Angeles
BEGIN:DAYLIGHT
TZOFFSETFROM:-0800
TZOFFSETTO:-0700
TZNAME:PDT
DTSTART:20210314T100000
END:DAYLIGHT
BEGIN:STANDARD
TZOFFSETFROM:-0700
TZOFFSETTO:-0800
TZNAME:PST
DTSTART:20211107T090000
END:STANDARD
END:VTIMEZONE
BEGIN:VEVENT
DTSTART;TZID=America/Los_Angeles:20211031T090000
DTEND;TZID=America/Los_Angeles:20211031T100000
DTSTAMP:20260424T113527
CREATED:20211031T030013Z
LAST-MODIFIED:20211107T020656Z
UID:10242-1635670800-1635674400@www.ayclogic.com
SUMMARY:9 AM - Scratch 1 - Indo
DESCRIPTION:Today We Do\n\nWe reviewed the typing WPM speed.\nWe started Tunnel of Doom\n\nHomework\n\nContinue with Tunnel of Doom project from page 130 to 132.\nCreate two more costumes for your Tunnel sprite. When you click the green flag\, randomly choose the costumes.\nContinue practice typing https://www.typerush.com/ the goal is for student to achieve 40 WPM speed.
URL:https://www.ayclogic.com/event/9-am-scratch-1-indo-4/
CATEGORIES:Scratch Class,Scratch Class Level 1
END:VEVENT
END:VCALENDAR