BEGIN:VCALENDAR
VERSION:2.0
PRODID:-//American Young Coder - ECPv6.10.1.1//NONSGML v1.0//EN
CALSCALE:GREGORIAN
METHOD:PUBLISH
X-ORIGINAL-URL:https://www.ayclogic.com
X-WR-CALDESC:Events for American Young Coder
REFRESH-INTERVAL;VALUE=DURATION:PT1H
X-Robots-Tag:noindex
X-PUBLISHED-TTL:PT1H
BEGIN:VTIMEZONE
TZID:America/Los_Angeles
BEGIN:DAYLIGHT
TZOFFSETFROM:-0800
TZOFFSETTO:-0700
TZNAME:PDT
DTSTART:20210314T100000
END:DAYLIGHT
BEGIN:STANDARD
TZOFFSETFROM:-0700
TZOFFSETTO:-0800
TZNAME:PST
DTSTART:20211107T090000
END:STANDARD
END:VTIMEZONE
BEGIN:VEVENT
DTSTART;TZID=America/Los_Angeles:20211101T160000
DTEND;TZID=America/Los_Angeles:20211101T170000
DTSTAMP:20260424T113531
CREATED:20211102T005859Z
LAST-MODIFIED:20211102T005859Z
UID:10264-1635782400-1635786000@www.ayclogic.com
SUMMARY:4PM - Advanced Python Game Development
DESCRIPTION:Today We Did:\n\nCreated Loading Page\nCreated Landing Page\nMade enemy disappear when the player shoots it\n\nHomework:\n\nWhen the enemy is shot\, change the game mode to GAME_WIN and show the play button\n\nIf you have any questions\, please send an email to latisha@ayclogic.com
URL:https://www.ayclogic.com/event/4pm-advanced-python-game-development-10/
END:VEVENT
BEGIN:VEVENT
DTSTART;TZID=America/Los_Angeles:20211101T170000
DTEND;TZID=America/Los_Angeles:20211101T180000
DTSTAMP:20260424T113531
CREATED:20211102T014255Z
LAST-MODIFIED:20211102T014255Z
UID:10270-1635786000-1635789600@www.ayclogic.com
SUMMARY:5pm Scratch Level 2 - Bill
DESCRIPTION:Today We:\n\nContinued the Cheese Chase Project\nFixed the beetles when level 2 started\nMade the enemies move faster when level 2 starts\nCreated variables to control the speed and difficulty of the game\nFinished the Cheese Chase project.\nStarted the jumpy monkey project\nMade a monkey sprite\nMade the launcher sprite go on top of the monkey and stay in the bottom left corner of the screen\n\nYour HW:\n\nDo pages 92 and 93 from the book
URL:https://www.ayclogic.com/event/5pm-scratch-level-2-bill-6/
END:VEVENT
BEGIN:VEVENT
DTSTART;TZID=America/Los_Angeles:20211101T170000
DTEND;TZID=America/Los_Angeles:20211101T180000
DTSTAMP:20260424T113531
CREATED:20211104T025845Z
LAST-MODIFIED:20211104T025845Z
UID:10292-1635786000-1635789600@www.ayclogic.com
SUMMARY:5PM - Advanced Digital Illustration
DESCRIPTION:MONDAY \nContinuing Sam Sparks project. Today we laid down the flat colors and started on shading by adding the details to the eyes. \n \nNo Homework
URL:https://www.ayclogic.com/event/5pm-advanced-digital-illustration-16/
CATEGORIES:Digital Illustration,Intermediate Digital Illustration
END:VEVENT
END:VCALENDAR