BEGIN:VCALENDAR
VERSION:2.0
PRODID:-//American Young Coder - ECPv6.10.1.1//NONSGML v1.0//EN
CALSCALE:GREGORIAN
METHOD:PUBLISH
X-ORIGINAL-URL:https://www.ayclogic.com
X-WR-CALDESC:Events for American Young Coder
REFRESH-INTERVAL;VALUE=DURATION:PT1H
X-Robots-Tag:noindex
X-PUBLISHED-TTL:PT1H
BEGIN:VTIMEZONE
TZID:America/Los_Angeles
BEGIN:DAYLIGHT
TZOFFSETFROM:-0800
TZOFFSETTO:-0700
TZNAME:PDT
DTSTART:20210314T100000
END:DAYLIGHT
BEGIN:STANDARD
TZOFFSETFROM:-0700
TZOFFSETTO:-0800
TZNAME:PST
DTSTART:20211107T090000
END:STANDARD
END:VTIMEZONE
BEGIN:VEVENT
DTSTART;TZID=America/Los_Angeles:20211102T160000
DTEND;TZID=America/Los_Angeles:20211102T170000
DTSTAMP:20260424T113538
CREATED:20211108T190542Z
LAST-MODIFIED:20211108T190542Z
UID:10355-1635868800-1635872400@www.ayclogic.com
SUMMARY:4PM - Advanced Python Game Development
DESCRIPTION:Today We Did:\n\nCreated TankExplosion\n\nHomework:\n\nCreate Shield class in shield.py and have it follow the playertank wherever it goes\n\nIf you have any questions\, please send an email to latisha@ayclogic.com
URL:https://www.ayclogic.com/event/4pm-advanced-python-game-development-11/
END:VEVENT
BEGIN:VEVENT
DTSTART;TZID=America/Los_Angeles:20211102T180000
DTEND;TZID=America/Los_Angeles:20211102T190000
DTSTAMP:20260424T113538
CREATED:20211103T033637Z
LAST-MODIFIED:20211103T054015Z
UID:10275-1635876000-1635879600@www.ayclogic.com
SUMMARY:6 PM – Scratch Level 1 – Yitong
DESCRIPTION:Today we:\n\nFinished drawing the finish line\nDrew a “win” banner and added code\nAdded code to the dog for touching the finish line\nAdded code to bat when dog wins\nAdded music when dog wins\n\nHomework:\n\nDraw a “Bat Win” banner\nAdd “hide” and “show” code to the banner\nAdd code to bat for touching the finish line\nAdd code to dog for when bat wins\nAdd music when bat wins
URL:https://www.ayclogic.com/event/6-pm-scratch-level-1-yitong/
CATEGORIES:Scratch Class,Scratch Class Level 1
END:VEVENT
END:VCALENDAR