BEGIN:VCALENDAR
VERSION:2.0
PRODID:-//American Young Coder - ECPv6.10.1.1//NONSGML v1.0//EN
CALSCALE:GREGORIAN
METHOD:PUBLISH
X-ORIGINAL-URL:https://www.ayclogic.com
X-WR-CALDESC:Events for American Young Coder
REFRESH-INTERVAL;VALUE=DURATION:PT1H
X-Robots-Tag:noindex
X-PUBLISHED-TTL:PT1H
BEGIN:VTIMEZONE
TZID:America/Los_Angeles
BEGIN:DAYLIGHT
TZOFFSETFROM:-0800
TZOFFSETTO:-0700
TZNAME:PDT
DTSTART:20210314T100000
END:DAYLIGHT
BEGIN:STANDARD
TZOFFSETFROM:-0700
TZOFFSETTO:-0800
TZNAME:PST
DTSTART:20211107T090000
END:STANDARD
END:VTIMEZONE
BEGIN:VEVENT
DTSTART;TZID=America/Los_Angeles:20211104T160000
DTEND;TZID=America/Los_Angeles:20211104T170000
DTSTAMP:20260424T113505
CREATED:20211105T000237Z
LAST-MODIFIED:20211109T172743Z
UID:10300-1636041600-1636045200@www.ayclogic.com
SUMMARY:4PM - Object Oriented Python
DESCRIPTION:Today we did:\n\nWent over how to turn hangman.py into a Class\nReviewed how to make an application\n\nHomework:\n\nDo the Final Practice Test that has been sent in your emails.\n\nIf you have any questions\, please send me an email at latisha@ayclogic.com
URL:https://www.ayclogic.com/event/4pm-object-oriented-python-8/
END:VEVENT
BEGIN:VEVENT
DTSTART;TZID=America/Los_Angeles:20211104T170000
DTEND;TZID=America/Los_Angeles:20211104T180000
DTSTAMP:20260424T113505
CREATED:20211105T011810Z
LAST-MODIFIED:20211105T012252Z
UID:10304-1636045200-1636048800@www.ayclogic.com
SUMMARY:5 PM – Scratch Level 1 – Allison
DESCRIPTION:Today we:\n\nStarted the Mary Had a Little Lamb project\nCoded the Ball sprite to grow and shrink when touching the mouse pointer\nCoded the Ball sprite to change colors when touching the mouse pointer\nLearned about the “clear graphic effects” code\nCoded the Ball sprite to play the note C when touching the mouse pointer\n\nHomework:\n\nAdd codes to turn video camera on when the Green Flag is clicked\nAdd codes to turn video camera off when we press the space key\nCode the Ball sprite to grow\, shrink\, and change colors when the video camera senses motion on the Ball sprite (Ex: if you wave your hand on your screen and touch the Ball sprite\, the Ball sprite will grow\, shrink\, and change colors)\nNOTE: You can look at your Window Cleaner and Punch Dummy projects for reference. Try not to look at the references unless you need help\nContact us if you have any questions or need any help
URL:https://www.ayclogic.com/event/5-pm-scratch-level-1-allison-22/
CATEGORIES:Scratch Class,Scratch Class Level 1
END:VEVENT
BEGIN:VEVENT
DTSTART;TZID=America/Los_Angeles:20211104T170000
DTEND;TZID=America/Los_Angeles:20211104T180000
DTSTAMP:20260424T113505
CREATED:20211105T031834Z
LAST-MODIFIED:20211105T031834Z
UID:10314-1636045200-1636048800@www.ayclogic.com
SUMMARY:5 PM Scratch Level 2 Alexander Lee
DESCRIPTION:Today We Did:\n\nToday we started the Spaceship 2.0 project.\n\nFor Homework:\n\nPlease create a copy of the star and make a new costume and title it as a Fireball Power up.\nWhen the spaceship touches the power up the Fireball variable should go up by one.
URL:https://www.ayclogic.com/event/5-pm-scratch-level-2-alexander-lee/
CATEGORIES:Scratch Class,Scratch Class Level 2
END:VEVENT
BEGIN:VEVENT
DTSTART;TZID=America/Los_Angeles:20211104T190000
DTEND;TZID=America/Los_Angeles:20211104T200000
DTSTAMP:20260424T113505
CREATED:20211105T031032Z
LAST-MODIFIED:20211105T031032Z
UID:10312-1636052400-1636056000@www.ayclogic.com
SUMMARY:7 PM - Intro To Java
DESCRIPTION:Homework\n\nCreate a new Java file\, Nov4_WhileLoopHomework.java\nDo exercises in here: https://www.ayclogic.com/java-exercise-while-loop/
URL:https://www.ayclogic.com/event/7-pm-intro-to-java-3/
CATEGORIES:Introduction To Java,Java
END:VEVENT
END:VCALENDAR