BEGIN:VCALENDAR
VERSION:2.0
PRODID:-//American Young Coder - ECPv6.10.1.1//NONSGML v1.0//EN
CALSCALE:GREGORIAN
METHOD:PUBLISH
X-WR-CALNAME:American Young Coder
X-ORIGINAL-URL:https://www.ayclogic.com
X-WR-CALDESC:Events for American Young Coder
REFRESH-INTERVAL;VALUE=DURATION:PT1H
X-Robots-Tag:noindex
X-PUBLISHED-TTL:PT1H
BEGIN:VTIMEZONE
TZID:America/Los_Angeles
BEGIN:DAYLIGHT
TZOFFSETFROM:-0800
TZOFFSETTO:-0700
TZNAME:PDT
DTSTART:20210314T100000
END:DAYLIGHT
BEGIN:STANDARD
TZOFFSETFROM:-0700
TZOFFSETTO:-0800
TZNAME:PST
DTSTART:20211107T090000
END:STANDARD
END:VTIMEZONE
BEGIN:VEVENT
DTSTART;TZID=America/Los_Angeles:20211106T100000
DTEND;TZID=America/Los_Angeles:20211106T110000
DTSTAMP:20260424T113322
CREATED:20211106T035932Z
LAST-MODIFIED:20211106T035932Z
UID:10320-1636192800-1636196400@www.ayclogic.com
SUMMARY:SAT - 10 AM - Scratch 2 - Indo
DESCRIPTION:Homework\n\nCreate a new sprite (bomb)\, use the Lighting image from scratch.\nWhen user click the “b” button on the keyboard\, launch the lighting going up. Very similar to fireball.\nWhen lighting touch the “asteroid” destroy the asteroid. But keep the lighting.
URL:https://www.ayclogic.com/event/sat-10-am-scratch-2-indo/
CATEGORIES:Scratch Class,Scratch Class Level 1
END:VEVENT
BEGIN:VEVENT
DTSTART;TZID=America/Los_Angeles:20211106T130000
DTEND;TZID=America/Los_Angeles:20211106T140000
DTSTAMP:20260424T113322
CREATED:20211106T210734Z
LAST-MODIFIED:20211107T201023Z
UID:10330-1636203600-1636207200@www.ayclogic.com
SUMMARY:1 PM - Python Game Development
DESCRIPTION:Today: \n\nWe add the Bug to the Shoot Balloon.\nI’ve uploaded the final code here.\nCongrats on finishing the final projects!
URL:https://www.ayclogic.com/event/1-pm-python-game-development-39/
CATEGORIES:Python Game Development
END:VEVENT
BEGIN:VEVENT
DTSTART;TZID=America/Los_Angeles:20211106T140000
DTEND;TZID=America/Los_Angeles:20211106T150000
DTSTAMP:20260424T113322
CREATED:20211106T220020Z
LAST-MODIFIED:20211106T220020Z
UID:10334-1636207200-1636210800@www.ayclogic.com
SUMMARY:2PM - Intro to Python - Gamas
DESCRIPTION:Today we Did:\n\nLearned how to use t.setheading()\nLearned how to draw a circle\nCreated face1 function\n\nHomework:\n\nWrite a function called face2 that has the arguments x\,y\,face_color\, and color2 that will draw the face below. Call the function twice in two different xy locations to show that the face is being drawn correctly. Do it in the Oct30_DrawShapes.py\n\n \nIf you have any questions\, please send an email to latisha@ayclogic.com
URL:https://www.ayclogic.com/event/2pm-intro-to-python-gamas-5/
END:VEVENT
BEGIN:VEVENT
DTSTART;TZID=America/Los_Angeles:20211106T140000
DTEND;TZID=America/Los_Angeles:20211106T150000
DTSTAMP:20260424T113322
CREATED:20211106T220116Z
LAST-MODIFIED:20211106T220116Z
UID:10333-1636207200-1636210800@www.ayclogic.com
SUMMARY:2 PM Scratch Level 1 Alexander Lee
DESCRIPTION:Today We Did:\n\nWe were able to finish up the Window Cleaner project.\nStarted up the Punch the Dummy project.\nAdded in the eye and also made it move back when hit.\n\nFor Homework:\n\nPlease create a new sprite for the face.\nAdd in code to make the face move back at the same time as when the eye moves back\, make sure they are in the same area.
URL:https://www.ayclogic.com/event/2-pm-scratch-level-1-alexander-lee-2/
CATEGORIES:Scratch Class,Scratch Class Level 1
END:VEVENT
BEGIN:VEVENT
DTSTART;TZID=America/Los_Angeles:20211106T140000
DTEND;TZID=America/Los_Angeles:20211106T150000
DTSTAMP:20260424T113322
CREATED:20211113T211901Z
LAST-MODIFIED:20211114T020850Z
UID:10447-1636207200-1636210800@www.ayclogic.com
SUMMARY:2 PM - Intro To Python - Latisha
DESCRIPTION:Today We Do\n\nWe had 1st quiz retake.\n\nHomework\n\nNo homework.\nOn Nov 13\, Latisha is back to teach you guys.
URL:https://www.ayclogic.com/event/2-pm-intro-to-python-latisha-4/
CATEGORIES:Python Class,Python Level 1
END:VEVENT
BEGIN:VEVENT
DTSTART;TZID=America/Los_Angeles:20211106T150000
DTEND;TZID=America/Los_Angeles:20211106T160000
DTSTAMP:20260424T113322
CREATED:20211106T233650Z
LAST-MODIFIED:20211106T233650Z
UID:10337-1636210800-1636214400@www.ayclogic.com
SUMMARY:3pm Scratch Level 1 - Bill
DESCRIPTION:Today We:\n\nContinued the Tunnel Of Doom Project\nMade the House button where you win\nMade the beetle follow your mouse pointer continuously\nMade a You Win banner that appears when you touch the House Button\nMade the beetle only start following the mouse once you hover the mouse over it first\nMade it so when you touch the walls of the tunnel\, you reset\nAdded background music\nMade the tunnel colors rainbow\nFinished the Tunnel Of Doom Project\n\nYour HW:\n\nDownload the Jingle Bells image from Courses > Project Resources
URL:https://www.ayclogic.com/event/3pm-scratch-level-1-bill-5/
END:VEVENT
BEGIN:VEVENT
DTSTART;TZID=America/Los_Angeles:20211106T150000
DTEND;TZID=America/Los_Angeles:20211106T160000
DTSTAMP:20260424T113322
CREATED:20211107T001716Z
LAST-MODIFIED:20211107T001716Z
UID:10339-1636210800-1636214400@www.ayclogic.com
SUMMARY:3 PM - OOP Python - Nathaniel
DESCRIPTION:Today we:\n\nWent over the Counter class homework\nStarted working on the Driver class homework\n\nHomework:\n\nComplete the Driver class homework (reference the google form for further instructions)\nDriver Class Homework Instructions 
URL:https://www.ayclogic.com/event/3-pm-oop-python-nathaniel-5/
CATEGORIES:OOP Python
END:VEVENT
BEGIN:VEVENT
DTSTART;TZID=America/Los_Angeles:20211106T150000
DTEND;TZID=America/Los_Angeles:20211106T160000
DTSTAMP:20260424T113322
CREATED:20211107T225040Z
LAST-MODIFIED:20211107T230340Z
UID:10345-1636210800-1636214400@www.ayclogic.com
SUMMARY:3 PM - Scratch Level 1 - Allison
DESCRIPTION:Today we:\n\nReviewed the Practice Test\n\nHomework:\n\nSubmit your Practice Test Google Form\nStudy for the Retake Test\nMake sure to study the coordinates for the edges of the screen (see the bottom link)\nIf you’d like\, you can study the resources attached below to prepare for the test\nContact us if you have any questions or need any help\n\nResources:\n\nSpaceship V1.0: https://scratch.mit.edu/projects/266884838\nAnimal Crossing: https://scratch.mit.edu/projects/559936031\nBirthday Card: https://scratch.mit.edu/projects/557279686\nCat Art: https://scratch.mit.edu/projects/331671044\nAnimal Race: https://scratch.mit.edu/projects/537193836\nReview your Practice Test\n\nClick on the link below to see a picture of a coordinate plane with labeled coordinates. Make sure to memorize the coordinates (the ones in red). \nNumbered Shapes In Grid – Labeled
URL:https://www.ayclogic.com/event/3-pm-scratch-level-1-allison-10/
CATEGORIES:Scratch Class,Scratch Class Level 1
END:VEVENT
BEGIN:VEVENT
DTSTART;TZID=America/Los_Angeles:20211106T163000
DTEND;TZID=America/Los_Angeles:20211106T173000
DTSTAMP:20260424T113322
CREATED:20211107T230151Z
LAST-MODIFIED:20211107T230151Z
UID:10347-1636216200-1636219800@www.ayclogic.com
SUMMARY:4:30 PM - Scratch Level 1
DESCRIPTION:Today we:\n\nCoded the first Ballerina sprite to switch more costumes\nAdded a second Ballerina sprite\nCoded the second Ballerina sprite to switch costumes\nReviewed the directions in Scratch\nMade all Dinosaur sprites change costumes\nCoded music to forever play\nFinished the Dino Dance project\nIntroduced and started the Animal Race project\n\nHomework:\n\nRead Scratch Book Pg. 51-52 and do the codes in steps #7-11\nContact us if you have any questions or need any help
URL:https://www.ayclogic.com/event/430-pm-scratch-level-1-4/
CATEGORIES:Scratch Class,Scratch Class Level 1
END:VEVENT
BEGIN:VEVENT
DTSTART;TZID=America/Los_Angeles:20211106T170000
DTEND;TZID=America/Los_Angeles:20211106T180000
DTSTAMP:20260424T113322
CREATED:20211107T012816Z
LAST-MODIFIED:20211107T012906Z
UID:10342-1636218000-1636221600@www.ayclogic.com
SUMMARY:5 PM - Intro To Java
DESCRIPTION:Today We Do\n\nWe learned about variables and data types.\nWe learned about primitive data types.\nWe learned about String and how to combine string together.\n\nHomework\n\nCreate a new Java file Nov6_VariableDataTypesHomework.java\nDo exercise in here ONLY number 1 to 3: https://www.ayclogic.com/java-variables-datatypes/
URL:https://www.ayclogic.com/event/5-pm-intro-to-java-3/
CATEGORIES:Introduction To Java,Java
END:VEVENT
BEGIN:VEVENT
DTSTART;TZID=America/Los_Angeles:20211106T180000
DTEND;TZID=America/Los_Angeles:20211106T190000
DTSTAMP:20260424T113322
CREATED:20211109T215236Z
LAST-MODIFIED:20211109T215236Z
UID:10364-1636221600-1636225200@www.ayclogic.com
SUMMARY:6 PM - Intro to Python - David
DESCRIPTION:Today We:\n\nWe reviewed if statements\, else-if statements\, and else\nLearned how to get input from shell\nAssignment operators (+=\, -=\, *=)\n\nHomework:\n\nPage 117: 7-1\, 7-2\, 7-3\nTell Me Your Age homework ONLY number 1\n\nIf you have any questions\, please email david@ayclogic.com
URL:https://www.ayclogic.com/event/6-pm-intro-to-python-david-3/
END:VEVENT
END:VCALENDAR