BEGIN:VCALENDAR
VERSION:2.0
PRODID:-//American Young Coder - ECPv6.10.1.1//NONSGML v1.0//EN
CALSCALE:GREGORIAN
METHOD:PUBLISH
X-ORIGINAL-URL:https://www.ayclogic.com
X-WR-CALDESC:Events for American Young Coder
REFRESH-INTERVAL;VALUE=DURATION:PT1H
X-Robots-Tag:noindex
X-PUBLISHED-TTL:PT1H
BEGIN:VTIMEZONE
TZID:America/Los_Angeles
BEGIN:DAYLIGHT
TZOFFSETFROM:-0800
TZOFFSETTO:-0700
TZNAME:PDT
DTSTART:20210314T100000
END:DAYLIGHT
BEGIN:STANDARD
TZOFFSETFROM:-0700
TZOFFSETTO:-0800
TZNAME:PST
DTSTART:20211107T090000
END:STANDARD
END:VTIMEZONE
BEGIN:VEVENT
DTSTART;TZID=America/Los_Angeles:20211108T160000
DTEND;TZID=America/Los_Angeles:20211108T170000
DTSTAMP:20260424T113534
CREATED:20211116T005857Z
LAST-MODIFIED:20211116T005857Z
UID:10358-1636387200-1636390800@www.ayclogic.com
SUMMARY:4PM - Advanced Game Development
DESCRIPTION:Today We Did:\n\nFinished TankExplosion\n\nHomework:\n\nMake the shield continually rotate\n\nIf you have any questions\, please send an email to latisha@ayclogic.com
URL:https://www.ayclogic.com/event/4pm-advanced-game-development/
END:VEVENT
BEGIN:VEVENT
DTSTART;TZID=America/Los_Angeles:20211108T170000
DTEND;TZID=America/Los_Angeles:20211108T180000
DTSTAMP:20260424T113534
CREATED:20211109T064308Z
LAST-MODIFIED:20211109T064308Z
UID:10360-1636390800-1636394400@www.ayclogic.com
SUMMARY:5pm Scratch Level 2 - Bill
DESCRIPTION:Today We:\n\nContinued the Jumpy Monkey Project\nMade the monkey launch in the direction of the launcher\nMade the monkey reset to the launcher position once it touches the edges of the screen\nGave the monkey gravity\nAdded a tree obstacle\nMade the tree obstacle also reset the monkey position if touched\n\nYour HW:\n\nCode the banana and spawning\, Page 95-96 in the book
URL:https://www.ayclogic.com/event/5pm-scratch-level-2-bill-7/
END:VEVENT
BEGIN:VEVENT
DTSTART;TZID=America/Los_Angeles:20211108T170000
DTEND;TZID=America/Los_Angeles:20211108T180000
DTSTAMP:20260424T113534
CREATED:20211111T023714Z
LAST-MODIFIED:20211111T023714Z
UID:10381-1636390800-1636394400@www.ayclogic.com
SUMMARY:5PM - Advanced Digital Illustration
DESCRIPTION:MONDAY \nToday we continued the Sam Sparks project. We added shading to her face\, skin\, and hair today. \n  \nHOMEWORK \nAdd a background to the drawing. Decide between two choices for the background: 1) Jungle/Forest [reference] OR 2) Sky and Clouds [reference] \nAdd a new layer\, and move it to the bottom of the layer stack\, so that the “Background” layer will be behind everything else in the drawing.
URL:https://www.ayclogic.com/event/5pm-advanced-digital-illustration-18/
CATEGORIES:Digital Illustration,Intermediate Digital Illustration
END:VEVENT
END:VCALENDAR