BEGIN:VCALENDAR
VERSION:2.0
PRODID:-//American Young Coder - ECPv6.10.1.1//NONSGML v1.0//EN
CALSCALE:GREGORIAN
METHOD:PUBLISH
X-ORIGINAL-URL:https://www.ayclogic.com
X-WR-CALDESC:Events for American Young Coder
REFRESH-INTERVAL;VALUE=DURATION:PT1H
X-Robots-Tag:noindex
X-PUBLISHED-TTL:PT1H
BEGIN:VTIMEZONE
TZID:America/Los_Angeles
BEGIN:DAYLIGHT
TZOFFSETFROM:-0800
TZOFFSETTO:-0700
TZNAME:PDT
DTSTART:20210314T100000
END:DAYLIGHT
BEGIN:STANDARD
TZOFFSETFROM:-0700
TZOFFSETTO:-0800
TZNAME:PST
DTSTART:20211107T090000
END:STANDARD
END:VTIMEZONE
BEGIN:VEVENT
DTSTART;TZID=America/Los_Angeles:20211109T160000
DTEND;TZID=America/Los_Angeles:20211109T170000
DTSTAMP:20260424T125421
CREATED:20211116T010304Z
LAST-MODIFIED:20211116T010304Z
UID:10475-1636473600-1636477200@www.ayclogic.com
SUMMARY:4PM - Python Game Development
DESCRIPTION:Today We Did:\n\nStarted Shield Powerup\nAdded Rotation to the Shield\n\nHomework:\n\nWhen the user and the tank collide\, show the game over page\n\nIf you have any questions\, please send an email to latisha@ayclogic.com
URL:https://www.ayclogic.com/event/4pm-python-game-development-30/
END:VEVENT
BEGIN:VEVENT
DTSTART;TZID=America/Los_Angeles:20211109T170000
DTEND;TZID=America/Los_Angeles:20211109T180000
DTSTAMP:20260424T125421
CREATED:20211113T050944Z
LAST-MODIFIED:20211113T050944Z
UID:10429-1636477200-1636480800@www.ayclogic.com
SUMMARY:5 PM - Minecraft Modding With Java
DESCRIPTION:Homework:\n\nYou need to create a custom sword image for minecraft.\nDownload this sword image: \nUsing your favorite image editor\, change the looks of this sword to according to your heart desire.\nWe are going to use this new custom image for our saturn sword next week.
URL:https://www.ayclogic.com/event/5-pm-minecraft-modding-with-java/
CATEGORIES:Java,Minecraft Modding With Java
END:VEVENT
BEGIN:VEVENT
DTSTART;TZID=America/Los_Angeles:20211109T180000
DTEND;TZID=America/Los_Angeles:20211109T190000
DTSTAMP:20260424T125421
CREATED:20211110T030512Z
LAST-MODIFIED:20211110T030512Z
UID:10367-1636480800-1636484400@www.ayclogic.com
SUMMARY:6 PM - Intro To Python - David
DESCRIPTION:Homework\n\nCreate Nov9_IntroToPythonExerciseHomework.py file\nDo all exercises from https://www.ayclogic.com/intro-to-python-exercises/\nI have uploaded the python file we did in the class today to the google drive here.
URL:https://www.ayclogic.com/event/6-pm-intro-to-python-david-4/
CATEGORIES:Python Class,Python Level 1
END:VEVENT
BEGIN:VEVENT
DTSTART;TZID=America/Los_Angeles:20211109T180000
DTEND;TZID=America/Los_Angeles:20211109T190000
DTSTAMP:20260424T125421
CREATED:20211110T033841Z
LAST-MODIFIED:20211110T033841Z
UID:10366-1636480800-1636484400@www.ayclogic.com
SUMMARY:6 PM – Scratch Level 1 – Yitong
DESCRIPTION:Today we:\n\nStarted a new project: Ask Gobo\nLearned about pick random\n\nHomework:\n\nAdd at least 2 more replies (MAKE SURE TO CHANGE THE 4 IN “pick random 1 to 4” TO THE TOTAL NUMBER OF REPLIES)\nRecord yourself saying each of the options and have Gobo play those recordings\n\nEx: If Gobo says “no\,” then play the recording of yourself saying “No!”
URL:https://www.ayclogic.com/event/6-pm-scratch-level-1-yitong-2/
CATEGORIES:Scratch Class,Scratch Class Level 1
END:VEVENT
END:VCALENDAR