BEGIN:VCALENDAR
VERSION:2.0
PRODID:-//American Young Coder - ECPv6.10.1.1//NONSGML v1.0//EN
CALSCALE:GREGORIAN
METHOD:PUBLISH
X-WR-CALNAME:American Young Coder
X-ORIGINAL-URL:https://www.ayclogic.com
X-WR-CALDESC:Events for American Young Coder
REFRESH-INTERVAL;VALUE=DURATION:PT1H
X-Robots-Tag:noindex
X-PUBLISHED-TTL:PT1H
BEGIN:VTIMEZONE
TZID:America/Los_Angeles
BEGIN:DAYLIGHT
TZOFFSETFROM:-0800
TZOFFSETTO:-0700
TZNAME:PDT
DTSTART:20210314T100000
END:DAYLIGHT
BEGIN:STANDARD
TZOFFSETFROM:-0700
TZOFFSETTO:-0800
TZNAME:PST
DTSTART:20211107T090000
END:STANDARD
END:VTIMEZONE
BEGIN:VEVENT
DTSTART;TZID=America/Los_Angeles:20211116T160000
DTEND;TZID=America/Los_Angeles:20211116T170000
DTSTAMP:20260424T125253
CREATED:20211130T024251Z
LAST-MODIFIED:20211130T024251Z
UID:10558-1637078400-1637082000@www.ayclogic.com
SUMMARY:4PM - Advanced Python Game Development
DESCRIPTION:Today We Did:\n\nMade enemy shoot the user based on the player’s location\n\nHomework:\n\nWhen the enemy bullet hits the player\, show the game over page\nWhen the enemy bullet hits the shield\, kill the bullet but not the shield or player\n\nIf you have any questions\, please send an email to latisha@ayclogic.com
URL:https://www.ayclogic.com/event/4pm-advanced-python-game-development-13/
END:VEVENT
BEGIN:VEVENT
DTSTART;TZID=America/Los_Angeles:20211116T170000
DTEND;TZID=America/Los_Angeles:20211116T180000
DTSTAMP:20260424T125253
CREATED:20211117T030130Z
LAST-MODIFIED:20211117T030130Z
UID:10480-1637082000-1637085600@www.ayclogic.com
SUMMARY:5 PM - Minecraft Modding With Java
DESCRIPTION:Today We Do\n\nWe added a custom SwordItem saturn_sword using a custom image that we did.\n\nHomework\n\nCreate a new sword image. Create a copy of saturn_sword.png and name it jupiter_sword.png and change the image so it will look different than saturn_sword.png.\nSimilar when you added saturn_sword\, add a jupiter_sword to minecraft.\nNo class on Thanksgiving week (Nov 22 to Nov 28).
URL:https://www.ayclogic.com/event/5-pm-minecraft-modding-with-java-2/
CATEGORIES:Java,Minecraft Modding With Java
END:VEVENT
BEGIN:VEVENT
DTSTART;TZID=America/Los_Angeles:20211116T180000
DTEND;TZID=America/Los_Angeles:20211116T190000
DTSTAMP:20260424T125253
CREATED:20211117T031935Z
LAST-MODIFIED:20211117T032056Z
UID:10483-1637085600-1637089200@www.ayclogic.com
SUMMARY:6 PM – Scratch Level 1 – Yitong
DESCRIPTION:Today we:\n\nFinished Ask Gobo\nStarted a new project: Funny Faces\nLearned about “go to x and y”\nLearned how to use the Scratch drawing tools in costumes\n\nHomework:\n\nDraw 2 accessories (like hats\, bows\, hair\, etc.)\nMake the accessories go to the location where you want them to be every time you run the project (use the block “go to x:_ y:_”)
URL:https://www.ayclogic.com/event/6-pm-scratch-level-1-yitong-3/
CATEGORIES:Scratch Class,Scratch Class Level 1
END:VEVENT
BEGIN:VEVENT
DTSTART;TZID=America/Los_Angeles:20211116T180000
DTEND;TZID=America/Los_Angeles:20211116T190000
DTSTAMP:20260424T125253
CREATED:20211117T032315Z
LAST-MODIFIED:20211117T032315Z
UID:10482-1637085600-1637089200@www.ayclogic.com
SUMMARY:6 PM - Intro to Python - David
DESCRIPTION:Homework\n\nPage 146: 8-9 and 8-10\, Page 138: Returning a Simple Value section at the top\nI have uploaded the python file we did in the class today to the google drive here.
URL:https://www.ayclogic.com/event/6-pm-intro-to-python-david-6/
END:VEVENT
END:VCALENDAR