BEGIN:VCALENDAR
VERSION:2.0
PRODID:-//American Young Coder - ECPv6.10.1.1//NONSGML v1.0//EN
CALSCALE:GREGORIAN
METHOD:PUBLISH
X-ORIGINAL-URL:https://www.ayclogic.com
X-WR-CALDESC:Events for American Young Coder
REFRESH-INTERVAL;VALUE=DURATION:PT1H
X-Robots-Tag:noindex
X-PUBLISHED-TTL:PT1H
BEGIN:VTIMEZONE
TZID:America/Los_Angeles
BEGIN:DAYLIGHT
TZOFFSETFROM:-0800
TZOFFSETTO:-0700
TZNAME:PDT
DTSTART:20210314T100000
END:DAYLIGHT
BEGIN:STANDARD
TZOFFSETFROM:-0700
TZOFFSETTO:-0800
TZNAME:PST
DTSTART:20211107T090000
END:STANDARD
END:VTIMEZONE
BEGIN:VEVENT
DTSTART;TZID=America/Los_Angeles:20211117T170000
DTEND;TZID=America/Los_Angeles:20211117T180000
DTSTAMP:20260424T125328
CREATED:20211120T030101Z
LAST-MODIFIED:20211120T034432Z
UID:10506-1637168400-1637172000@www.ayclogic.com
SUMMARY:5pm Intro To Python - Bill
DESCRIPTION:Today We:\n\nWent over the homework problems\nReviewed What to study for on the quiz\nReviewed functions with and without return values\n\nYour HW:\n\nStudy for the quiz\nThings you can do for practice:\n\nStudy or retake the last quiz (both a and b versions)\nReview old files (Hangman\, Magic 8 Ball)\nLook at all past event posts and do all the homework again without looking at the answers\nRead the text book and do more of the Try it yourself problems\n\n\nNo class next week\, Enjoy your thanksgiving break
URL:https://www.ayclogic.com/event/5pm-intro-to-python-bill-8/
END:VEVENT
BEGIN:VEVENT
DTSTART;TZID=America/Los_Angeles:20211117T170000
DTEND;TZID=America/Los_Angeles:20211117T180000
DTSTAMP:20260424T125328
CREATED:20211130T104019Z
LAST-MODIFIED:20211130T105224Z
UID:10571-1637168400-1637172000@www.ayclogic.com
SUMMARY:5PM - Advanced Digital Illustration
DESCRIPTION:WENDESDAY \nToday we started a new project to draw Mikey from Tokyo Revengers. \nRecalling to the lesson about Body Proportions from a few weeks ago\, we started the project by tracing a stick figure over our reference photo. Then we filled out the stick figure by sketching out his body and clothing. \nHOMEWORK \nDuring the next couple in-class projects\, you’re going to be working on a at-home project that will reflect what we are doing in class. We are going to be drawing Lyn from Fire Emblem. \nFor homework\, use this reference picture to draw out only the stick figure step\, like we did in class.
URL:https://www.ayclogic.com/event/5pm-advanced-digital-illustration-21/
CATEGORIES:Digital Illustration,Intermediate Digital Illustration
END:VEVENT
BEGIN:VEVENT
DTSTART;TZID=America/Los_Angeles:20211117T180000
DTEND;TZID=America/Los_Angeles:20211117T190000
DTSTAMP:20260424T125328
CREATED:20211118T025848Z
LAST-MODIFIED:20211118T025910Z
UID:10491-1637172000-1637175600@www.ayclogic.com
SUMMARY:6 PM - Python Game Development
DESCRIPTION:Today \n\nWe went over the final project\nWe added the bad balloon which subtracts score\n\nHomework \n\nContinue on you final project which is due first week of December.
URL:https://www.ayclogic.com/event/6-pm-python-game-development-174/
CATEGORIES:Python Game Development
END:VEVENT
BEGIN:VEVENT
DTSTART;TZID=America/Los_Angeles:20211117T180000
DTEND;TZID=America/Los_Angeles:20211117T190000
DTSTAMP:20260424T125328
CREATED:20211118T030139Z
LAST-MODIFIED:20211118T030139Z
UID:10489-1637172000-1637175600@www.ayclogic.com
SUMMARY:6PM - Intro to Python - Latisha
DESCRIPTION:Today We Did:\n\nWent over “and” and “or”\nWent over how to get input from shell using input()\n\nHomework:\n\nDo pg.117 TRY-IT-YOURSELF 7-1 in a file called Nov17_InputFromShell_TryItYourself.py\nNOTE: Please submit your homework file inside the google drive folder Tuesday at 5pm\n\nIf you have any questions\, please send an email to latisha@ayclogic.com
URL:https://www.ayclogic.com/event/6pm-intro-to-python-latisha-2/
END:VEVENT
BEGIN:VEVENT
DTSTART;TZID=America/Los_Angeles:20211117T190000
DTEND;TZID=America/Los_Angeles:20211117T200000
DTSTAMP:20260424T125328
CREATED:20211118T040808Z
LAST-MODIFIED:20211201T034739Z
UID:10494-1637175600-1637179200@www.ayclogic.com
SUMMARY:7 PM - Python Game Development
DESCRIPTION:Today \n\nWe went over the homework to rotate the shield\nWe added the EnemyTank by inheriting from PlayerTank.\nWe customized the player tank by overriding load_images.\nWe added EnemyTurrret by inheriting from Turret.\n\nHomework: \n\nCustomize the EnemyTurret by overriding the get_image method to load the orange turret rather than the blue turret.\nAlso override the get_turret_angle method to always be zero\, so that the enemy turret doesn’t point in the direction of the mouse.
URL:https://www.ayclogic.com/event/7-pm-python-game-development-94/
CATEGORIES:Python Game Development
END:VEVENT
END:VCALENDAR