BEGIN:VCALENDAR
VERSION:2.0
PRODID:-//American Young Coder - ECPv6.10.1.1//NONSGML v1.0//EN
CALSCALE:GREGORIAN
METHOD:PUBLISH
X-WR-CALNAME:American Young Coder
X-ORIGINAL-URL:https://www.ayclogic.com
X-WR-CALDESC:Events for American Young Coder
REFRESH-INTERVAL;VALUE=DURATION:PT1H
X-Robots-Tag:noindex
X-PUBLISHED-TTL:PT1H
BEGIN:VTIMEZONE
TZID:America/Los_Angeles
BEGIN:DAYLIGHT
TZOFFSETFROM:-0800
TZOFFSETTO:-0700
TZNAME:PDT
DTSTART:20210314T100000
END:DAYLIGHT
BEGIN:STANDARD
TZOFFSETFROM:-0700
TZOFFSETTO:-0800
TZNAME:PST
DTSTART:20211107T090000
END:STANDARD
END:VTIMEZONE
BEGIN:VEVENT
DTSTART;TZID=America/Los_Angeles:20211121T190000
DTEND;TZID=America/Los_Angeles:20211121T200000
DTSTAMP:20260424T113255
CREATED:20211122T041727Z
LAST-MODIFIED:20211122T041727Z
UID:10548-1637521200-1637524800@www.ayclogic.com
SUMMARY:7 PM - Python Game Development
DESCRIPTION:Today: \n\n\n\nWe went over the homework dealing with direction for different sprites.\nWe adjusted the initial position of the bird so it always appears off the screen.\nI’ve uploaded the source code here.\n\n\n\nHomework: \n\nReview how the different sprites work. Focus on how each sprite is created and how it moves across the screen\, and how we figure out which images are drawn on the screen.\nFor clouds create the cloud so that when it’s moving to the right it is created off the screen.
URL:https://www.ayclogic.com/event/7-pm-python-game-development-95/
CATEGORIES:Python Game Development
END:VEVENT
END:VCALENDAR