BEGIN:VCALENDAR
VERSION:2.0
PRODID:-//American Young Coder - ECPv6.10.1.1//NONSGML v1.0//EN
CALSCALE:GREGORIAN
METHOD:PUBLISH
X-WR-CALNAME:American Young Coder
X-ORIGINAL-URL:https://www.ayclogic.com
X-WR-CALDESC:Events for American Young Coder
REFRESH-INTERVAL;VALUE=DURATION:PT1H
X-Robots-Tag:noindex
X-PUBLISHED-TTL:PT1H
BEGIN:VTIMEZONE
TZID:America/Los_Angeles
BEGIN:DAYLIGHT
TZOFFSETFROM:-0800
TZOFFSETTO:-0700
TZNAME:PDT
DTSTART:20210314T100000
END:DAYLIGHT
BEGIN:STANDARD
TZOFFSETFROM:-0700
TZOFFSETTO:-0800
TZNAME:PST
DTSTART:20211107T090000
END:STANDARD
END:VTIMEZONE
BEGIN:VEVENT
DTSTART;TZID=America/Los_Angeles:20211129T160000
DTEND;TZID=America/Los_Angeles:20211129T170000
DTSTAMP:20260424T090140
CREATED:20211130T024459Z
LAST-MODIFIED:20211130T024459Z
UID:10560-1638201600-1638205200@www.ayclogic.com
SUMMARY:4PM - Advanced Python Game Development
DESCRIPTION:Today We Did:\n\nCompleted Tank Game\n\nHomework:\n\nNone\n\nIf you have any questions\, please send an email to latisha@ayclogic.com
URL:https://www.ayclogic.com/event/4pm-advanced-python-game-development-14/
END:VEVENT
BEGIN:VEVENT
DTSTART;TZID=America/Los_Angeles:20211129T170000
DTEND;TZID=America/Los_Angeles:20211129T180000
DTSTAMP:20260424T090140
CREATED:20211130T020707Z
LAST-MODIFIED:20211130T020707Z
UID:10553-1638205200-1638208800@www.ayclogic.com
SUMMARY:5pm Scratch Level 2 - Bill
DESCRIPTION:Today We:\n\nContinued the jumpy monkey project\nAdded a dinosaur that flies around in the second level\nMade it so when you touch the dinosaur the monkey resets\nMade a level banner with costumes for level 1 and level 2\nMade the banner a little clear and show up on screen every time you enter a new level\nFinished the jumpy monkey project\nStarted the intro to lists project\nLearned about lists and the new codes that come with lists\n\nYour HW:\n\nMake a copy of your Spaceship 2.0 project\nDelete every sprite in that copy except for the stars sprite\nIf you don’t have the project make a remix of this one:\n\nhttps://scratch.mit.edu/projects/608866134/editor (Link)\n\n\nImport every Christmas image you downloaded last week for homework into this project
URL:https://www.ayclogic.com/event/5pm-scratch-level-2-bill-9/
END:VEVENT
END:VCALENDAR