BEGIN:VCALENDAR
VERSION:2.0
PRODID:-//American Young Coder - ECPv6.10.1.1//NONSGML v1.0//EN
CALSCALE:GREGORIAN
METHOD:PUBLISH
X-ORIGINAL-URL:https://www.ayclogic.com
X-WR-CALDESC:Events for American Young Coder
REFRESH-INTERVAL;VALUE=DURATION:PT1H
X-Robots-Tag:noindex
X-PUBLISHED-TTL:PT1H
BEGIN:VTIMEZONE
TZID:America/Los_Angeles
BEGIN:DAYLIGHT
TZOFFSETFROM:-0800
TZOFFSETTO:-0700
TZNAME:PDT
DTSTART:20210314T100000
END:DAYLIGHT
BEGIN:STANDARD
TZOFFSETFROM:-0700
TZOFFSETTO:-0800
TZNAME:PST
DTSTART:20211107T090000
END:STANDARD
END:VTIMEZONE
BEGIN:VEVENT
DTSTART;TZID=America/Los_Angeles:20211130T180000
DTEND;TZID=America/Los_Angeles:20211130T190000
DTSTAMP:20260424T101651
CREATED:20211201T030423Z
LAST-MODIFIED:20230301T034013Z
UID:10577-1638295200-1638298800@www.ayclogic.com
SUMMARY:6 PM - Intro To Python
DESCRIPTION:Today We Do\n\nWe started Python Digital drawing using Turtle.\n\nHomework\n\nCreate a new file “Nov30_Turtle4ShapesHomework.py”\nCreate a new function “draw_rectangle”. One parameter: pen_color. Inside the function\, draw a rectangle shape using turtle module. Call the function and pass any color to the function.\nCreate a new function “draw_square”. One parameter: pen_color. Inside the function\, draw a square shape using turtle module. Call the function and pass any color to the function.\nCreate a new function “draw_octagon”. One parameter: pen_color. Inside the function\, draw a octagon shape using turtle module. Call the function and pass any color to the function.\nCreate a new function “draw_triangle”. One parameter: pen_color. Inside the function\, draw a triangle shape using turtle module. Call the function and pass any color to the function.\nLook at this image for your coordinates guidance
URL:https://www.ayclogic.com/event/6-pm-intro-to-python-46/
CATEGORIES:Python Class,Python Level 1
END:VEVENT
BEGIN:VEVENT
DTSTART;TZID=America/Los_Angeles:20211130T180000
DTEND;TZID=America/Los_Angeles:20211130T190000
DTSTAMP:20260424T101651
CREATED:20211201T032023Z
LAST-MODIFIED:20211201T032023Z
UID:10578-1638295200-1638298800@www.ayclogic.com
SUMMARY:6 PM – Scratch Level 1 – Yitong
DESCRIPTION:Today we:\n\nLearned about coordinates\nLearned about the x-axis and y-axis\nLearned how to use the pen functions\n\nHomework:\n\nFind the coordinates of all the corners of the octagon and the triangle\nMake the cat draw the rectangle\, octagon\, and triangle in the project
URL:https://www.ayclogic.com/event/6-pm-scratch-level-1-yitong-5/
CATEGORIES:Scratch Class,Scratch Class Level 1
END:VEVENT
END:VCALENDAR